BEGIN:VCALENDAR
VERSION:2.0
PRODID:-//Δήμος Μονεμβασίας - Πολιτισμός - ECPv6.6.3//NONSGML v1.0//EN
CALSCALE:GREGORIAN
METHOD:PUBLISH
X-WR-CALNAME:Δήμος Μονεμβασίας - Πολιτισμός
X-ORIGINAL-URL:https://culture.monemvasia.gov.gr
X-WR-CALDESC:Δήμος Μονεμβασίας - Πολιτισμός - Εκδηλώσεις
REFRESH-INTERVAL;VALUE=DURATION:PT1H
X-Robots-Tag:noindex
X-PUBLISHED-TTL:PT1H
BEGIN:VTIMEZONE
TZID:Europe/Athens
BEGIN:DAYLIGHT
TZOFFSETFROM:+0200
TZOFFSETTO:+0300
TZNAME:EEST
DTSTART:20240331T010000
END:DAYLIGHT
BEGIN:STANDARD
TZOFFSETFROM:+0300
TZOFFSETTO:+0200
TZNAME:EET
DTSTART:20241027T010000
END:STANDARD
END:VTIMEZONE
BEGIN:VEVENT
DTSTART;TZID=Europe/Athens:20240803T210000
DTEND;TZID=Europe/Athens:20240803T210000
DTSTAMP:20260420T145304
CREATED:20240709T080336Z
LAST-MODIFIED:20240802T162142Z
UID:10000065-1722718800-1722718800@culture.monemvasia.gov.gr
SUMMARY:Βραδιά Ελληνικού Παραδοσιακού Χορού στους Μολάους
DESCRIPTION:“Βραδιά Ελληνικού Παραδοσιακού Χορού” με φιλοξενούμενα χορευτικά συγκρατήματα: \n1.Σύλλογος Κρητών “ΤΑ ΔΡΩΜΕΝΑ” με Κρητική Παραδοσιακή Ορχήστρα \n2.Πολιτιστικός όμιλος Λιτοχώρου Πιερίας
URL:https://culture.monemvasia.gov.gr/event/vradia-ellinikou-paradosiakou-chorou-stous-molaous/
LOCATION:Μολάοι\, Κτήμα Τσαφατίνου\, Κτήμα Τσαφατίνου\, Μολάοι
CATEGORIES:Χορός
ATTACH;FMTTYPE=image/jpeg:https://culture.monemvasia.gov.gr/wp-content/uploads/2024/06/event-default-jpg.webp
END:VEVENT
BEGIN:VEVENT
DTSTART;TZID=Europe/Athens:20240822T210000
DTEND;TZID=Europe/Athens:20240822T210000
DTSTAMP:20260420T145304
CREATED:20240715T171701Z
LAST-MODIFIED:20240715T171701Z
UID:10000196-1724360400-1724360400@culture.monemvasia.gov.gr
SUMMARY:Ετήσια Εκδήλωση χορευτικού ομίλου Χοροπατήματα
DESCRIPTION:Ετήσια Εκδήλωση χορευτικού ομίλου Χοροπατήματα στην Πλατεία Ηρώων Νεάπολης
URL:https://culture.monemvasia.gov.gr/event/etisia-ekdilosi-choreftikou-omilou-choropatimata/
LOCATION:Νεάπολη\, Νεάπολη\, 23053\, Ελλάδα
CATEGORIES:Χορός
ATTACH;FMTTYPE=image/jpeg:https://culture.monemvasia.gov.gr/wp-content/uploads/2024/06/event-default-jpg.webp
END:VEVENT
END:VCALENDAR