BEGIN:VCALENDAR
VERSION:2.0
PRODID:-//Δήμος Μονεμβασίας - Πολιτισμός - ECPv6.6.3//NONSGML v1.0//EN
CALSCALE:GREGORIAN
METHOD:PUBLISH
X-ORIGINAL-URL:https://culture.monemvasia.gov.gr
X-WR-CALDESC:Δήμος Μονεμβασίας - Πολιτισμός - Εκδηλώσεις
REFRESH-INTERVAL;VALUE=DURATION:PT1H
X-Robots-Tag:noindex
X-PUBLISHED-TTL:PT1H
BEGIN:VTIMEZONE
TZID:Europe/Athens
BEGIN:DAYLIGHT
TZOFFSETFROM:+0200
TZOFFSETTO:+0300
TZNAME:EEST
DTSTART:20240331T010000
END:DAYLIGHT
BEGIN:STANDARD
TZOFFSETFROM:+0300
TZOFFSETTO:+0200
TZNAME:EET
DTSTART:20241027T010000
END:STANDARD
END:VTIMEZONE
BEGIN:VEVENT
DTSTART;TZID=Europe/Athens:20240622T203000
DTEND;TZID=Europe/Athens:20240622T203000
DTSTAMP:20260420T193055
CREATED:20240618T084747Z
LAST-MODIFIED:20240624T140136Z
UID:10000019-1719088200-1719088200@culture.monemvasia.gov.gr
SUMMARY:Εορτασμός Αγίας Τριάδας στη Νεάπολη με παρουσίαση από τα τμήματα παραδοσιακών χορών
DESCRIPTION:Εορτασμός Αγίας Τριάδας με παρουσίαση από τα τμήματα παραδοσιακών χορών. Παράσταση με χορούς απ’ όλη την Ελλάδα με ιδιαίτερη μνεία στα Βάτικα (ζωντανή μουσική).
URL:https://culture.monemvasia.gov.gr/event/eortasmos-agias-triadas-me-parousiasi-apo-ta-tmimata-paradosiakon-choron/
LOCATION:Νεάπολη\, Νεάπολη\, 23053\, Ελλάδα
CATEGORIES:Έθιμα,Χορός
ATTACH;FMTTYPE=image/jpeg:https://culture.monemvasia.gov.gr/wp-content/uploads/2024/06/Politistikos-xoroi-agtriados-2024-jpg.webp
END:VEVENT
END:VCALENDAR