BEGIN:VCALENDAR
VERSION:2.0
PRODID:-//Δήμος Μονεμβασίας - Πολιτισμός - ECPv6.6.3//NONSGML v1.0//EN
CALSCALE:GREGORIAN
METHOD:PUBLISH
X-ORIGINAL-URL:https://culture.monemvasia.gov.gr
X-WR-CALDESC:Δήμος Μονεμβασίας - Πολιτισμός - Εκδηλώσεις
REFRESH-INTERVAL;VALUE=DURATION:PT1H
X-Robots-Tag:noindex
X-PUBLISHED-TTL:PT1H
BEGIN:VTIMEZONE
TZID:Europe/Athens
BEGIN:DAYLIGHT
TZOFFSETFROM:+0200
TZOFFSETTO:+0300
TZNAME:EEST
DTSTART:20240331T010000
END:DAYLIGHT
BEGIN:STANDARD
TZOFFSETFROM:+0300
TZOFFSETTO:+0200
TZNAME:EET
DTSTART:20241027T010000
END:STANDARD
END:VTIMEZONE
BEGIN:VEVENT
DTSTART;TZID=Europe/Athens:20240702T213000
DTEND;TZID=Europe/Athens:20240703T233000
DTSTAMP:20260420T175958
CREATED:20240703T084436Z
LAST-MODIFIED:20240703T084655Z
UID:10000027-1719955800-1720049400@culture.monemvasia.gov.gr
SUMMARY:Διεθνές Φεστιβάλ Παραδοσιακών Χορών στην Πλύτρα
DESCRIPTION:Διεθνές Φεστιβάλ Παραδοσιακών Χορών με συμμετοχή χορευτικών συγκροτημάτων από Χιλή\, Μεξικό\, Σερβία\, Κολομβία και Ουκρανία στην Πλύτρα. \nΈναρξη 9:30μ.μ.
URL:https://culture.monemvasia.gov.gr/event/diethnes-festival-paradosiakon-choron-stin-plytra/
LOCATION:Πλύτρα\, Πλύτρα\, Λακωνία\, 23052\, Ελλάδα
CATEGORIES:Χορός
ATTACH;FMTTYPE=image/jpeg:https://culture.monemvasia.gov.gr/wp-content/uploads/2024/07/festival-xoron-plitra.jpg
END:VEVENT
END:VCALENDAR