BEGIN:VCALENDAR
VERSION:2.0
PRODID:-//Δήμος Μονεμβασίας - Πολιτισμός - ECPv6.6.3//NONSGML v1.0//EN
CALSCALE:GREGORIAN
METHOD:PUBLISH
X-ORIGINAL-URL:https://culture.monemvasia.gov.gr
X-WR-CALDESC:Δήμος Μονεμβασίας - Πολιτισμός - Εκδηλώσεις
REFRESH-INTERVAL;VALUE=DURATION:PT1H
X-Robots-Tag:noindex
X-PUBLISHED-TTL:PT1H
BEGIN:VTIMEZONE
TZID:Europe/Athens
BEGIN:DAYLIGHT
TZOFFSETFROM:+0200
TZOFFSETTO:+0300
TZNAME:EEST
DTSTART:20250330T010000
END:DAYLIGHT
BEGIN:STANDARD
TZOFFSETFROM:+0300
TZOFFSETTO:+0200
TZNAME:EET
DTSTART:20251026T010000
END:STANDARD
END:VTIMEZONE
BEGIN:VEVENT
DTSTART;TZID=Europe/Athens:20250222T170000
DTEND;TZID=Europe/Athens:20250222T170000
DTSTAMP:20260420T073155
CREATED:20250207T091619Z
LAST-MODIFIED:20250208T075902Z
UID:10000250-1740243600-1740243600@culture.monemvasia.gov.gr
SUMMARY:Πάρτι Μασκέ στο Cafe Μπιλλίνη
DESCRIPTION:Πάρτι Μασκέ στο Cafe Μπιλλίνη από τους Συλλογους Γονέων & Κηδεμόνων 1ου & 2ου Νηπιαγωγείου Νεάπολης
URL:https://culture.monemvasia.gov.gr/event/parti-maske-sto-cafe-billini/
LOCATION:Cafe Μπιλλίνη\, Νεάπολη
CATEGORIES:Απόκριες,Χορός
ATTACH;FMTTYPE=image/jpeg:https://culture.monemvasia.gov.gr/wp-content/uploads/2025/02/FB_IMG_1739001430118.avif
END:VEVENT
END:VCALENDAR