BEGIN:VCALENDAR
VERSION:2.0
PRODID:-//Δήμος Μονεμβασίας - Πολιτισμός - ECPv6.6.3//NONSGML v1.0//EN
CALSCALE:GREGORIAN
METHOD:PUBLISH
X-ORIGINAL-URL:https://culture.monemvasia.gov.gr
X-WR-CALDESC:Δήμος Μονεμβασίας - Πολιτισμός - Εκδηλώσεις
REFRESH-INTERVAL;VALUE=DURATION:PT1H
X-Robots-Tag:noindex
X-PUBLISHED-TTL:PT1H
BEGIN:VTIMEZONE
TZID:Europe/Athens
BEGIN:DAYLIGHT
TZOFFSETFROM:+0200
TZOFFSETTO:+0300
TZNAME:EEST
DTSTART:20250330T010000
END:DAYLIGHT
BEGIN:STANDARD
TZOFFSETFROM:+0300
TZOFFSETTO:+0200
TZNAME:EET
DTSTART:20251026T010000
END:STANDARD
END:VTIMEZONE
BEGIN:VEVENT
DTSTART;TZID=Europe/Athens:20250228T200000
DTEND;TZID=Europe/Athens:20250228T200000
DTSTAMP:20260420T055936
CREATED:20250207T092935Z
LAST-MODIFIED:20250207T092935Z
UID:10000256-1740772800-1740772800@culture.monemvasia.gov.gr
SUMMARY:Αποκριάτικη Χοροεσπερίδα Γυμνασίου Νεάπολης
DESCRIPTION:Αποκριάτικη Χοροεσπερίδα Γυμνασίου Νεάπολης στο Εστιατόριο “Γευσίπλους”
URL:https://culture.monemvasia.gov.gr/event/apokriatiki-choroesperida-gymnasiou-neapolis/
LOCATION:Νεάπολη – Εστιατόριο “Γευσίπλους”
CATEGORIES:Απόκριες,Εκδήλωση,Χορός
ATTACH;FMTTYPE=image/jpeg:https://culture.monemvasia.gov.gr/wp-content/uploads/2025/02/IMG_7958.avif
END:VEVENT
BEGIN:VEVENT
DTSTART;TZID=Europe/Athens:20250228T220000
DTEND;TZID=Europe/Athens:20250228T220000
DTSTAMP:20260420T055936
CREATED:20250207T093313Z
LAST-MODIFIED:20250207T093313Z
UID:10000258-1740780000-1740780000@culture.monemvasia.gov.gr
SUMMARY:Αποκριάτικο Πάρτυ από το Καλλιτεχνικό Σωματείο "Τέχνη Χρω"
DESCRIPTION:Αποκριάτικο Πάρτυ από το Καλλιτεχνικό Σωματείο “Τέχνη Χρω” στο Ερείπιο
URL:https://culture.monemvasia.gov.gr/event/apokriatiko-party-apo-to-kallitechniko-somateio-techni-chro/
LOCATION:Ερείπιο\, Νεάπολη\, Ερείπιο\, Νεάπολη\, Λακωνία\, 23053\, Ελλάδα
CATEGORIES:Απόκριες,Εκδήλωση,Χορός
ATTACH;FMTTYPE=image/jpeg:https://culture.monemvasia.gov.gr/wp-content/uploads/2025/02/1000017647.avif
END:VEVENT
END:VCALENDAR