BEGIN:VCALENDAR
VERSION:2.0
PRODID:-//Δήμος Μονεμβασίας - Πολιτισμός - ECPv6.6.3//NONSGML v1.0//EN
CALSCALE:GREGORIAN
METHOD:PUBLISH
X-WR-CALNAME:Δήμος Μονεμβασίας - Πολιτισμός
X-ORIGINAL-URL:https://culture.monemvasia.gov.gr
X-WR-CALDESC:Δήμος Μονεμβασίας - Πολιτισμός - Εκδηλώσεις
REFRESH-INTERVAL;VALUE=DURATION:PT1H
X-Robots-Tag:noindex
X-PUBLISHED-TTL:PT1H
BEGIN:VTIMEZONE
TZID:Europe/Athens
BEGIN:DAYLIGHT
TZOFFSETFROM:+0200
TZOFFSETTO:+0300
TZNAME:EEST
DTSTART:20250330T010000
END:DAYLIGHT
BEGIN:STANDARD
TZOFFSETFROM:+0300
TZOFFSETTO:+0200
TZNAME:EET
DTSTART:20251026T010000
END:STANDARD
END:VTIMEZONE
BEGIN:VEVENT
DTSTART;TZID=Europe/Athens:20250606T210000
DTEND;TZID=Europe/Athens:20250606T210000
DTSTAMP:20260420T074256
CREATED:20250610T073755Z
LAST-MODIFIED:20250610T073755Z
UID:10000283-1749243600-1749243600@culture.monemvasia.gov.gr
SUMMARY:Εορτασμός πολιούχου Νεάπολης Αγίας Τριάδος με παρουσίαση παραδοσιακών χορών
DESCRIPTION:Εορτασμός πολιούχου Νεάπολης Αγίας Τριάδος με παρουσίαση παραδοσιακών χορών των τμημάτων του Πολιτιστικού Συλλόγου Βατίκων
URL:https://culture.monemvasia.gov.gr/event/eortasmos-poliouchou-neapolis-agias-triados-me-parousiasi-paradosiakon-choron/
LOCATION:Νεάπολη\, Νεάπολη\, 23053\, Ελλάδα
CATEGORIES:Εκδήλωση,Χορός
ATTACH;FMTTYPE=image/jpeg:https://culture.monemvasia.gov.gr/wp-content/uploads/2025/06/2oVatikiotikoFestival.avif
END:VEVENT
BEGIN:VEVENT
DTSTART;TZID=Europe/Athens:20250607T203000
DTEND;TZID=Europe/Athens:20250607T203000
DTSTAMP:20260420T074256
CREATED:20250610T073940Z
LAST-MODIFIED:20250610T073940Z
UID:10000284-1749328200-1749328200@culture.monemvasia.gov.gr
SUMMARY:2o Βατικιώτικο Φεστιβάλ Παραδοσιακών Χορών
DESCRIPTION:2o Βατικιώτικο Φεστιβάλ Παραδοσιακών Χορών\nΣυμμετέχουν:\n1. Πολιτιστικός Σύλλογος Βατίκων\n2. Χορευτικός Όμιλος Σκάλας Λακωνίας\n3. Λύκειο Ελληνίδων Καλαμάτας\n4. Λαογραφικός Μουσικοχορευτικός Όμιλος “Χόρευμα”\n5. ΜΕΣ Αβέρωφ “ο Θετταλός” \nΣυνοδεύουν μουσικά οι:\nΣταυρούλα Δαλιάνη\, τραγούδι\nΓιώργος Μαρινάκης\, βιολί\nΝίκος Δαλιάνης\, κλαρίνο\nΗλίας Καππάκος\, λαούτο\nΧρηστός Λυκουρεντζος\, κρουστά\nΔημήτρης Μπάκος\, γκάιντα – τσαμπούνα
URL:https://culture.monemvasia.gov.gr/event/2o-vatikiotiko-festival-paradosiakon-choron/
LOCATION:Νεάπολη\, Νεάπολη\, 23053\, Ελλάδα
CATEGORIES:Εκδήλωση,Χορός
ATTACH;FMTTYPE=image/jpeg:https://culture.monemvasia.gov.gr/wp-content/uploads/2025/06/2oVatikiotikoFestival.avif
END:VEVENT
BEGIN:VEVENT
DTSTART;TZID=Europe/Athens:20250627T203000
DTEND;TZID=Europe/Athens:20250627T203000
DTSTAMP:20260420T074256
CREATED:20250610T081058Z
LAST-MODIFIED:20250610T081058Z
UID:10000297-1751056200-1751056200@culture.monemvasia.gov.gr
SUMMARY:Παρουσίαση παραδοσιακών χορών στα Παπαδιάνικα
DESCRIPTION:Παρουσίαση παραδοσιακών χορών από το τμήμα ενηλίκων και τα παιδικά τμήματα του Χορευτικού Ομίλου
URL:https://culture.monemvasia.gov.gr/event/parousiasi-paradosiakon-choron-sta-papadianika/
LOCATION:Παπαδιάνικα\, Παπαδιάνικα
CATEGORIES:Εκδήλωση,Χορός
ATTACH;FMTTYPE=image/jpeg:https://culture.monemvasia.gov.gr/wp-content/uploads/2024/06/event-default-jpg.webp
END:VEVENT
BEGIN:VEVENT
DTSTART;TZID=Europe/Athens:20250629T210000
DTEND;TZID=Europe/Athens:20250629T210000
DTSTAMP:20260420T074256
CREATED:20250610T083438Z
LAST-MODIFIED:20250610T083438Z
UID:10000305-1751230800-1751230800@culture.monemvasia.gov.gr
SUMMARY:Εορτασμός Αγίων Αποστόλων με παράσταση Παραδοσιακών Χορών
DESCRIPTION:Εορτασμός Αγίων Αποστόλων με παράσταση Παραδοσιακών Χορών
URL:https://culture.monemvasia.gov.gr/event/eortasmos-agion-apostolon-me-parastasi-paradosiakon-choron/
LOCATION:Άγιοι Απόστολοι\, Λακωνίας\, 23053\, Ελλάδα
CATEGORIES:Εκδήλωση,Χορός
ATTACH;FMTTYPE=image/jpeg:https://culture.monemvasia.gov.gr/wp-content/uploads/2024/06/event-default-jpg.webp
END:VEVENT
BEGIN:VEVENT
DTSTART;TZID=Europe/Athens:20250702T211500
DTEND;TZID=Europe/Athens:20250702T211500
DTSTAMP:20260420T074256
CREATED:20250610T084714Z
LAST-MODIFIED:20250614T131521Z
UID:10000309-1751490900-1751490900@culture.monemvasia.gov.gr
SUMMARY:Ναυτική Εβδομάδα 2025 - Παρουσίαση παράστασης του τμήματος χοροθεάτρου του Πολιτιστικού Συλλόγου Βατίκων "Γαλάζια κλωστή"
DESCRIPTION:Παρουσίαση παράστασης του τμήματος χοροθεάτρου του Πολιτιστικού Συλλόγου Βατίκων “Γαλάζια κλωστή”
URL:https://culture.monemvasia.gov.gr/event/parastasi-chorotheatrou-politistikou-syllogou-vatikon-galazia-klosti/
LOCATION:Καρνάγιο Νεάπολη\, Καρνάγιο\, Νεάπολη\, Λακωνία\, 23053\, Ελλάδα
CATEGORIES:Εκδήλωση,Χορός
ATTACH;FMTTYPE=image/jpeg:https://culture.monemvasia.gov.gr/wp-content/uploads/2025/06/FB_IMG_1749906806979.avif
GEO:36.505915542548;23.063950318911
X-APPLE-STRUCTURED-LOCATION;VALUE=URI;X-ADDRESS=Καρνάγιο Νεάπολη Καρνάγιο Νεάπολη Λακωνία 23053 Ελλάδα;X-APPLE-RADIUS=500;X-TITLE=Καρνάγιο:geo:23.063950318911,36.505915542548
END:VEVENT
BEGIN:VEVENT
DTSTART;TZID=Europe/Athens:20250704T210000
DTEND;TZID=Europe/Athens:20250704T210000
DTSTAMP:20260420T074256
CREATED:20250610T090134Z
LAST-MODIFIED:20250703T113006Z
UID:10000312-1751662800-1751662800@culture.monemvasia.gov.gr
SUMMARY:Ναυτική Εβδομάδα 2025 - Χορευτική Βραδιά με Παραδοσιακούς Χορούς
DESCRIPTION:Χορευτική Βραδιά με Παραδοσιακούς Χορούς από τον Πολιτιστικό Σύλλογο Βατίκων
URL:https://culture.monemvasia.gov.gr/event/naftiki-evdomada-2025-choreftiki-vradia-me-paradosiakous-chorous/
LOCATION:Νεάπολη\, Νεάπολη\, 23053\, Ελλάδα
CATEGORIES:Εκδήλωση,Χορός
ATTACH;FMTTYPE=image/jpeg:https://culture.monemvasia.gov.gr/wp-content/uploads/2025/06/IMG-9be3dd9f6c0dba5c7ca604ad482d9aff-V.avif
END:VEVENT
BEGIN:VEVENT
DTSTART;TZID=Europe/Athens:20250704T210000
DTEND;TZID=Europe/Athens:20250704T210000
DTSTAMP:20260420T074256
CREATED:20250610T092516Z
LAST-MODIFIED:20250610T092516Z
UID:10000318-1751662800-1751662800@culture.monemvasia.gov.gr
SUMMARY:4ο Χορευτικό Αντάμωμα στην Πλύτρα
DESCRIPTION:4ο Χορευτικό Αντάμωμα. Παρουσίαση Παραδοσιακών Χορών από το τμήμα ενηλίκων του Χορευτικού Ομίλου Παπαδιανίκων και Πλύτρας η «ΤΕΡΨΙΧΟΡΗ» και χορευτικών από την Ελλάδα. Ακολουθεί νησιωτικό γλέντι..
URL:https://culture.monemvasia.gov.gr/event/4o-choreftiko-antamoma-stin-plytra/
LOCATION:Πλύτρα\, Πλύτρα\, Λακωνία\, 23052\, Ελλάδα
CATEGORIES:Εκδήλωση,Χορός
ATTACH;FMTTYPE=image/jpeg:https://culture.monemvasia.gov.gr/wp-content/uploads/2024/06/event-default-jpg.webp
END:VEVENT
BEGIN:VEVENT
DTSTART;TZID=Europe/Athens:20250707T200000
DTEND;TZID=Europe/Athens:20250707T200000
DTSTAMP:20260420T074256
CREATED:20250610T095434Z
LAST-MODIFIED:20250624T095034Z
UID:10000320-1751918400-1751918400@culture.monemvasia.gov.gr
SUMMARY:Παράσταση σύγχρονου χορού στη Μονεμβασιά
DESCRIPTION:Ετήσια παράσταση σύγχρονου χορού με τη συμμετοχή όλων των παιδιών από τα τμήματα του σύγχρονου χορού από τεσσάρων ετών έως το τμήμα των εφήβων. Δασκάλες: Δανάη Γιαννίση και Σοφία Σταματάκου.
URL:https://culture.monemvasia.gov.gr/event/parastasi-sygchronou-chorou-sti-monemvasia-2025/
LOCATION:Γυμνάσιο Μονεμβασιάς\, Γυμνάσιο Μονεμβασιάς
CATEGORIES:Εκδήλωση,Χορός
ATTACH;FMTTYPE=image/jpeg:https://culture.monemvasia.gov.gr/wp-content/uploads/2024/06/event-default-jpg.webp
END:VEVENT
BEGIN:VEVENT
DTSTART;TZID=Europe/Athens:20250708T080000
DTEND;TZID=Europe/Athens:20250708T170000
DTSTAMP:20260420T074256
CREATED:20250610T095612Z
LAST-MODIFIED:20250708T063121Z
UID:10000321-1751961600-1751994000@culture.monemvasia.gov.gr
SUMMARY:2ο Διεθνές Φεστιβάλ Παραδοσιακών Χορών στην Πλύτρα
DESCRIPTION:2ο Διεθνές Φεστιβάλ Παραδοσιακών Χορών με την συμμετοχή πέντε (5) συγκροτημάτων στα οποία συμμετέχουν 119 άτομα από διάφορες χώρες (Χιλή\, Μεξικό\, Μολδαβία \, Σερβία και νησιά ΚΟΟΚ)\, μέλη του Ινστιτούτου Παραδοσιακών Τεχνών (IOV) της UNESCO\, διεθνούς οργάνωσης που ασχολείται με την προώθηση και διατήρηση των παραδοσιακών πολιτιστικών εκφράσεων
URL:https://culture.monemvasia.gov.gr/event/2o-diethnes-festival-paradosiakon-choron-stin-plytra/
LOCATION:Πλύτρα\, Πλύτρα\, Λακωνία\, 23052\, Ελλάδα
CATEGORIES:Εκδήλωση,Χορός
ATTACH;FMTTYPE=image/jpeg:https://culture.monemvasia.gov.gr/wp-content/uploads/2025/06/diethnes-festival-plitra-2025.avif
END:VEVENT
BEGIN:VEVENT
DTSTART;TZID=Europe/Athens:20250713T201500
DTEND;TZID=Europe/Athens:20250713T201500
DTSTAMP:20260420T074256
CREATED:20250610T120054Z
LAST-MODIFIED:20250710T075725Z
UID:10000326-1752437700-1752437700@culture.monemvasia.gov.gr
SUMMARY:Παράσταση σύγχρονου χορού και κλασικού μπαλέτου στη Νεάπολη
DESCRIPTION:Παράσταση σύγχρονου χορού και κλασικού μπαλέτου στη Νεάπολη
URL:https://culture.monemvasia.gov.gr/event/parastasi-sygchronou-chorou-kai-klasikou-baletou-sti-neapoli/
LOCATION:Νεάπολη\, Νεάπολη\, 23053\, Ελλάδα
CATEGORIES:Εκδήλωση,Χορός
ATTACH;FMTTYPE=image/jpeg:https://culture.monemvasia.gov.gr/wp-content/uploads/2025/06/sinnefo-sigxrono-baleto-2025.avif
END:VEVENT
BEGIN:VEVENT
DTSTART;TZID=Europe/Athens:20250722T203000
DTEND;TZID=Europe/Athens:20250722T203000
DTSTAMP:20260420T074256
CREATED:20250610T121409Z
LAST-MODIFIED:20250708T072441Z
UID:10000332-1753216200-1753216200@culture.monemvasia.gov.gr
SUMMARY:Παραδοσιακοί Χοροί για τον Εορτασμό Απελευθέρωσης Μονεμβασίας
DESCRIPTION:Καθιερωμένη πλέον εκδήλωση του συλλόγου μας είναι ο εορτασμός της απελευθέρωσης της πόλης μας με παρουσίαση παραδοσιακών χορών από το τμήμα παραστάσεων του συλλόγου και από καλεσμένα συγκροτήματα από διάφορα μέρη της Ελλάδας . Φέτος καλεσμένοι μας θα είναι σύλλογοι από την Σπάρτη \, την Κεφαλλονιά και την Χαλκίδα .
URL:https://culture.monemvasia.gov.gr/event/paradosiakoi-choroi-gia-ton-eortasmo-apeleftherosis-monemvasias/
LOCATION:Μονεμβασιά
CATEGORIES:Εκδήλωση,Χορός
ATTACH;FMTTYPE=image/jpeg:https://culture.monemvasia.gov.gr/wp-content/uploads/2024/06/event-default-jpg.webp
END:VEVENT
BEGIN:VEVENT
DTSTART;TZID=Europe/Athens:20250728T210000
DTEND;TZID=Europe/Athens:20250728T210000
DTSTAMP:20260420T074256
CREATED:20250708T073225Z
LAST-MODIFIED:20250708T073225Z
UID:10000490-1753736400-1753736400@culture.monemvasia.gov.gr
SUMMARY:4ο αντάμωμα παραδοσιακών χορών & 5ος διαγωνισμός μαγειρικής στην Αγγελώνα
DESCRIPTION:4ο αντάμωμα παραδοσιακών χορών & 5ος διαγωνισμός μαγειρικής στην Αγγελώνα
URL:https://culture.monemvasia.gov.gr/event/4o-antamoma-paradosiakon-choron-5os-diagonismos-mageirikis-stin-angelona/
LOCATION:Αγγελώνα\, Αγγελώνα\, Λακωνία\, 23052\, Ελλάδα
CATEGORIES:Διαγωνισμός,Εκδήλωση,Χορός
ATTACH;FMTTYPE=image/jpeg:https://culture.monemvasia.gov.gr/wp-content/uploads/2024/06/event-default-jpg.webp
END:VEVENT
BEGIN:VEVENT
DTSTART;TZID=Europe/Athens:20250809T213000
DTEND;TZID=Europe/Athens:20250809T213000
DTSTAMP:20260420T074256
CREATED:20250618T075108Z
LAST-MODIFIED:20250618T075108Z
UID:10000409-1754775000-1754775000@culture.monemvasia.gov.gr
SUMMARY:Βραδιά ελληνικού Παραδοσιακού Χορού απο όλες τις χορευτικές ομάδες του Χορευτικού Ομίλου Μολάων
DESCRIPTION:Βραδιά ελληνικού Παραδοσιακού Χορού απο όλες τις χορευτικές ομάδες του Χορευτικού Ομίλου Μολάων
URL:https://culture.monemvasia.gov.gr/event/vradia-ellinikou-paradosiakou-chorou-apo-oles-tis-choreftikes-omades-tou-choreftikou-omilou-molaon/
LOCATION:Μολάοι\, Μολάοι\, Λακωνίας\, Ελλάδα
CATEGORIES:Εκδήλωση,Χορός
ATTACH;FMTTYPE=image/jpeg:https://culture.monemvasia.gov.gr/wp-content/uploads/2024/06/event-default-jpg.webp
END:VEVENT
END:VCALENDAR