BEGIN:VCALENDAR
VERSION:2.0
PRODID:-//Δήμος Μονεμβασίας - Πολιτισμός - ECPv6.6.3//NONSGML v1.0//EN
CALSCALE:GREGORIAN
METHOD:PUBLISH
X-ORIGINAL-URL:https://culture.monemvasia.gov.gr
X-WR-CALDESC:Δήμος Μονεμβασίας - Πολιτισμός - Εκδηλώσεις
REFRESH-INTERVAL;VALUE=DURATION:PT1H
X-Robots-Tag:noindex
X-PUBLISHED-TTL:PT1H
BEGIN:VTIMEZONE
TZID:Europe/Athens
BEGIN:DAYLIGHT
TZOFFSETFROM:+0200
TZOFFSETTO:+0300
TZNAME:EEST
DTSTART:20250330T010000
END:DAYLIGHT
BEGIN:STANDARD
TZOFFSETFROM:+0300
TZOFFSETTO:+0200
TZNAME:EET
DTSTART:20251026T010000
END:STANDARD
END:VTIMEZONE
BEGIN:VEVENT
DTSTART;TZID=Europe/Athens:20250102T133000
DTEND;TZID=Europe/Athens:20250102T133000
DTSTAMP:20260419T223854
CREATED:20241227T141605Z
LAST-MODIFIED:20250102T092042Z
UID:10000243-1735824600-1735824600@culture.monemvasia.gov.gr
SUMMARY:"Και τώρα....ΜΟΝΟΙ ΣΤΟ ΣΠΙΤΙ" παιδική παράσταση στην Νεάπολη
DESCRIPTION:“Και τώρα….ΜΟΝΟΙ ΣΤΟ ΣΠΙΤΙ“ \nΗ Christmas Celebration σε συνεργασία με την παιδική σκηνή του Φώτη Σπύρου\, παρουσιάζει για πρώτη φορά μια χριστουγεννιάτικη ιστορία που έχει αγαπηθεί από μικρούς και μεγάλους!!! Ένα έργο\, εμπνευσμένο από την απόλυτα ταυτισμένη με τις Χριστουγεννιάτικες γιορτές ταινία\, σε θεατρική μεταφορά της Τάνια Χαροκόπου. Ένα παιδί\, που μένει κατά λάθος μόνο του την Παραμονή των Χριστουγέννων\, έρχεται αντιμέτωπο με δύο “ιδιαίτερους” ληστές. Με θάρρος και γενναιότητα προσπαθεί να υπερασπιστεί τον εαυτό του και να τους παγιδέψει\, δημιουργώντας ωστόσο απολαυστικές και διασκεδαστικές καταστάσεις. Ένα έργο\, όπου κυριαρχεί το κωμικό στοιχείο\, το έξυπνο χιούμορ\, οι διασκεδαστικοί διάλογοι\, η ευρηματικότητα\, η παιδική επινόηση και φυσικά η συμμετοχή των παιδιών μέσα σε μια χριστουγεννιάτικη ατμόσφαιρα… Μια εξαιρετική παράσταση\, από μία χαρισματική ομάδα ηθοποιών\, που περνάει μηνύματα\, παρουσιάζει πρωτότυπες ιδέες και προσφέρει άφθονο γέλιο σε όλη την οικογένεια! Η δύναμη του μυαλού μας\, η αγάπη και η συνεργασία μπορούν να νικήσουν ακόμα και τις πιο δύσκολες καταστάσεις!!!
URL:https://culture.monemvasia.gov.gr/event/kai-tora-monoi-sto-spiti-paidiki-parastasi-stin-neapoli/
LOCATION:Νεάπολη – Παλιό Δημοτικό Σχολείο\, Παλιό Δημοτικό Σχολείο\, Νεάπολη\, 23053
CATEGORIES:Εκδήλωση,Θέατρο,Χριστούγεννα
ATTACH;FMTTYPE=image/jpeg:https://culture.monemvasia.gov.gr/wp-content/uploads/2024/12/monoi-sto-spiti.webp
END:VEVENT
BEGIN:VEVENT
DTSTART;TZID=Europe/Athens:20250102T180000
DTEND;TZID=Europe/Athens:20250102T180000
DTSTAMP:20260419T223854
CREATED:20241227T141712Z
LAST-MODIFIED:20250102T092118Z
UID:10000244-1735840800-1735840800@culture.monemvasia.gov.gr
SUMMARY:"Και τώρα....ΜΟΝΟΙ ΣΤΟ ΣΠΙΤΙ" παιδική παράσταση στη Μονεμβασιά
DESCRIPTION:“Και τώρα….ΜΟΝΟΙ ΣΤΟ ΣΠΙΤΙ“ \nΗ Christmas Celebration σε συνεργασία με την παιδική σκηνή του Φώτη Σπύρου\, παρουσιάζει για πρώτη φορά μια χριστουγεννιάτικη ιστορία που έχει αγαπηθεί από μικρούς και μεγάλους!!! Ένα έργο\, εμπνευσμένο από την απόλυτα ταυτισμένη με τις Χριστουγεννιάτικες γιορτές ταινία\, σε θεατρική μεταφορά της Τάνια Χαροκόπου. Ένα παιδί\, που μένει κατά λάθος μόνο του την Παραμονή των Χριστουγέννων\, έρχεται αντιμέτωπο με δύο “ιδιαίτερους” ληστές. Με θάρρος και γενναιότητα προσπαθεί να υπερασπιστεί τον εαυτό του και να τους παγιδέψει\, δημιουργώντας ωστόσο απολαυστικές και διασκεδαστικές καταστάσεις. Ένα έργο\, όπου κυριαρχεί το κωμικό στοιχείο\, το έξυπνο χιούμορ\, οι διασκεδαστικοί διάλογοι\, η ευρηματικότητα\, η παιδική επινόηση και φυσικά η συμμετοχή των παιδιών μέσα σε μια χριστουγεννιάτικη ατμόσφαιρα… Μια εξαιρετική παράσταση\, από μία χαρισματική ομάδα ηθοποιών\, που περνάει μηνύματα\, παρουσιάζει πρωτότυπες ιδέες και προσφέρει άφθονο γέλιο σε όλη την οικογένεια! Η δύναμη του μυαλού μας\, η αγάπη και η συνεργασία μπορούν να νικήσουν ακόμα και τις πιο δύσκολες καταστάσεις!!!
URL:https://culture.monemvasia.gov.gr/event/kai-tora-monoi-sto-spiti-paidiki-parastasi-sti-monemvasia/
LOCATION:ΜΟΝΕΜΒΑΣΙΑ – Αίθουσα εκδηλώσεων  Γυμνασίου Μονεμβασίας\, ΜΟΝΕΜΒΑΣΙΑ - Αίθουσα εκδηλώσεων Γυμνασίου Μονεμβασίας
CATEGORIES:Εκδήλωση,Θέατρο,Χριστούγεννα
ATTACH;FMTTYPE=image/jpeg:https://culture.monemvasia.gov.gr/wp-content/uploads/2024/12/monoi-sto-spiti.webp
END:VEVENT
BEGIN:VEVENT
DTSTART;TZID=Europe/Athens:20250103T113000
DTEND;TZID=Europe/Athens:20250103T113000
DTSTAMP:20260419T223854
CREATED:20241227T134410Z
LAST-MODIFIED:20250102T092204Z
UID:10000228-1735903800-1735903800@culture.monemvasia.gov.gr
SUMMARY:"Και τώρα....ΜΟΝΟΙ ΣΤΟ ΣΠΙΤΙ" παιδική παράσταση στους Μολάους
DESCRIPTION:“Και τώρα….ΜΟΝΟΙ ΣΤΟ ΣΠΙΤΙ“ \nΗ Christmas Celebration σε συνεργασία με την παιδική σκηνή του Φώτη Σπύρου\, παρουσιάζει για πρώτη φορά μια χριστουγεννιάτικη ιστορία που έχει αγαπηθεί από μικρούς και μεγάλους!!! Ένα έργο\, εμπνευσμένο από την απόλυτα ταυτισμένη με τις Χριστουγεννιάτικες γιορτές ταινία\, σε θεατρική μεταφορά της Τάνια Χαροκόπου. Ένα παιδί\, που μένει κατά λάθος μόνο του την Παραμονή των Χριστουγέννων\, έρχεται αντιμέτωπο με δύο “ιδιαίτερους” ληστές. Με θάρρος και γενναιότητα προσπαθεί να υπερασπιστεί τον εαυτό του και να τους παγιδέψει\, δημιουργώντας ωστόσο απολαυστικές και διασκεδαστικές καταστάσεις. Ένα έργο\, όπου κυριαρχεί το κωμικό στοιχείο\, το έξυπνο χιούμορ\, οι διασκεδαστικοί διάλογοι\, η ευρηματικότητα\, η παιδική επινόηση και φυσικά η συμμετοχή των παιδιών μέσα σε μια χριστουγεννιάτικη ατμόσφαιρα… Μια εξαιρετική παράσταση\, από μία χαρισματική ομάδα ηθοποιών\, που περνάει μηνύματα\, παρουσιάζει πρωτότυπες ιδέες και προσφέρει άφθονο γέλιο σε όλη την οικογένεια! Η δύναμη του μυαλού μας\, η αγάπη και η συνεργασία μπορούν να νικήσουν ακόμα και τις πιο δύσκολες καταστάσεις!!!
URL:https://culture.monemvasia.gov.gr/event/kai-tora-monoi-sto-spiti-paidiki-parastasi-stous-molaous/
LOCATION:ΜΟΛΑΟΙ – Αίθουσα θεάτρου Γυμνασίου Μολάων  Χρήστου Καρυτσιώτη\, ΜΟΛΑΟΙ - Αίθουσα θεάτρου Γυμνασίου Μολάων Χρήστου Καρυτσιώτη
CATEGORIES:Εκδήλωση,Θέατρο,Χριστούγεννα
ATTACH;FMTTYPE=image/jpeg:https://culture.monemvasia.gov.gr/wp-content/uploads/2024/12/monoi-sto-spiti.webp
END:VEVENT
BEGIN:VEVENT
DTSTART;TZID=Europe/Athens:20250103T180000
DTEND;TZID=Europe/Athens:20250103T180000
DTSTAMP:20260419T223854
CREATED:20241227T134514Z
LAST-MODIFIED:20250102T092302Z
UID:10000229-1735927200-1735927200@culture.monemvasia.gov.gr
SUMMARY:"Και τώρα....ΜΟΝΟΙ ΣΤΟ ΣΠΙΤΙ" παιδική παράσταση στα Παπαδιάνικα
DESCRIPTION:“Και τώρα….ΜΟΝΟΙ ΣΤΟ ΣΠΙΤΙ“ \nΗ Christmas Celebration σε συνεργασία με την παιδική σκηνή του Φώτη Σπύρου\, παρουσιάζει για πρώτη φορά μια χριστουγεννιάτικη ιστορία που έχει αγαπηθεί από μικρούς και μεγάλους!!! Ένα έργο\, εμπνευσμένο από την απόλυτα ταυτισμένη με τις Χριστουγεννιάτικες γιορτές ταινία\, σε θεατρική μεταφορά της Τάνια Χαροκόπου. Ένα παιδί\, που μένει κατά λάθος μόνο του την Παραμονή των Χριστουγέννων\, έρχεται αντιμέτωπο με δύο “ιδιαίτερους” ληστές. Με θάρρος και γενναιότητα προσπαθεί να υπερασπιστεί τον εαυτό του και να τους παγιδέψει\, δημιουργώντας ωστόσο απολαυστικές και διασκεδαστικές καταστάσεις. Ένα έργο\, όπου κυριαρχεί το κωμικό στοιχείο\, το έξυπνο χιούμορ\, οι διασκεδαστικοί διάλογοι\, η ευρηματικότητα\, η παιδική επινόηση και φυσικά η συμμετοχή των παιδιών μέσα σε μια χριστουγεννιάτικη ατμόσφαιρα… Μια εξαιρετική παράσταση\, από μία χαρισματική ομάδα ηθοποιών\, που περνάει μηνύματα\, παρουσιάζει πρωτότυπες ιδέες και προσφέρει άφθονο γέλιο σε όλη την οικογένεια! Η δύναμη του μυαλού μας\, η αγάπη και η συνεργασία μπορούν να νικήσουν ακόμα και τις πιο δύσκολες καταστάσεις!!!
URL:https://culture.monemvasia.gov.gr/event/kai-tora-monoi-sto-spiti-paidiki-parastasi-sta-papadianika/
LOCATION:Παπαδιάνικα\, Παπαδιάνικα
CATEGORIES:Εκδήλωση,Θέατρο,Χριστούγεννα
ATTACH;FMTTYPE=image/jpeg:https://culture.monemvasia.gov.gr/wp-content/uploads/2024/12/monoi-sto-spiti.webp
END:VEVENT
END:VCALENDAR