BEGIN:VCALENDAR
VERSION:2.0
PRODID:-//Δήμος Μονεμβασίας - Πολιτισμός - ECPv6.6.3//NONSGML v1.0//EN
CALSCALE:GREGORIAN
METHOD:PUBLISH
X-ORIGINAL-URL:https://culture.monemvasia.gov.gr
X-WR-CALDESC:Δήμος Μονεμβασίας - Πολιτισμός - Εκδηλώσεις
REFRESH-INTERVAL;VALUE=DURATION:PT1H
X-Robots-Tag:noindex
X-PUBLISHED-TTL:PT1H
BEGIN:VTIMEZONE
TZID:Europe/Athens
BEGIN:DAYLIGHT
TZOFFSETFROM:+0200
TZOFFSETTO:+0300
TZNAME:EEST
DTSTART:20240331T010000
END:DAYLIGHT
BEGIN:STANDARD
TZOFFSETFROM:+0300
TZOFFSETTO:+0200
TZNAME:EET
DTSTART:20241027T010000
END:STANDARD
END:VTIMEZONE
BEGIN:VEVENT
DTSTART;VALUE=DATE:20241228
DTEND;VALUE=DATE:20241230
DTSTAMP:20260420T014424
CREATED:20241227T133508Z
LAST-MODIFIED:20241227T155609Z
UID:10000224-1735344000-1735516799@culture.monemvasia.gov.gr
SUMMARY:XMAS Bazaar από την Γ΄Λυκείου Νεάπολης στην παραλία Νεάπολης
DESCRIPTION:XMAS Bazaar από την Γ΄Λυκείου Νεάπολης στην παραλία Νεάπολης\nΈναρξη 6μμ
URL:https://culture.monemvasia.gov.gr/event/xmas-bazaar-apo-tin-g%ce%84lykeiou-neapolis-stin-paralia-neapolis/
LOCATION:Νεάπολη\, Νεάπολη\, 23053\, Ελλάδα
CATEGORIES:Εκδήλωση,Χριστούγεννα
ATTACH;FMTTYPE=image/jpeg:https://culture.monemvasia.gov.gr/wp-content/uploads/2024/12/IMG-61ed26030ad835289b5f0e16b0ff093e-V.webp
END:VEVENT
END:VCALENDAR