BEGIN:VCALENDAR
VERSION:2.0
PRODID:-//Δήμος Μονεμβασίας - Πολιτισμός - ECPv6.6.3//NONSGML v1.0//EN
CALSCALE:GREGORIAN
METHOD:PUBLISH
X-WR-CALNAME:Δήμος Μονεμβασίας - Πολιτισμός
X-ORIGINAL-URL:https://culture.monemvasia.gov.gr
X-WR-CALDESC:Δήμος Μονεμβασίας - Πολιτισμός - Εκδηλώσεις
REFRESH-INTERVAL;VALUE=DURATION:PT1H
X-Robots-Tag:noindex
X-PUBLISHED-TTL:PT1H
BEGIN:VTIMEZONE
TZID:Europe/Athens
BEGIN:DAYLIGHT
TZOFFSETFROM:+0200
TZOFFSETTO:+0300
TZNAME:EEST
DTSTART:20240331T010000
END:DAYLIGHT
BEGIN:STANDARD
TZOFFSETFROM:+0300
TZOFFSETTO:+0200
TZNAME:EET
DTSTART:20241027T010000
END:STANDARD
END:VTIMEZONE
BEGIN:VEVENT
DTSTART;TZID=Europe/Athens:20241230T113000
DTEND;TZID=Europe/Athens:20241230T133000
DTSTAMP:20260420T000837
CREATED:20241227T135647Z
LAST-MODIFIED:20241227T135647Z
UID:10000233-1735558200-1735565400@culture.monemvasia.gov.gr
SUMMARY:Εργαστήρια Ξωτικών στη Νεάπολη
DESCRIPTION:ΕΡΓΑΣΤΗΡΙΑ ΞΩΤΙΚΩΝ\n1) Εργαστήριο Ζαχαροπλαστικής\nΟι μικροί μας επισκέπτες σε ρόζο ζαχαροπλάστη φτιάχνουν φρέσκα μπισκότα σε διάφορα χριστουγεννιάτικα σχήματα\, με αγνά υλικά. Αφού τα φουρνίσουν μπορούν να τα πάρουν μαζί τους σε ειδική αναμνηστική συσκευασία. \n2) Εργαστήριο Χριστουγεννιάτικων Κεριών\nΤα παιδιά δημιουργούν τα δικά τους αρωματικά κεριά\, με φυσικό υλικό\, σε διάφορα χριστουγεννιάτικα σχέδια\, με τα οποία πρόκειται να διακοσμήσουν το σπίτι τους. \n3) Εργαστήριο χειροτεχνίας «Φτιάξε τον δικό σου τάρανδο»\nΟι μικροί μας επισκέπτες φτιάχνουν εντυπωσιακές χειροτεχνίες\, όλων των μεγεθών\, με θέμα τον τάρανδο. \n4) Εργαστήριο Ζωγραφικής\nΈνας πελώριος τοίχος έκφρασης και χρωμάτων πρόκειται να στηθεί\, μήκους 10 μέτρων\, όπου παιδιά κάθε ηλικίας θα έχουν την ευκαιρία να ζωγραφίσουν\, με θέμα τα Χριστούγεννα\, χωρίς περιορισμούς. \n5)     Εργαστήριο φωτογραφίας\nΤα παιδιά\, αφού φωτογραφηθούν στο χριστουγεννιάτικο photobooth\, θα φτιάχνουν αναμνηστική χειροτεχνία με την φωτογραφία τους. 
URL:https://culture.monemvasia.gov.gr/event/ergastiria-xotikon-sti-neapoli/
LOCATION:ΝΕΑΠΟΛΗ-ΠΕΖΟΔΡΟΜΟΣ ΑΙΒΑΛΙ\, ΝΕΑΠΟΛΗ-ΠΕΖΟΔΡΟΜΟΣ ΑΙΒΑΛΙ
CATEGORIES:Εκδήλωση,Χριστούγεννα
ATTACH;FMTTYPE=image/jpeg:https://culture.monemvasia.gov.gr/wp-content/uploads/2024/06/event-default-jpg.webp
END:VEVENT
BEGIN:VEVENT
DTSTART;TZID=Europe/Athens:20241230T113000
DTEND;TZID=Europe/Athens:20241230T133000
DTSTAMP:20260420T000837
CREATED:20241227T135824Z
LAST-MODIFIED:20241227T135824Z
UID:10000234-1735558200-1735565400@culture.monemvasia.gov.gr
SUMMARY:Εργαστήρια Ξωτικών στους Μολαους
DESCRIPTION:ΕΡΓΑΣΤΗΡΙΑ ΞΩΤΙΚΩΝ\n1) Εργαστήριο Ζαχαροπλαστικής\nΟι μικροί μας επισκέπτες σε ρόζο ζαχαροπλάστη φτιάχνουν φρέσκα μπισκότα σε διάφορα χριστουγεννιάτικα σχήματα\, με αγνά υλικά. Αφού τα φουρνίσουν μπορούν να τα πάρουν μαζί τους σε ειδική αναμνηστική συσκευασία. \n2) Εργαστήριο Χριστουγεννιάτικων Κεριών\nΤα παιδιά δημιουργούν τα δικά τους αρωματικά κεριά\, με φυσικό υλικό\, σε διάφορα χριστουγεννιάτικα σχέδια\, με τα οποία πρόκειται να διακοσμήσουν το σπίτι τους. \n3) Εργαστήριο χειροτεχνίας «Φτιάξε τον δικό σου τάρανδο»\nΟι μικροί μας επισκέπτες φτιάχνουν εντυπωσιακές χειροτεχνίες\, όλων των μεγεθών\, με θέμα τον τάρανδο. \n4) Εργαστήριο Ζωγραφικής\nΈνας πελώριος τοίχος έκφρασης και χρωμάτων πρόκειται να στηθεί\, μήκους 10 μέτρων\, όπου παιδιά κάθε ηλικίας θα έχουν την ευκαιρία να ζωγραφίσουν\, με θέμα τα Χριστούγεννα\, χωρίς περιορισμούς. \n5)     Εργαστήριο φωτογραφίας\nΤα παιδιά\, αφού φωτογραφηθούν στο χριστουγεννιάτικο photobooth\, θα φτιάχνουν αναμνηστική χειροτεχνία με την φωτογραφία τους. 
URL:https://culture.monemvasia.gov.gr/event/ergastiria-xotikon-stous-molaous/
LOCATION:Μολάοι\, Μολάοι\, Λακωνίας\, Ελλάδα
CATEGORIES:Εκδήλωση,Χριστούγεννα
ATTACH;FMTTYPE=image/jpeg:https://culture.monemvasia.gov.gr/wp-content/uploads/2024/06/event-default-jpg.webp
END:VEVENT
BEGIN:VEVENT
DTSTART;TZID=Europe/Athens:20241230T163000
DTEND;TZID=Europe/Athens:20241230T190000
DTSTAMP:20260420T000837
CREATED:20241227T135453Z
LAST-MODIFIED:20241227T135703Z
UID:10000232-1735576200-1735585200@culture.monemvasia.gov.gr
SUMMARY:Εργαστήρια Ξωτικών στη Μονεμβασιά
DESCRIPTION:ΕΡΓΑΣΤΗΡΙΑ ΞΩΤΙΚΩΝ\n1) Εργαστήριο Ζαχαροπλαστικής\nΟι μικροί μας επισκέπτες σε ρόζο ζαχαροπλάστη φτιάχνουν φρέσκα μπισκότα σε διάφορα χριστουγεννιάτικα σχήματα\, με αγνά υλικά. Αφού τα φουρνίσουν μπορούν να τα πάρουν μαζί τους σε ειδική αναμνηστική συσκευασία. \n2) Εργαστήριο Χριστουγεννιάτικων Κεριών\nΤα παιδιά δημιουργούν τα δικά τους αρωματικά κεριά\, με φυσικό υλικό\, σε διάφορα χριστουγεννιάτικα σχέδια\, με τα οποία πρόκειται να διακοσμήσουν το σπίτι τους. \n3) Εργαστήριο χειροτεχνίας «Φτιάξε τον δικό σου τάρανδο»\nΟι μικροί μας επισκέπτες φτιάχνουν εντυπωσιακές χειροτεχνίες\, όλων των μεγεθών\, με θέμα τον τάρανδο. \n4) Εργαστήριο Ζωγραφικής\nΈνας πελώριος τοίχος έκφρασης και χρωμάτων πρόκειται να στηθεί\, μήκους 10 μέτρων\, όπου παιδιά κάθε ηλικίας θα έχουν την ευκαιρία να ζωγραφίσουν\, με θέμα τα Χριστούγεννα\, χωρίς περιορισμούς. \n5)     Εργαστήριο φωτογραφίας\nΤα παιδιά\, αφού φωτογραφηθούν στο χριστουγεννιάτικο photobooth\, θα φτιάχνουν αναμνηστική χειροτεχνία με την φωτογραφία τους. 
URL:https://culture.monemvasia.gov.gr/event/ergastiria-xotikon-sti-monemvasia/
LOCATION:ΝΕΑΠΟΛΗ-ΠΕΖΟΔΡΟΜΟΣ ΑΙΒΑΛΙ\, ΝΕΑΠΟΛΗ-ΠΕΖΟΔΡΟΜΟΣ ΑΙΒΑΛΙ
CATEGORIES:Εκδήλωση,Χριστούγεννα
ATTACH;FMTTYPE=image/jpeg:https://culture.monemvasia.gov.gr/wp-content/uploads/2024/06/event-default-jpg.webp
END:VEVENT
BEGIN:VEVENT
DTSTART;TZID=Europe/Athens:20241230T180000
DTEND;TZID=Europe/Athens:20241230T203000
DTSTAMP:20260420T000837
CREATED:20241227T135944Z
LAST-MODIFIED:20241227T135944Z
UID:10000235-1735581600-1735590600@culture.monemvasia.gov.gr
SUMMARY:Εργαστήρια Ξωτικών στον Ασωπό
DESCRIPTION:ΕΡΓΑΣΤΗΡΙΑ ΞΩΤΙΚΩΝ\n1) Εργαστήριο Ζαχαροπλαστικής\nΟι μικροί μας επισκέπτες σε ρόζο ζαχαροπλάστη φτιάχνουν φρέσκα μπισκότα σε διάφορα χριστουγεννιάτικα σχήματα\, με αγνά υλικά. Αφού τα φουρνίσουν μπορούν να τα πάρουν μαζί τους σε ειδική αναμνηστική συσκευασία. \n2) Εργαστήριο Χριστουγεννιάτικων Κεριών\nΤα παιδιά δημιουργούν τα δικά τους αρωματικά κεριά\, με φυσικό υλικό\, σε διάφορα χριστουγεννιάτικα σχέδια\, με τα οποία πρόκειται να διακοσμήσουν το σπίτι τους. \n3) Εργαστήριο χειροτεχνίας «Φτιάξε τον δικό σου τάρανδο»\nΟι μικροί μας επισκέπτες φτιάχνουν εντυπωσιακές χειροτεχνίες\, όλων των μεγεθών\, με θέμα τον τάρανδο. \n4) Εργαστήριο Ζωγραφικής\nΈνας πελώριος τοίχος έκφρασης και χρωμάτων πρόκειται να στηθεί\, μήκους 10 μέτρων\, όπου παιδιά κάθε ηλικίας θα έχουν την ευκαιρία να ζωγραφίσουν\, με θέμα τα Χριστούγεννα\, χωρίς περιορισμούς. \n5)     Εργαστήριο φωτογραφίας\nΤα παιδιά\, αφού φωτογραφηθούν στο χριστουγεννιάτικο photobooth\, θα φτιάχνουν αναμνηστική χειροτεχνία με την φωτογραφία τους. 
URL:https://culture.monemvasia.gov.gr/event/ergastiria-xotikon-ston-asopo/
LOCATION:Ασωπός – Πέτρινο\, Πέτρινο\, Ασωπός
CATEGORIES:Εκδήλωση,Χριστούγεννα
ATTACH;FMTTYPE=image/jpeg:https://culture.monemvasia.gov.gr/wp-content/uploads/2024/06/event-default-jpg.webp
END:VEVENT
BEGIN:VEVENT
DTSTART;TZID=Europe/Athens:20241230T183000
DTEND;TZID=Europe/Athens:20241230T183000
DTSTAMP:20260420T000837
CREATED:20241227T141000Z
LAST-MODIFIED:20241227T154854Z
UID:10000242-1735583400-1735583400@culture.monemvasia.gov.gr
SUMMARY:ΝΥΧΤΑ ΞΩΤΙΚΩΝ: Όλη η πόλη μια Γιορτή από την Επαγγελματική Ένωση Βατίκων
DESCRIPTION: ΝΥΧΤΑ ΞΩΤΙΚΩΝ: Όλη η πόλη μια Γιορτή από την Επαγγελματική Ένωση Βατίκων  \nαπό τις 6:30 μ.μ
URL:https://culture.monemvasia.gov.gr/event/nychta-xotikon-oli-i-poli-mia-giorti-apo-tin-epangelmatiki-enosi-vatikon/
LOCATION:Νεάπολη\, Νεάπολη\, 23053\, Ελλάδα
CATEGORIES:Εκδήλωση,Χριστούγεννα
ATTACH;FMTTYPE=image/jpeg:https://culture.monemvasia.gov.gr/wp-content/uploads/2024/12/FB_IMG_1735314446831.webp
END:VEVENT
END:VCALENDAR