BEGIN:VCALENDAR
VERSION:2.0
PRODID:-//Δήμος Μονεμβασίας - Πολιτισμός - ECPv6.6.3//NONSGML v1.0//EN
CALSCALE:GREGORIAN
METHOD:PUBLISH
X-WR-CALNAME:Δήμος Μονεμβασίας - Πολιτισμός
X-ORIGINAL-URL:https://culture.monemvasia.gov.gr
X-WR-CALDESC:Δήμος Μονεμβασίας - Πολιτισμός - Εκδηλώσεις
REFRESH-INTERVAL;VALUE=DURATION:PT1H
X-Robots-Tag:noindex
X-PUBLISHED-TTL:PT1H
BEGIN:VTIMEZONE
TZID:Europe/Athens
BEGIN:DAYLIGHT
TZOFFSETFROM:+0200
TZOFFSETTO:+0300
TZNAME:EEST
DTSTART:20240331T010000
END:DAYLIGHT
BEGIN:STANDARD
TZOFFSETFROM:+0300
TZOFFSETTO:+0200
TZNAME:EET
DTSTART:20241027T010000
END:STANDARD
END:VTIMEZONE
BEGIN:VEVENT
DTSTART;TZID=Europe/Athens:20240706T180000
DTEND;TZID=Europe/Athens:20240706T210000
DTSTAMP:20260420T013006
CREATED:20240704T184551Z
LAST-MODIFIED:20240704T184627Z
UID:10000033-1720288800-1720299600@culture.monemvasia.gov.gr
SUMMARY:Έκθεση Ζωγραφικής στον Ασωπό
DESCRIPTION:Έκθεση Ζωγραφικής του παιδικού & εφηβικού τμήματος Ασωπού
URL:https://culture.monemvasia.gov.gr/event/ekthesi-zografikis-ston-asopo/
LOCATION:Αίθουσα “Πέτρινο”\, Ασωπός\, Αίθουσα "Πέτρινο"\, Ασωπός\, Λακωνία\, 23056\, Ελλάδα
CATEGORIES:Έκθεση
ATTACH;FMTTYPE=image/jpeg:https://culture.monemvasia.gov.gr/wp-content/uploads/2024/06/event-default-jpg.webp
END:VEVENT
BEGIN:VEVENT
DTSTART;TZID=Europe/Athens:20240710T200000
DTEND;TZID=Europe/Athens:20240710T200000
DTSTAMP:20260420T013006
CREATED:20240704T185856Z
LAST-MODIFIED:20240708T182704Z
UID:10000035-1720641600-1720641600@culture.monemvasia.gov.gr
SUMMARY:Έκθεση Ζωγραφικής και Ψηφιδωτού από τον Πολιτιστικό Σύλλογο Βατίκων
DESCRIPTION:Έκθεση Ζωγραφικής και Ψηφιδωτού από τα τμήματα του Συλλόγου στην κεντρική αίθουσα του συλλόγου
URL:https://culture.monemvasia.gov.gr/event/ekthesi-zografikis-apo-ton-politistiko-syllogo-vatikon/
LOCATION:Άιθουσα Πολιστικού Συλλόγου\, Νεάπολη\, Λεωφόρος Σπάρτης 96\, Νεάπολη Λακωνίας\, Λακωνίας\, 23053
CATEGORIES:Έκθεση
ATTACH;FMTTYPE=image/jpeg:https://culture.monemvasia.gov.gr/wp-content/uploads/2024/07/politistikos.jpg
END:VEVENT
BEGIN:VEVENT
DTSTART;VALUE=DATE:20240726
DTEND;VALUE=DATE:20240804
DTSTAMP:20260420T013006
CREATED:20240705T135024Z
LAST-MODIFIED:20240706T144845Z
UID:10000045-1721952000-1722729599@culture.monemvasia.gov.gr
SUMMARY:«Καβομαλιάς: από φως και πέτρα» Έκθεση φωτογραφίας για τον Καβομαλιά
DESCRIPTION:Έκθεση φωτογραφίας «Καβομαλιάς: από φως και πέτρα» \nΕγκαίνια έκθεσης στις 26/3 και ώρα 8:30μ.μ. – Θα ακολουθήσει μουσική εκδήλωση με την Άρτεμις Ματαφιά \nΔιάρκεια έκθεσης από Παρασκευή 26 Ιουλίου έως Σάββατο 3 Αυγούστου. \nΏρες λειτουργίας έκθεσης: 10π.μ.-1μ.μ. & 6:30μ.μ.-10μ.μ.
URL:https://culture.monemvasia.gov.gr/event/kavomalias-apo-fos-kai-petra-ekthesi-fotografias-gia-ton-kavomalia/
LOCATION:Πινακοθήκη Αχιλλέα Βαρβαρέσου\, Νεάπολη\, Πινακοθήκη Αχιλλέα Βαρβαρέσου\, Νεάπολη\, 23053
CATEGORIES:Έκθεση
ATTACH;FMTTYPE=image/jpeg:https://culture.monemvasia.gov.gr/wp-content/uploads/2024/07/Poster-jpg.webp
END:VEVENT
BEGIN:VEVENT
DTSTART;TZID=Europe/Athens:20240730T200000
DTEND;TZID=Europe/Athens:20240730T200000
DTSTAMP:20260420T013006
CREATED:20240709T071610Z
LAST-MODIFIED:20240718T204551Z
UID:10000056-1722369600-1722369600@culture.monemvasia.gov.gr
SUMMARY:Περίπατος Βιβλίου (Ανταλλαγή βιβλίου) - 1ο mini fest ΤΕΧΝΗ ΧΡΩ
DESCRIPTION:Περίπατος Βιβλίου (Ανταλλαγή βιβλίου) – 1ο mini fest ΤΕΧΝΗ ΧΡΩ  από τον Καλλιτεχνικό Σύλλογο “ΤΕΧΝΗ ΧΡΩ”. \nΝεάπολη\, Αίθουσα Συλλόγου στο ποτάμι
URL:https://culture.monemvasia.gov.gr/event/peripatos-vivliou-antallagi-vivliou-1o-mini-fest-techni-chro/
LOCATION:Νεάπολη\, Νεάπολη\, 23053\, Ελλάδα
CATEGORIES:Έκθεση
ATTACH;FMTTYPE=image/jpeg:https://culture.monemvasia.gov.gr/wp-content/uploads/2024/07/Messenger_creation_b16cf136-43b6-4607-ab50-aff8206cafec-jpeg.webp
END:VEVENT
END:VCALENDAR