BEGIN:VCALENDAR
VERSION:2.0
PRODID:-//Δήμος Μονεμβασίας - Πολιτισμός - ECPv6.6.3//NONSGML v1.0//EN
CALSCALE:GREGORIAN
METHOD:PUBLISH
X-ORIGINAL-URL:https://culture.monemvasia.gov.gr
X-WR-CALDESC:Δήμος Μονεμβασίας - Πολιτισμός - Εκδηλώσεις
REFRESH-INTERVAL;VALUE=DURATION:PT1H
X-Robots-Tag:noindex
X-PUBLISHED-TTL:PT1H
BEGIN:VTIMEZONE
TZID:Europe/Athens
BEGIN:DAYLIGHT
TZOFFSETFROM:+0200
TZOFFSETTO:+0300
TZNAME:EEST
DTSTART:20240331T010000
END:DAYLIGHT
BEGIN:STANDARD
TZOFFSETFROM:+0300
TZOFFSETTO:+0200
TZNAME:EET
DTSTART:20241027T010000
END:STANDARD
END:VTIMEZONE
BEGIN:VEVENT
DTSTART;VALUE=DATE:20240805
DTEND;VALUE=DATE:20240807
DTSTAMP:20260420T013713
CREATED:20240709T084634Z
LAST-MODIFIED:20240806T091838Z
UID:10000078-1722816000-1722988799@culture.monemvasia.gov.gr
SUMMARY:Έκθεση Ζωγραφικής από το τμήμα Ζωγραφικής του συλλόγου Τέχνη Χρω
DESCRIPTION:Έκθεση Ζωγραφικής από το τμήμα Ζωγραφικής του συλλόγου μας στην Πινακοθήκη Αχ. Βαρβαρέσου. \nΈναρξη 20:00 μ.μ.
URL:https://culture.monemvasia.gov.gr/event/ekthesi-zografikis-apo-to-tmima-zografikis-tou-syllogou-techni-chro/
LOCATION:Πινακοθήκη Αχιλλέα Βαρβαρέσου\, Νεάπολη\, Πινακοθήκη Αχιλλέα Βαρβαρέσου\, Νεάπολη\, 23053
CATEGORIES:Έκθεση
ATTACH;FMTTYPE=image/jpeg:https://culture.monemvasia.gov.gr/wp-content/uploads/2024/07/ekthesi-zografikis-texni-xro-2024-jpg.webp
END:VEVENT
END:VCALENDAR