BEGIN:VCALENDAR
VERSION:2.0
PRODID:-//Δήμος Μονεμβασίας - Πολιτισμός - ECPv6.6.3//NONSGML v1.0//EN
CALSCALE:GREGORIAN
METHOD:PUBLISH
X-ORIGINAL-URL:https://culture.monemvasia.gov.gr
X-WR-CALDESC:Δήμος Μονεμβασίας - Πολιτισμός - Εκδηλώσεις
REFRESH-INTERVAL;VALUE=DURATION:PT1H
X-Robots-Tag:noindex
X-PUBLISHED-TTL:PT1H
BEGIN:VTIMEZONE
TZID:Europe/Athens
BEGIN:DAYLIGHT
TZOFFSETFROM:+0200
TZOFFSETTO:+0300
TZNAME:EEST
DTSTART:20240331T010000
END:DAYLIGHT
BEGIN:STANDARD
TZOFFSETFROM:+0300
TZOFFSETTO:+0200
TZNAME:EET
DTSTART:20241027T010000
END:STANDARD
END:VTIMEZONE
BEGIN:VEVENT
DTSTART;TZID=Europe/Athens:20240801T190000
DTEND;TZID=Europe/Athens:20240802T190000
DTSTAMP:20260423T034623
CREATED:20240709T072923Z
LAST-MODIFIED:20240709T103615Z
UID:10000060-1722538800-1722625200@culture.monemvasia.gov.gr
SUMMARY:Κυνήγι Θησαυρού στον Άγιο Δήμητρη Μονεμβασίας
DESCRIPTION:Κυνήγι Θησαυρού στον Άγιο Δήμητρη Μονεμβασίας
URL:https://culture.monemvasia.gov.gr/event/kynigi-thisavrou-ston-agio-dimitri-monemvasias/
LOCATION:Άγιος Δημήτριος Μονεμβασίας\, Άγιος Δημήτριος\, Λακωνία\, Ελλάδα
CATEGORIES:Έθιμα
ATTACH;FMTTYPE=image/jpeg:https://culture.monemvasia.gov.gr/wp-content/uploads/2024/06/event-default-jpg.webp
END:VEVENT
BEGIN:VEVENT
DTSTART;VALUE=DATE:20240802
DTEND;VALUE=DATE:20240805
DTSTAMP:20260423T034623
CREATED:20240709T073630Z
LAST-MODIFIED:20240709T073630Z
UID:10000061-1722556800-1722815999@culture.monemvasia.gov.gr
SUMMARY:"ΚΑΜΠΙΤΑΤΑ" Τριήμερη γιορτή για μικρά κ μεγάλα παιδιά
DESCRIPTION:“ΚΑΜΠΙΤΑΤΑ” Τριήμερη γιορτή για μικρά κ μεγάλα παιδιά! Περιλαμβάνει παραδοσιακά παιχνίδια\,μουσική\,τραγούδια κ άλλα! \nΈναρξη: 9:00μ.μ.
URL:https://culture.monemvasia.gov.gr/event/kabitata-triimeri-giorti-gia-mikra-k-megala-paidia/
LOCATION:Κάμπος\, Κάμπος\, Λακωνία\, 23053\, Ελλάδα
CATEGORIES:Έθιμα
ATTACH;FMTTYPE=image/jpeg:https://culture.monemvasia.gov.gr/wp-content/uploads/2024/06/event-default-jpg.webp
END:VEVENT
END:VCALENDAR