BEGIN:VCALENDAR
VERSION:2.0
PRODID:-//Δήμος Μονεμβασίας - Πολιτισμός - ECPv6.6.3//NONSGML v1.0//EN
CALSCALE:GREGORIAN
METHOD:PUBLISH
X-ORIGINAL-URL:https://culture.monemvasia.gov.gr
X-WR-CALDESC:Δήμος Μονεμβασίας - Πολιτισμός - Εκδηλώσεις
REFRESH-INTERVAL;VALUE=DURATION:PT1H
X-Robots-Tag:noindex
X-PUBLISHED-TTL:PT1H
BEGIN:VTIMEZONE
TZID:Europe/Athens
BEGIN:DAYLIGHT
TZOFFSETFROM:+0200
TZOFFSETTO:+0300
TZNAME:EEST
DTSTART:20250330T010000
END:DAYLIGHT
BEGIN:STANDARD
TZOFFSETFROM:+0300
TZOFFSETTO:+0200
TZNAME:EET
DTSTART:20251026T010000
END:STANDARD
END:VTIMEZONE
BEGIN:VEVENT
DTSTART;TZID=Europe/Athens:20250223T163000
DTEND;TZID=Europe/Athens:20250223T163000
DTSTAMP:20260422T202401
CREATED:20250210T193359Z
LAST-MODIFIED:20250210T193412Z
UID:10000273-1740328200-1740328200@culture.monemvasia.gov.gr
SUMMARY:Κατασκευή παραδοσιακών χαρταετών στις Βελιές
DESCRIPTION:Κατασκευή παραδοσιακών χαρταετών  Έναρξη  4.30 μ.μ.\nΣτο δημοτικό σχολείο Βελιών .\nΔιοργάνωση :Πολιτιστικός σύλλογος Βελιών και  Δήμος Μονεμβασίας .
URL:https://culture.monemvasia.gov.gr/event/kataskevi-paradosiakon-chartaeton-stis-velies/
LOCATION:Βελιές\, Βελιές\, Λακωνίας\, 23070\, Ελλάδα
CATEGORIES:Απόκριες,Έθιμα,Εκδήλωση
ATTACH;FMTTYPE=image/jpeg:https://culture.monemvasia.gov.gr/wp-content/uploads/2024/06/event-default-jpg.webp
END:VEVENT
END:VCALENDAR