BEGIN:VCALENDAR
VERSION:2.0
PRODID:-//Δήμος Μονεμβασίας - Πολιτισμός - ECPv6.6.3//NONSGML v1.0//EN
CALSCALE:GREGORIAN
METHOD:PUBLISH
X-WR-CALNAME:Δήμος Μονεμβασίας - Πολιτισμός
X-ORIGINAL-URL:https://culture.monemvasia.gov.gr
X-WR-CALDESC:Δήμος Μονεμβασίας - Πολιτισμός - Εκδηλώσεις
REFRESH-INTERVAL;VALUE=DURATION:PT1H
X-Robots-Tag:noindex
X-PUBLISHED-TTL:PT1H
BEGIN:VTIMEZONE
TZID:Europe/Athens
BEGIN:DAYLIGHT
TZOFFSETFROM:+0200
TZOFFSETTO:+0300
TZNAME:EEST
DTSTART:20240331T010000
END:DAYLIGHT
BEGIN:STANDARD
TZOFFSETFROM:+0300
TZOFFSETTO:+0200
TZNAME:EET
DTSTART:20241027T010000
END:STANDARD
BEGIN:DAYLIGHT
TZOFFSETFROM:+0200
TZOFFSETTO:+0300
TZNAME:EEST
DTSTART:20250330T010000
END:DAYLIGHT
BEGIN:STANDARD
TZOFFSETFROM:+0300
TZOFFSETTO:+0200
TZNAME:EET
DTSTART:20251026T010000
END:STANDARD
BEGIN:DAYLIGHT
TZOFFSETFROM:+0200
TZOFFSETTO:+0300
TZNAME:EEST
DTSTART:20260329T010000
END:DAYLIGHT
BEGIN:STANDARD
TZOFFSETFROM:+0300
TZOFFSETTO:+0200
TZNAME:EET
DTSTART:20261025T010000
END:STANDARD
END:VTIMEZONE
BEGIN:VEVENT
DTSTART;TZID=Europe/Athens:20260221T173000
DTEND;TZID=Europe/Athens:20260221T173000
DTSTAMP:20260419T232452
CREATED:20260207T142453Z
LAST-MODIFIED:20260207T142453Z
UID:10000585-1771695000-1771695000@culture.monemvasia.gov.gr
SUMMARY:Περατζάδα Κάστρο
DESCRIPTION:Ώρα: 17:30. \n\n\nΔιοργάνωση: Δήμος Μονεμβασίας\, Ένωση Γυναικών «Οι Μονεμβασιώτισσες». \n\n\nΣυνδιοργάνωση: Χορευτικός Όμιλος Παπαδιανίκων «Η Τερψιχόρη».
URL:https://culture.monemvasia.gov.gr/event/peratzada-kastro/
LOCATION:Κάστρο Μονεμβασιάς\, Κάστρο Μονεμβασιάς
CATEGORIES:Απόκριες,Έθιμα,Εκδήλωση
ATTACH;FMTTYPE=image/jpeg:https://culture.monemvasia.gov.gr/wp-content/uploads/2024/06/event-default-jpg.webp
END:VEVENT
BEGIN:VEVENT
DTSTART;TZID=Europe/Athens:20250808T210000
DTEND;TZID=Europe/Athens:20250808T210000
DTSTAMP:20260419T232452
CREATED:20250618T074618Z
LAST-MODIFIED:20250618T074618Z
UID:10000407-1754686800-1754686800@culture.monemvasia.gov.gr
SUMMARY:Αναβίωση Ρηχιώτικου Γάμου στην Πλατεία του Χωριού
DESCRIPTION:Αναβίωση Ρηχιώτικου Γάμου στην Πλατεία του Χωριού
URL:https://culture.monemvasia.gov.gr/event/anaviosi-richiotikou-gamou-stin-plateia-tou-choriou/
LOCATION:Ρειχιά\, Ρειχιά\, Λακωνία\, Ελλάδα
CATEGORIES:Έθιμα,Εκδήλωση
ATTACH;FMTTYPE=image/jpeg:https://culture.monemvasia.gov.gr/wp-content/uploads/2024/06/event-default-jpg.webp
END:VEVENT
BEGIN:VEVENT
DTSTART;TZID=Europe/Athens:20250723T210000
DTEND;TZID=Europe/Athens:20250723T210000
DTSTAMP:20260419T232452
CREATED:20250610T121126Z
LAST-MODIFIED:20250723T141112Z
UID:10000331-1753304400-1753304400@culture.monemvasia.gov.gr
SUMMARY:Εορτασμός Απελευθέρωσης Μονεμβασίας - Συναυλία με τη Μελίνα Ασλανίδου
DESCRIPTION:Εορτασμός Απελευθέρωσης Μονεμβασίας – Συναυλία με τη Μελίνα Ασλανίδου
URL:https://culture.monemvasia.gov.gr/event/eortasmos-apeleftherosis-monemvasias-synavlia-me-ti-melina-aslanidou/
LOCATION:Μονεμβασιά
CATEGORIES:Έθιμα,Εκδήλωση
ATTACH;FMTTYPE=image/jpeg:https://culture.monemvasia.gov.gr/wp-content/uploads/2024/06/event-default-jpg.webp
END:VEVENT
BEGIN:VEVENT
DTSTART;TZID=Europe/Athens:20250624T203000
DTEND;TZID=Europe/Athens:20250624T203000
DTSTAMP:20260419T232452
CREATED:20250610T074951Z
LAST-MODIFIED:20250621T105100Z
UID:10000289-1750797000-1750797000@culture.monemvasia.gov.gr
SUMMARY:Ριζίτικα στους Αγίους Αποστόλους
DESCRIPTION:Ριζίτικα στους Αγίους Αποστόλους
URL:https://culture.monemvasia.gov.gr/event/rizitika-stous-agious-apostolous/
LOCATION:Άγιοι Απόστολοι\, Λακωνίας\, 23053\, Ελλάδα
CATEGORIES:Έθιμα,Εκδήλωση
ATTACH;FMTTYPE=image/jpeg:https://culture.monemvasia.gov.gr/wp-content/uploads/2025/06/FB_IMG_1750502911771.avif
END:VEVENT
BEGIN:VEVENT
DTSTART;TZID=Europe/Athens:20250624T200000
DTEND;TZID=Europe/Athens:20250624T200000
DTSTAMP:20260419T232452
CREATED:20250610T080358Z
LAST-MODIFIED:20250610T080358Z
UID:10000295-1750795200-1750795200@culture.monemvasia.gov.gr
SUMMARY:Αναβίωση εθίμου ριζικών στον Άγιο Νικόλαο Βοιών
DESCRIPTION:Αναβίωση εθίμου ριζικών στον Άγιο Νικόλαο Βοιών
URL:https://culture.monemvasia.gov.gr/event/anaviosi-ethimou-rizikon-ston-agio-nikolao-voion/
LOCATION:Άγιος Νικόλαος Βοιών\, Άγιος Νικόλαος\, 23053\, Ελλάδα
CATEGORIES:Έθιμα,Εκδήλωση
ATTACH;FMTTYPE=image/jpeg:https://culture.monemvasia.gov.gr/wp-content/uploads/2024/06/event-default-jpg.webp
END:VEVENT
BEGIN:VEVENT
DTSTART;TZID=Europe/Athens:20250624T190000
DTEND;TZID=Europe/Athens:20250624T190000
DTSTAMP:20260419T232452
CREATED:20250610T075434Z
LAST-MODIFIED:20250610T075434Z
UID:10000292-1750791600-1750791600@culture.monemvasia.gov.gr
SUMMARY:...βγαίνουν απο την στάμνα τα ριζικά ....στα Τάλαντα
DESCRIPTION:…βγαίνουν απο την στάμνα τα ριζικά ….τραγουδάκια κλπ.
URL:https://culture.monemvasia.gov.gr/event/vgainoun-apo-tin-stamna-ta-rizika-sta-talanta/
LOCATION:Tάλαντα\, Τάλαντα\, Λακωνίας\, Ελλάδα
CATEGORIES:Έθιμα,Εκδήλωση
ATTACH;FMTTYPE=image/jpeg:https://culture.monemvasia.gov.gr/wp-content/uploads/2024/06/event-default-jpg.webp
END:VEVENT
BEGIN:VEVENT
DTSTART;VALUE=DATE:20250624
DTEND;VALUE=DATE:20250625
DTSTAMP:20260419T232452
CREATED:20250610T075837Z
LAST-MODIFIED:20250612T063740Z
UID:10000293-1750723200-1750809599@culture.monemvasia.gov.gr
SUMMARY:Έθιμο Άι Γιαννιού στον Άγιο Δημήτριο
DESCRIPTION:Έθιμο Άι Γιαννιού στον Άγιο Δημήτριο
URL:https://culture.monemvasia.gov.gr/event/ethimo-ai-gianniou-ston-agio-dimitrio/
LOCATION:Άγιος Δημήτριος Μονεμβασίας\, Άγιος Δημήτριος\, Λακωνία\, Ελλάδα
CATEGORIES:Έθιμα,Εκδήλωση
ATTACH;FMTTYPE=image/jpeg:https://culture.monemvasia.gov.gr/wp-content/uploads/2024/06/event-default-jpg.webp
END:VEVENT
BEGIN:VEVENT
DTSTART;TZID=Europe/Athens:20250623T210000
DTEND;TZID=Europe/Athens:20250623T210000
DTSTAMP:20260419T232452
CREATED:20250610T075155Z
LAST-MODIFIED:20250612T063745Z
UID:10000290-1750712400-1750712400@culture.monemvasia.gov.gr
SUMMARY:Παραμονή του Αϊ Γιαννιού του Ριζικάρη\, Κάψιμο στεφάνων στον Κάμπο
DESCRIPTION:Παραμονή του Αϊ Γιαννιού του Ριζικάρη\, Κάψιμο στεφάνων στον Κάμπο
URL:https://culture.monemvasia.gov.gr/event/paramoni-tou-ai-gianniou-tou-rizikari-kapsimo-stefanon-ston-kabo/
LOCATION:Κάμπος\, Κάμπος\, Λακωνία\, 23053\, Ελλάδα
CATEGORIES:Έθιμα,Εκδήλωση
ATTACH;FMTTYPE=image/jpeg:https://culture.monemvasia.gov.gr/wp-content/uploads/2024/06/event-default-jpg.webp
END:VEVENT
BEGIN:VEVENT
DTSTART;TZID=Europe/Athens:20250623T180000
DTEND;TZID=Europe/Athens:20250623T180000
DTSTAMP:20260419T232452
CREATED:20250610T075334Z
LAST-MODIFIED:20250612T063651Z
UID:10000291-1750701600-1750701600@culture.monemvasia.gov.gr
SUMMARY:Αναβίωση του εθίμου του Αγίου Γιαννιού του Ριζικάρη στα Τάλαντα
DESCRIPTION:Αναβίωση του εθίμου του Αγίου Γιαννιού του Ριζικάρη (ριζικά\, φωτιές\, κάψιμο στεφανιών κ.λ.π.)
URL:https://culture.monemvasia.gov.gr/event/anaviosi-tou-ethimou-tou-agiou-gianniou-tou-rizikari-sta-talanta/
LOCATION:Tάλαντα\, Τάλαντα\, Λακωνίας\, Ελλάδα
CATEGORIES:Έθιμα,Εκδήλωση
ATTACH;FMTTYPE=image/jpeg:https://culture.monemvasia.gov.gr/wp-content/uploads/2024/06/event-default-jpg.webp
END:VEVENT
BEGIN:VEVENT
DTSTART;TZID=Europe/Athens:20250303T103000
DTEND;TZID=Europe/Athens:20250303T103000
DTSTAMP:20260419T232452
CREATED:20250210T194445Z
LAST-MODIFIED:20250210T194445Z
UID:10000277-1740997800-1740997800@culture.monemvasia.gov.gr
SUMMARY:Πετάμε τους χαρταετούς μας στη Μονεμβασιά - Διασκέδαση με το μουσικό σχήμα Γραμμές
DESCRIPTION:Πετάμε τους χαρταετούς μας στη Μονεμβασιά!\nΔιασκέδαση με το μουσικό σχήμα γραμμές \, θα προσφερθούν νηστήσιμα παραδοσιακά\nεδέσματα . Ώρα έναρξης 10:30 π.μ.\nΔιοργάνωση: Ένωση επιχειρηματιών Μονεμβασία σε συνεργασία με τον Δήμο Μονεμβασίας .
URL:https://culture.monemvasia.gov.gr/event/petame-tous-chartaetous-mas-sti-monemvasia-diaskedasi-me-to-mousiko-schima-grammes/
LOCATION:Πλατεία Χρυσαφίτισσας\, πλατεία Χρυσαφίτισσας\, Μονεμβασιά\, Ελλάδα
CATEGORIES:Απόκριες,Έθιμα,Εκδήλωση,Καθαρά Δευτέρα,Μουσική
ATTACH;FMTTYPE=image/jpeg:https://culture.monemvasia.gov.gr/wp-content/uploads/2025/02/IMG_7951.avif
END:VEVENT
BEGIN:VEVENT
DTSTART;TZID=Europe/Athens:20250223T163000
DTEND;TZID=Europe/Athens:20250223T163000
DTSTAMP:20260419T232452
CREATED:20250210T193359Z
LAST-MODIFIED:20250210T193412Z
UID:10000273-1740328200-1740328200@culture.monemvasia.gov.gr
SUMMARY:Κατασκευή παραδοσιακών χαρταετών στις Βελιές
DESCRIPTION:Κατασκευή παραδοσιακών χαρταετών  Έναρξη  4.30 μ.μ.\nΣτο δημοτικό σχολείο Βελιών .\nΔιοργάνωση :Πολιτιστικός σύλλογος Βελιών και  Δήμος Μονεμβασίας .
URL:https://culture.monemvasia.gov.gr/event/kataskevi-paradosiakon-chartaeton-stis-velies/
LOCATION:Βελιές\, Βελιές\, Λακωνίας\, 23070\, Ελλάδα
CATEGORIES:Απόκριες,Έθιμα,Εκδήλωση
ATTACH;FMTTYPE=image/jpeg:https://culture.monemvasia.gov.gr/wp-content/uploads/2024/06/event-default-jpg.webp
END:VEVENT
BEGIN:VEVENT
DTSTART;TZID=Europe/Athens:20250220T200000
DTEND;TZID=Europe/Athens:20250220T200000
DTSTAMP:20260419T232452
CREATED:20250210T192017Z
LAST-MODIFIED:20250210T192017Z
UID:10000270-1740081600-1740081600@culture.monemvasia.gov.gr
SUMMARY:Τσικνοπέμπτη στα Παπαδιάνικα
DESCRIPTION:Ανάβουμε την παραδοσιακή φωτιά\, τσικνίζουμε και γλεντάμε παρέα στα Παπαδιάνικα!
URL:https://culture.monemvasia.gov.gr/event/tsiknopebti-sta-papadianika/
LOCATION:Παπαδιάνικα\, Παπαδιάνικα
CATEGORIES:Απόκριες,Έθιμα,Εκδήλωση
ATTACH;FMTTYPE=image/jpeg:https://culture.monemvasia.gov.gr/wp-content/uploads/2024/06/event-default-jpg.webp
END:VEVENT
BEGIN:VEVENT
DTSTART;TZID=Europe/Athens:20250220T190000
DTEND;TZID=Europe/Athens:20250220T190000
DTSTAMP:20260419T232452
CREATED:20250210T192126Z
LAST-MODIFIED:20250210T192933Z
UID:10000271-1740078000-1740078000@culture.monemvasia.gov.gr
SUMMARY:Τσικνοπέμπτη στη Μεταμόρφωση
DESCRIPTION:Ανάβουμε την παραδοσιακή φωτιά\, τσικνίζουμε και γλεντάμε παρέα στη Μεταμόρφωση!
URL:https://culture.monemvasia.gov.gr/event/tsiknopebti-sti-metamorfosi/
LOCATION:Μεταμόρφωση\, Μεταμόρφωση\, Λακωνία\, 23052\, Ελλάδα
CATEGORIES:Απόκριες,Έθιμα,Εκδήλωση
ATTACH;FMTTYPE=image/jpeg:https://culture.monemvasia.gov.gr/wp-content/uploads/2024/06/event-default-jpg.webp
END:VEVENT
BEGIN:VEVENT
DTSTART;TZID=Europe/Athens:20250220T190000
DTEND;TZID=Europe/Athens:20250220T190000
DTSTAMP:20260419T232452
CREATED:20250210T191904Z
LAST-MODIFIED:20250210T191904Z
UID:10000269-1740078000-1740078000@culture.monemvasia.gov.gr
SUMMARY:Τσικνοπέμπτη στους Μολάους
DESCRIPTION:Ανάβουμε την παραδοσιακή φωτιά\, τσικνίζουμε και γλεντάμε παρέα στην πλατεία\nΔημάκου!
URL:https://culture.monemvasia.gov.gr/event/tsiknopebti-stous-molaous/
LOCATION:Μολάοι – Πλατεία Δημάκου
CATEGORIES:Απόκριες,Έθιμα,Εκδήλωση
ATTACH;FMTTYPE=image/jpeg:https://culture.monemvasia.gov.gr/wp-content/uploads/2024/06/event-default-jpg.webp
END:VEVENT
BEGIN:VEVENT
DTSTART;TZID=Europe/Athens:20250220T190000
DTEND;TZID=Europe/Athens:20250220T190000
DTSTAMP:20260419T232452
CREATED:20250207T090927Z
LAST-MODIFIED:20250207T090927Z
UID:10000248-1740078000-1740078000@culture.monemvasia.gov.gr
SUMMARY:Τσικνίσματα & Street Party Masque με live μουσική στην Πλατεία Κάμπου
DESCRIPTION:Τσικνίσματα & Street Party Masque με live μουσική στην Πλατεία Κάμπου
URL:https://culture.monemvasia.gov.gr/event/tsiknismata-street-party-masque-me-live-mousiki-stin-plateia-kabou/
LOCATION:Κάμπος\, Κάμπος\, Λακωνία\, 23053\, Ελλάδα
CATEGORIES:Απόκριες,Έθιμα,Εκδήλωση
ATTACH;FMTTYPE=image/jpeg:https://culture.monemvasia.gov.gr/wp-content/uploads/2025/02/1000017645.avif
END:VEVENT
BEGIN:VEVENT
DTSTART;TZID=Europe/Athens:20250220T140000
DTEND;TZID=Europe/Athens:20250220T180000
DTSTAMP:20260419T232452
CREATED:20250207T090730Z
LAST-MODIFIED:20250207T090730Z
UID:10000247-1740060000-1740074400@culture.monemvasia.gov.gr
SUMMARY:Τσίκνισμα στην Πλατεία των Αγίων Αποστόλων
DESCRIPTION:Τσίκνισμα στην Πλατεία των Αγίων Αποστόλων
URL:https://culture.monemvasia.gov.gr/event/tsiknisma-stin-plateia-ton-agion-apostolon/
LOCATION:Άγιοι Απόστολοι\, Λακωνίας\, 23053\, Ελλάδα
CATEGORIES:Απόκριες,Έθιμα,Εκδήλωση
ATTACH;FMTTYPE=image/jpeg:https://culture.monemvasia.gov.gr/wp-content/uploads/2024/06/event-default-jpg.webp
END:VEVENT
BEGIN:VEVENT
DTSTART;TZID=Europe/Athens:20250220T140000
DTEND;TZID=Europe/Athens:20250220T180000
DTSTAMP:20260419T232452
CREATED:20250207T090616Z
LAST-MODIFIED:20250207T090616Z
UID:10000246-1740060000-1740074400@culture.monemvasia.gov.gr
SUMMARY:Τσίκνισμα στην Πλατεία του Αγίου Νικολάου
DESCRIPTION:Τσίκνισμα στην Πλατεία του Αγίου Νικολάου
URL:https://culture.monemvasia.gov.gr/event/tsiknisma-stin-plateia-tou-agiou-nikolaou/
LOCATION:Άγιος Νικόλαος Βοιών\, Άγιος Νικόλαος\, 23053\, Ελλάδα
CATEGORIES:Απόκριες,Έθιμα,Εκδήλωση
ATTACH;FMTTYPE=image/jpeg:https://culture.monemvasia.gov.gr/wp-content/uploads/2024/06/event-default-jpg.webp
END:VEVENT
BEGIN:VEVENT
DTSTART;TZID=Europe/Athens:20241230T193000
DTEND;TZID=Europe/Athens:20241230T210000
DTSTAMP:20260419T232452
CREATED:20241227T140607Z
LAST-MODIFIED:20241227T140607Z
UID:10000240-1735587000-1735592400@culture.monemvasia.gov.gr
SUMMARY:ΚΑΝΕ ΜΙΑ ΕΥΧΗ / ΦΑΝΑΡΑΚΙΑ στη Νεάπολη
DESCRIPTION:ΚΑΝΕ ΜΙΑ ΕΥΧΗ / ΦΑΝΑΡΑΚΙΑ: \nΤο βασικό θέμα της εκδήλωσης είναι η ταυτόχρονη ρίψη των ιπτάμενων φαναριών από τους παρευρισκόμενους. Επιπλέον\, σκοπεύουμε να υλοποιήσουμε εργαστήρια δημιουργικής απασχόλησης\, με ελεύθερη συμμετοχή\, για τους μικρούς μας επισκέπτες. \n 
URL:https://culture.monemvasia.gov.gr/event/kane-mia-efchi-fanarakia-sti-neapoli/
LOCATION:Μολάοι\, Μολάοι\, Λακωνίας\, Ελλάδα
CATEGORIES:Έθιμα,Εκδήλωση
ATTACH;FMTTYPE=image/jpeg:https://culture.monemvasia.gov.gr/wp-content/uploads/2024/06/event-default-jpg.webp
END:VEVENT
BEGIN:VEVENT
DTSTART;TZID=Europe/Athens:20241230T190000
DTEND;TZID=Europe/Athens:20241230T203000
DTSTAMP:20260419T232452
CREATED:20241227T140507Z
LAST-MODIFIED:20241227T140507Z
UID:10000239-1735585200-1735590600@culture.monemvasia.gov.gr
SUMMARY:ΚΑΝΕ ΜΙΑ ΕΥΧΗ / ΦΑΝΑΡΑΚΙΑ στην Πλύτρα
DESCRIPTION:ΚΑΝΕ ΜΙΑ ΕΥΧΗ / ΦΑΝΑΡΑΚΙΑ: \nΤο βασικό θέμα της εκδήλωσης είναι η ταυτόχρονη ρίψη των ιπτάμενων φαναριών από τους παρευρισκόμενους. Επιπλέον\, σκοπεύουμε να υλοποιήσουμε εργαστήρια δημιουργικής απασχόλησης\, με ελεύθερη συμμετοχή\, για τους μικρούς μας επισκέπτες. \n 
URL:https://culture.monemvasia.gov.gr/event/kane-mia-efchi-fanarakia-stin-plytra/
LOCATION:Μολάοι\, Μολάοι\, Λακωνίας\, Ελλάδα
CATEGORIES:Έθιμα,Εκδήλωση
ATTACH;FMTTYPE=image/jpeg:https://culture.monemvasia.gov.gr/wp-content/uploads/2024/06/event-default-jpg.webp
END:VEVENT
BEGIN:VEVENT
DTSTART;TZID=Europe/Athens:20241230T163000
DTEND;TZID=Europe/Athens:20241230T180000
DTSTAMP:20260419T232452
CREATED:20241227T154315Z
LAST-MODIFIED:20241227T154315Z
UID:10000238-1735576200-1735581600@culture.monemvasia.gov.gr
SUMMARY:ΚΑΝΕ ΜΙΑ ΕΥΧΗ / ΦΑΝΑΡΑΚΙΑ στον Άγιο Δημήτριο
DESCRIPTION:ΚΑΝΕ ΜΙΑ ΕΥΧΗ / ΦΑΝΑΡΑΚΙΑ: \nΤο βασικό θέμα της εκδήλωσης είναι η ταυτόχρονη ρίψη των ιπτάμενων φαναριών από τους παρευρισκόμενους. Επιπλέον\, σκοπεύουμε να υλοποιήσουμε εργαστήρια δημιουργικής απασχόλησης\, με ελεύθερη συμμετοχή\, για τους μικρούς μας επισκέπτες. \n 
URL:https://culture.monemvasia.gov.gr/event/kane-mia-efchi-fanarakia-ston-agio-dimitrio/
LOCATION:Κυπαρίσσι\, Κυπαρίσσι\, Λακωνία\, Ελλάδα
CATEGORIES:Έθιμα,Εκδήλωση
ATTACH;FMTTYPE=image/jpeg:https://culture.monemvasia.gov.gr/wp-content/uploads/2024/06/event-default-jpg.webp
END:VEVENT
BEGIN:VEVENT
DTSTART;TZID=Europe/Athens:20241230T163000
DTEND;TZID=Europe/Athens:20241230T180000
DTSTAMP:20260419T232452
CREATED:20241227T140239Z
LAST-MODIFIED:20241227T140353Z
UID:10000237-1735576200-1735581600@culture.monemvasia.gov.gr
SUMMARY:ΚΑΝΕ ΜΙΑ ΕΥΧΗ / ΦΑΝΑΡΑΚΙΑ στους Μολάους
DESCRIPTION:ΚΑΝΕ ΜΙΑ ΕΥΧΗ / ΦΑΝΑΡΑΚΙΑ: \nΤο βασικό θέμα της εκδήλωσης είναι η ταυτόχρονη ρίψη των ιπτάμενων φαναριών από τους παρευρισκόμενους. Επιπλέον\, σκοπεύουμε να υλοποιήσουμε εργαστήρια δημιουργικής απασχόλησης\, με ελεύθερη συμμετοχή\, για τους μικρούς μας επισκέπτες. \n 
URL:https://culture.monemvasia.gov.gr/event/kane-mia-efchi-fanarakia-stous-molaous/
LOCATION:Μολάοι\, Μολάοι\, Λακωνίας\, Ελλάδα
CATEGORIES:Έθιμα,Εκδήλωση
ATTACH;FMTTYPE=image/jpeg:https://culture.monemvasia.gov.gr/wp-content/uploads/2024/06/event-default-jpg.webp
END:VEVENT
BEGIN:VEVENT
DTSTART;TZID=Europe/Athens:20241228T160000
DTEND;TZID=Europe/Athens:20241228T170000
DTSTAMP:20260419T232452
CREATED:20241227T135043Z
LAST-MODIFIED:20241227T135043Z
UID:10000231-1735401600-1735405200@culture.monemvasia.gov.gr
SUMMARY:ΚΑΝΕ ΜΙΑ ΕΥΧΗ / ΦΑΝΑΡΑΚΙΑ στο Κυπαρίσσι
DESCRIPTION:ΚΑΝΕ ΜΙΑ ΕΥΧΗ / ΦΑΝΑΡΑΚΙΑ: \nΤο βασικό θέμα της εκδήλωσης είναι η ταυτόχρονη ρίψη των ιπτάμενων φαναριών από τους παρευρισκόμενους. Επιπλέον\, σκοπεύουμε να υλοποιήσουμε εργαστήρια δημιουργικής απασχόλησης\, με ελεύθερη συμμετοχή\, για τους μικρούς μας επισκέπτες. \n 
URL:https://culture.monemvasia.gov.gr/event/kane-mia-efchi-fanarakia-sto-kyparissi/
LOCATION:Κυπαρίσσι\, Κυπαρίσσι\, Λακωνία\, Ελλάδα
CATEGORIES:Έθιμα,Εκδήλωση
ATTACH;FMTTYPE=image/jpeg:https://culture.monemvasia.gov.gr/wp-content/uploads/2024/06/event-default-jpg.webp
END:VEVENT
BEGIN:VEVENT
DTSTART;TZID=Europe/Athens:20241228T160000
DTEND;TZID=Europe/Athens:20241228T170000
DTSTAMP:20260419T232452
CREATED:20241227T134910Z
LAST-MODIFIED:20241227T134910Z
UID:10000230-1735401600-1735405200@culture.monemvasia.gov.gr
SUMMARY:ΚΑΝΕ ΜΙΑ ΕΥΧΗ / ΦΑΝΑΡΑΚΙΑ στη Ρειχιά
DESCRIPTION:ΚΑΝΕ ΜΙΑ ΕΥΧΗ / ΦΑΝΑΡΑΚΙΑ: \nΤο βασικό θέμα της εκδήλωσης είναι η ταυτόχρονη ρίψη των ιπτάμενων φαναριών από τους παρευρισκόμενους. Επιπλέον\, σκοπεύουμε να υλοποιήσουμε εργαστήρια δημιουργικής απασχόλησης\, με ελεύθερη συμμετοχή\, για τους μικρούς μας επισκέπτες. \n 
URL:https://culture.monemvasia.gov.gr/event/kane-mia-efchi-fanarakia-sti-reichia/
LOCATION:Ρειχιά\, Ρειχιά\, Λακωνία\, Ελλάδα
CATEGORIES:Έθιμα,Εκδήλωση
ATTACH;FMTTYPE=image/jpeg:https://culture.monemvasia.gov.gr/wp-content/uploads/2024/06/event-default-jpg.webp
END:VEVENT
BEGIN:VEVENT
DTSTART;TZID=Europe/Athens:20241227T200000
DTEND;TZID=Europe/Athens:20241227T200000
DTSTAMP:20260419T232452
CREATED:20241227T133701Z
LAST-MODIFIED:20241227T133701Z
UID:10000225-1735329600-1735329600@culture.monemvasia.gov.gr
SUMMARY:Φαναράκια Ευχών από τον Πολιτιστικό Σύλλογο Κάμπου
DESCRIPTION:Φαναράκια Ευχών ΠΟΛΙΤΙΣΤΙΚΟΣ ΣΥΛΛΟΓΟΣ ΚΑΜΠΟΥ στην Πλατεία Κάμπου
URL:https://culture.monemvasia.gov.gr/event/fanarakia-efchon-apo-ton-politistiko-syllogo-kabou/
CATEGORIES:Έθιμα,Εκδήλωση,Χριστούγεννα
ATTACH;FMTTYPE=image/jpeg:https://culture.monemvasia.gov.gr/wp-content/uploads/2024/06/event-default-jpg.webp
END:VEVENT
BEGIN:VEVENT
DTSTART;VALUE=DATE:20240802
DTEND;VALUE=DATE:20240805
DTSTAMP:20260419T232452
CREATED:20240709T073630Z
LAST-MODIFIED:20240709T073630Z
UID:10000061-1722556800-1722815999@culture.monemvasia.gov.gr
SUMMARY:"ΚΑΜΠΙΤΑΤΑ" Τριήμερη γιορτή για μικρά κ μεγάλα παιδιά
DESCRIPTION:“ΚΑΜΠΙΤΑΤΑ” Τριήμερη γιορτή για μικρά κ μεγάλα παιδιά! Περιλαμβάνει παραδοσιακά παιχνίδια\,μουσική\,τραγούδια κ άλλα! \nΈναρξη: 9:00μ.μ.
URL:https://culture.monemvasia.gov.gr/event/kabitata-triimeri-giorti-gia-mikra-k-megala-paidia/
LOCATION:Κάμπος\, Κάμπος\, Λακωνία\, 23053\, Ελλάδα
CATEGORIES:Έθιμα
ATTACH;FMTTYPE=image/jpeg:https://culture.monemvasia.gov.gr/wp-content/uploads/2024/06/event-default-jpg.webp
END:VEVENT
BEGIN:VEVENT
DTSTART;TZID=Europe/Athens:20240801T190000
DTEND;TZID=Europe/Athens:20240802T190000
DTSTAMP:20260419T232452
CREATED:20240709T072923Z
LAST-MODIFIED:20240709T103615Z
UID:10000060-1722538800-1722625200@culture.monemvasia.gov.gr
SUMMARY:Κυνήγι Θησαυρού στον Άγιο Δήμητρη Μονεμβασίας
DESCRIPTION:Κυνήγι Θησαυρού στον Άγιο Δήμητρη Μονεμβασίας
URL:https://culture.monemvasia.gov.gr/event/kynigi-thisavrou-ston-agio-dimitri-monemvasias/
LOCATION:Άγιος Δημήτριος Μονεμβασίας\, Άγιος Δημήτριος\, Λακωνία\, Ελλάδα
CATEGORIES:Έθιμα
ATTACH;FMTTYPE=image/jpeg:https://culture.monemvasia.gov.gr/wp-content/uploads/2024/06/event-default-jpg.webp
END:VEVENT
BEGIN:VEVENT
DTSTART;TZID=Europe/Athens:20240728T183000
DTEND;TZID=Europe/Athens:20240728T183000
DTSTAMP:20260419T232452
CREATED:20240626T095206Z
LAST-MODIFIED:20240708T094335Z
UID:10000026-1722191400-1722191400@culture.monemvasia.gov.gr
SUMMARY:Αθλοπαιδείες - Διαγωνισμός Μαγειρικής στις Βελιές
DESCRIPTION:Αθλοπαιδείες – Διαγωνισμός Μαγειρικής\, ώρα έναρξης 6:30μ.μ.
URL:https://culture.monemvasia.gov.gr/event/athlopaideies-diagonismos-mageirikis-stis-velies/
LOCATION:Βελιές\, Βελιές\, Λακωνίας\, 23070\, Ελλάδα
CATEGORIES:Αθλητισμός,Διαγωνισμός,Έθιμα
ATTACH;FMTTYPE=image/jpeg:https://culture.monemvasia.gov.gr/wp-content/uploads/2024/06/event-default-jpg.webp
END:VEVENT
BEGIN:VEVENT
DTSTART;TZID=Europe/Athens:20240623T203000
DTEND;TZID=Europe/Athens:20240623T203000
DTSTAMP:20260419T232452
CREATED:20240620T090728Z
LAST-MODIFIED:20240620T091206Z
UID:10000022-1719174600-1719174600@culture.monemvasia.gov.gr
SUMMARY:Το έθιμο του Κλήδωνα- Τα Ριζικά στους Αγίους Αποστόλους
DESCRIPTION:Το έθιμο του Κλήδωνα- Τα Ριζικά  στο προαύλιο σχολείου Αγίων Αποστόλων από το Πολιτιστικό Σύλλογο Αγίων Αποστόλων
URL:https://culture.monemvasia.gov.gr/event/to-ethimo-tou-klidona-ta-rizika-stous-agious-apostolous/
LOCATION:Άγιοι Απόστολοι\, Λακωνίας\, 23053\, Ελλάδα
CATEGORIES:Έθιμα
ATTACH;FMTTYPE=image/jpeg:https://culture.monemvasia.gov.gr/wp-content/uploads/2024/06/event-default-jpg.webp
END:VEVENT
BEGIN:VEVENT
DTSTART;TZID=Europe/Athens:20240623T203000
DTEND;TZID=Europe/Athens:20240623T203000
DTSTAMP:20260419T232452
CREATED:20240618T085905Z
LAST-MODIFIED:20240618T090813Z
UID:10000020-1719174600-1719174600@culture.monemvasia.gov.gr
SUMMARY:Το έθιμο του Κλήδωνα (Ριζικά) στον Άγιο Νικόλαο Βοιών
DESCRIPTION:Το έθιμο του Κλήδωνα (Ριζικά) στον Άγιο Νικόλαο Βοιών από τον Πολιτιστικό Σύλλογο Αγίου Νικολάου Βοιών
URL:https://culture.monemvasia.gov.gr/event/to-ethimo-tou-klidona-rizika/
LOCATION:Άγιος Νικόλαος Βοιών\, Άγιος Νικόλαος\, 23053\, Ελλάδα
CATEGORIES:Έθιμα
ATTACH;FMTTYPE=image/jpeg:https://culture.monemvasia.gov.gr/wp-content/uploads/2024/06/event-default-jpg.webp
END:VEVENT
BEGIN:VEVENT
DTSTART;TZID=Europe/Athens:20240622T203000
DTEND;TZID=Europe/Athens:20240622T203000
DTSTAMP:20260419T232452
CREATED:20240618T084747Z
LAST-MODIFIED:20240624T140136Z
UID:10000019-1719088200-1719088200@culture.monemvasia.gov.gr
SUMMARY:Εορτασμός Αγίας Τριάδας στη Νεάπολη με παρουσίαση από τα τμήματα παραδοσιακών χορών
DESCRIPTION:Εορτασμός Αγίας Τριάδας με παρουσίαση από τα τμήματα παραδοσιακών χορών. Παράσταση με χορούς απ’ όλη την Ελλάδα με ιδιαίτερη μνεία στα Βάτικα (ζωντανή μουσική).
URL:https://culture.monemvasia.gov.gr/event/eortasmos-agias-triadas-me-parousiasi-apo-ta-tmimata-paradosiakon-choron/
LOCATION:Νεάπολη\, Νεάπολη\, 23053\, Ελλάδα
CATEGORIES:Έθιμα,Χορός
ATTACH;FMTTYPE=image/jpeg:https://culture.monemvasia.gov.gr/wp-content/uploads/2024/06/Politistikos-xoroi-agtriados-2024-jpg.webp
END:VEVENT
END:VCALENDAR