BEGIN:VCALENDAR
VERSION:2.0
PRODID:-//Δήμος Μονεμβασίας - Πολιτισμός - ECPv6.6.3//NONSGML v1.0//EN
CALSCALE:GREGORIAN
METHOD:PUBLISH
X-WR-CALNAME:Δήμος Μονεμβασίας - Πολιτισμός
X-ORIGINAL-URL:https://culture.monemvasia.gov.gr
X-WR-CALDESC:Δήμος Μονεμβασίας - Πολιτισμός - Εκδηλώσεις
REFRESH-INTERVAL;VALUE=DURATION:PT1H
X-Robots-Tag:noindex
X-PUBLISHED-TTL:PT1H
BEGIN:VTIMEZONE
TZID:Europe/Athens
BEGIN:DAYLIGHT
TZOFFSETFROM:+0200
TZOFFSETTO:+0300
TZNAME:EEST
DTSTART:20250330T010000
END:DAYLIGHT
BEGIN:STANDARD
TZOFFSETFROM:+0300
TZOFFSETTO:+0200
TZNAME:EET
DTSTART:20251026T010000
END:STANDARD
BEGIN:DAYLIGHT
TZOFFSETFROM:+0200
TZOFFSETTO:+0300
TZNAME:EEST
DTSTART:20260329T010000
END:DAYLIGHT
BEGIN:STANDARD
TZOFFSETFROM:+0300
TZOFFSETTO:+0200
TZNAME:EET
DTSTART:20261025T010000
END:STANDARD
END:VTIMEZONE
BEGIN:VEVENT
DTSTART;TZID=Europe/Athens:20260215T110000
DTEND;TZID=Europe/Athens:20260215T130000
DTSTAMP:20260422T142511
CREATED:20260205T182900Z
LAST-MODIFIED:20260205T182900Z
UID:10000565-1771153200-1771160400@culture.monemvasia.gov.gr
SUMMARY:3ο Παιδικό Καρναβάλι Μολάων
DESCRIPTION:3ο Παιδικό Καρναβάλι Μολάων\nΗ εκδήλωση περιλαμβάνει και Φεστιβάλ Χρωμάτων. \nΠληροφορίες Εκδήλωσης\n\n\nΗμερομηνία: Κυριακή 15 Φεβρουαρίου. \n\n\nΏρα έναρξης: 11:00 π.μ.. \n\n\nΤοποθεσία: Μολάοι (Δήμος Μονεμβασίας).
URL:https://culture.monemvasia.gov.gr/event/3o-paidiko-karnavali-molaon/
LOCATION:Μολάοι\, Μολάοι\, Λακωνίας\, Ελλάδα
CATEGORIES:Εκδήλωση,Εκδήλωση για παιδιά,Καρναβάλι
ATTACH;FMTTYPE=image/jpeg:https://culture.monemvasia.gov.gr/wp-content/uploads/2026/02/ΚΑΡΝΑΒΑΛΙ-ΜΟΛΑΟΙ-2026.avif
END:VEVENT
BEGIN:VEVENT
DTSTART;TZID=Europe/Athens:20260212T190000
DTEND;TZID=Europe/Athens:20260212T190000
DTSTAMP:20260422T142511
CREATED:20260205T183026Z
LAST-MODIFIED:20260207T142335Z
UID:10000566-1770922800-1770922800@culture.monemvasia.gov.gr
SUMMARY:Τσικνοπέμπτη στη Μονεμβασιά
DESCRIPTION:Ημερομηνία: 12 Φεβρουαρίου. \nΏρα έναρξης: Από τις 7:00 μ.μ.. \nΤοποθεσία: Κεντρική Πλατεία Μονεμβασιάς. \nΠρόγραμμα: \nΜεζέδες και άφθονο κρασί. \nΖωντανή μουσική με το σχήμα “ΕΝΤΑΣΗ”. \nΕίσοδος: Ελεύθερη. \nΔιοργάνωση: Δήμος Μονεμβασίας σε συνδιοργάνωση με τον Πολιτιστικό Σύλλογο «Ρίζες».
URL:https://culture.monemvasia.gov.gr/event/tsiknopebti-sti-monemvasia/
LOCATION:Μονεμβασιά
CATEGORIES:Εκδήλωση,Καρναβάλι
ATTACH;FMTTYPE=image/jpeg:https://culture.monemvasia.gov.gr/wp-content/uploads/2026/02/ΤΣΙΚΝΟΠΕΜΠΤΗ-ΜΟΝΕΜΒΑΣΙΑ-2026.avif
END:VEVENT
BEGIN:VEVENT
DTSTART;TZID=Europe/Athens:20250302T163000
DTEND;TZID=Europe/Athens:20250302T163000
DTSTAMP:20260422T142511
CREATED:20250210T194224Z
LAST-MODIFIED:20250210T194224Z
UID:10000276-1740933000-1740933000@culture.monemvasia.gov.gr
SUMMARY:Αποκριάτικο καρναβάλι στον Ασωπό
DESCRIPTION:Αποκριάτικο ξεφάντωμα με χορό\, τραγούδια\, γαϊτανάκι και χαρτοπόλεμο χαράς στο καρναβάλι του Ασωπού.\nΚέφι και χαρά στο καρναβάλι θα δώσουν οι αγαπημένοι φίλοι των παιδιών\, ‘’Μπλε Δεινοσαυράκι’’\, ‘’Ποντικούλης Τζέρυ’’\, ‘’Ροζ Μονόκερος’’\, ‘’ Χαρούμενο Κουνελάκι’’\, ‘’ Γιγάντιος Αστροναύτης’’\,’’Ροζούλα Αρκουδίτσα’’ χορεύοντας στους αποκριάτικους ρυθμούς παρέα με τον εντυπωσιακό «Ξυλοπόδαρο» ‘’Παφ πουφ’’ που θα ξεσηκώνει μικρούς και μεγάλους. Θα ακολουθήσει ξέφρενο πάρτι .\nΔιοργάνωση : Πολιτιστικός και Επιμορφωτικός Σύλλογος Ασωπού και Δήμος Μονεμβασίας.
URL:https://culture.monemvasia.gov.gr/event/apokriatiko-karnavali-ston-asopo/
LOCATION:Ασωπός\, Ασωπός\, Λακωνία\, Ελλάδα
CATEGORIES:Απόκριες,Εκδήλωση,Καρναβάλι
ATTACH;FMTTYPE=image/jpeg:https://culture.monemvasia.gov.gr/wp-content/uploads/2024/06/event-default-jpg.webp
END:VEVENT
BEGIN:VEVENT
DTSTART;TZID=Europe/Athens:20250302T113000
DTEND;TZID=Europe/Athens:20250302T113000
DTSTAMP:20260422T142511
CREATED:20250207T093844Z
LAST-MODIFIED:20250213T072852Z
UID:10000261-1740915000-1740915000@culture.monemvasia.gov.gr
SUMMARY:Βατικιώτικο Καρναβάλι 2025 - Βλάχικος Γάμος και Γλέντι
DESCRIPTION:Βατικιώτικο Καρναβάλι 2025 – Βλάχικος Γάμος και Γλέντι \nΠαρέλαση αρμάτων – Live performance με την Άρτεμη Ματαφιά.\nΒλάχικος γάμος από την Φιλαρμονική \,τον Πολιτιστικό Σύλλογο Βατίκων και τον χορευτικό  όμιλο «Τα χοροπατήματα».\nΔιοργάνωση: Δήμος Μονεμβασίας\, με τη συμμετοχή της Φιλαρμονικής Δημοτικής Ενότητας Βοιών\, της Ένωσης Επαγγελματιών Νεάπολης\, Πολιτιστικών Συλλόγων Δ.Ε. Βοιών\, Συλλόγων\nΓονέων και Κηδεμόνων και της Δημοτικής Κοινότητας Νεάπολης .
URL:https://culture.monemvasia.gov.gr/event/vatikiotiko-karnavali-2025-vlachikos-gamos-kai-glenti/
LOCATION:Νεάπολη\, Νεάπολη\, 23053\, Ελλάδα
CATEGORIES:Απόκριες,Εκδήλωση,Καρναβάλι
ATTACH;FMTTYPE=image/png:https://culture.monemvasia.gov.gr/wp-content/uploads/2025/02/ΚΑΡΝΑΒΑΛΙ-2024-22-png.avif
END:VEVENT
END:VCALENDAR