BEGIN:VCALENDAR
VERSION:2.0
PRODID:-//Δήμος Μονεμβασίας - Πολιτισμός - ECPv6.6.3//NONSGML v1.0//EN
CALSCALE:GREGORIAN
METHOD:PUBLISH
X-WR-CALNAME:Δήμος Μονεμβασίας - Πολιτισμός
X-ORIGINAL-URL:https://culture.monemvasia.gov.gr
X-WR-CALDESC:Δήμος Μονεμβασίας - Πολιτισμός - Εκδηλώσεις
REFRESH-INTERVAL;VALUE=DURATION:PT1H
X-Robots-Tag:noindex
X-PUBLISHED-TTL:PT1H
BEGIN:VTIMEZONE
TZID:Europe/Athens
BEGIN:DAYLIGHT
TZOFFSETFROM:+0200
TZOFFSETTO:+0300
TZNAME:EEST
DTSTART:20240331T010000
END:DAYLIGHT
BEGIN:STANDARD
TZOFFSETFROM:+0300
TZOFFSETTO:+0200
TZNAME:EET
DTSTART:20241027T010000
END:STANDARD
BEGIN:DAYLIGHT
TZOFFSETFROM:+0200
TZOFFSETTO:+0300
TZNAME:EEST
DTSTART:20250330T010000
END:DAYLIGHT
BEGIN:STANDARD
TZOFFSETFROM:+0300
TZOFFSETTO:+0200
TZNAME:EET
DTSTART:20251026T010000
END:STANDARD
BEGIN:DAYLIGHT
TZOFFSETFROM:+0200
TZOFFSETTO:+0300
TZNAME:EEST
DTSTART:20260329T010000
END:DAYLIGHT
BEGIN:STANDARD
TZOFFSETFROM:+0300
TZOFFSETTO:+0200
TZNAME:EET
DTSTART:20261025T010000
END:STANDARD
END:VTIMEZONE
BEGIN:VEVENT
DTSTART;TZID=Europe/Athens:20260323T180000
DTEND;TZID=Europe/Athens:20260323T180000
DTSTAMP:20260420T072552
CREATED:20260316T085022Z
LAST-MODIFIED:20260316T085022Z
UID:10000594-1774288800-1774288800@culture.monemvasia.gov.gr
SUMMARY:Ημερίδα ΥΠΕΡΤΑΣΗ & ΧΟΛΗΣΤΕΡΙΝΗ
DESCRIPTION:Πληροφορίες Διεξαγωγής\nΗμερομηνία & Ώρα: Δευτέρα 23 Μαρτίου 2026 • Ώρα 18:00 \nΤοποθεσία: ΛΕΣΧΗ ΦΙΛΙΑΣ ΜΟΝΕΜΒΑΣΙΑΣ \nΠληροφορίες Ομιλητή\nΚεντρικός Ομιλητής ο Ειδικός Καρδιολόγος \nΒΑΣΙΛΕΙΟΣ ΚΑΠΑΓΙΑΝΝΗΣ\nΕιδικός Καρδιολόγος \nΕπιστημονικός Υπεύθυνος του Κέντρου Cardio-Help & Επιμελητής Α’ της ΝΜ Μολάων\nΠρόσθετες Πληροφορίες / Φορείς\nΕίσοδος Ελεύθερη \nΔήμος Μονεμβασίας
URL:https://culture.monemvasia.gov.gr/event/imerida-ypertasi-cholisterini/
LOCATION:Μονεμβασιά
CATEGORIES:Εκδήλωση,Ομιλία
ATTACH;FMTTYPE=image/jpeg:https://culture.monemvasia.gov.gr/wp-content/uploads/2026/03/2026-Hmerida-Ipertasi.avif
END:VEVENT
BEGIN:VEVENT
DTSTART;VALUE=DATE:20250809
DTEND;VALUE=DATE:20250810
DTSTAMP:20260420T072552
CREATED:20250611T090017Z
LAST-MODIFIED:20250611T090017Z
UID:10000355-1754697600-1754783999@culture.monemvasia.gov.gr
SUMMARY:Παρουσίαση του σπηλαίου της Μεταμόρφωσης\, "Η Τρύπα του Βοριά"
DESCRIPTION:Παρουσίαση του σπηλαίου της Μεταμόρφωσης\, “Η Τρύπα του Βοριά”. Παρουσίαση του σπηλαίου από τον Εξερευνητικό Σύλλογο Σπηλαίων και Φαραγγιών – “Θησέας”. Ομιλία για το σπήλαιο και προβολή οπτικο-ακουστικού υλικού.
URL:https://culture.monemvasia.gov.gr/event/parousiasi-tou-spilaiou-tis-metamorfosis-i-trypa-tou-voria/
LOCATION:Μεταμόρφωση\, Μεταμόρφωση\, Λακωνία\, 23052\, Ελλάδα
CATEGORIES:Εκδήλωση,Ομιλία
ATTACH;FMTTYPE=image/jpeg:https://culture.monemvasia.gov.gr/wp-content/uploads/2024/06/event-default-jpg.webp
END:VEVENT
BEGIN:VEVENT
DTSTART;TZID=Europe/Athens:20250705T200000
DTEND;TZID=Europe/Athens:20250705T200000
DTSTAMP:20260420T072552
CREATED:20250610T090416Z
LAST-MODIFIED:20250614T132048Z
UID:10000313-1751745600-1751745600@culture.monemvasia.gov.gr
SUMMARY:Ναυτική Εβδομάδα 2025 - Ομιλιά και μουσική εκδήλωση από τον Ν.Ο.Β.
DESCRIPTION:1. Ομιλία με θέμα “Ιστιοπλοΐα και Θάλασσα”\, ώρα 20:00\n2. Μουσική Εκδήλωση\, ώρα 21:30 με Γιώργο Μανουσέλη στο Λαούτο και Νίκο Κοντάλιπο στο Μπουζούκι
URL:https://culture.monemvasia.gov.gr/event/naftiki-evdomada-2025-omilia-kai-mousiki-ekdilosi-apo-ton-n-o-v/
LOCATION:Αυλόσπηλος\, Νεάπολη\, Αυλόσπηλος\, Νεάπολη\, Λακωνία\, 23053
CATEGORIES:Εκδήλωση,Μουσική,Ομιλία
ATTACH;FMTTYPE=image/jpeg:https://culture.monemvasia.gov.gr/wp-content/uploads/2025/06/IMG-5ac602f0277a2fd5fcb40ef6026522e4-V.avif
END:VEVENT
BEGIN:VEVENT
DTSTART;TZID=Europe/Athens:20250703T100000
DTEND;TZID=Europe/Athens:20250703T130000
DTSTAMP:20260420T072552
CREATED:20250623T161900Z
LAST-MODIFIED:20250623T161900Z
UID:10000449-1751536800-1751547600@culture.monemvasia.gov.gr
SUMMARY:Ομιλία "Χρόνια Φλεβική Νόσος: Ολα όσα πρέπει να γνωρίζω"
DESCRIPTION:Τρίτη 1/7/2025\, ώρα: 19:00 – 20:00 Ενημερωτική ομιλία\, Ξενοδοχείο Limira Mare\n•Χρόνια Φλεβική Νόσος: Ολα όσα πρέπει να γνωρίζω\nΕισηγητής: Σπυρίδων Βασδέκης PhD (UK)\, Ομ. Καθηγητής Αγγειοχειρουργικής ΕΚΠΑ\n■Το κοινωνικό πρόσωπο της πρόληψης στην Ελλάδα\nΕισηγήτρια: Μέμη Τσεκούρα\, Πρόεδρος Συλλόγου Σκελετικής Υγείας Πεταλούδα\nΤετάρτη 2 & Πέμπτη 3/7/2025 Προληπτικές εξετάσεις (triplex φλεβών)\n•Τετάρτη 2/7: 10:00 – 13:00\n•Πέμπτη 3/7: 10:00-13:00\nΟι εξετάσεις πραγματοποιούνται κατόπιν ραντεβού και προηγούνται όσοι συμμετάσχουν στην ομιλία\nτης Τρίτης 1/7\, καθώς υπάρχει περιορισμένος αριθμός θέσεων. Για περισσότερες πληροφορίες καλέστε\nστο τηλέφωνο: 2734360112 και 2734360132.
URL:https://culture.monemvasia.gov.gr/event/omilia-chronia-fleviki-nosos-ola-osa-prepei-na-gnorizo/2025-07-03/
CATEGORIES:Εκδήλωση,Ομιλία
ATTACH;FMTTYPE=image/jpeg:https://culture.monemvasia.gov.gr/wp-content/uploads/2025/06/fleviki-nosos-2025.avif
END:VEVENT
BEGIN:VEVENT
DTSTART;TZID=Europe/Athens:20250702T100000
DTEND;TZID=Europe/Athens:20250702T130000
DTSTAMP:20260420T072552
CREATED:20250623T161900Z
LAST-MODIFIED:20250623T161900Z
UID:10000448-1751450400-1751461200@culture.monemvasia.gov.gr
SUMMARY:Ομιλία "Χρόνια Φλεβική Νόσος: Ολα όσα πρέπει να γνωρίζω"
DESCRIPTION:Τρίτη 1/7/2025\, ώρα: 19:00 – 20:00 Ενημερωτική ομιλία\, Ξενοδοχείο Limira Mare\n•Χρόνια Φλεβική Νόσος: Ολα όσα πρέπει να γνωρίζω\nΕισηγητής: Σπυρίδων Βασδέκης PhD (UK)\, Ομ. Καθηγητής Αγγειοχειρουργικής ΕΚΠΑ\n■Το κοινωνικό πρόσωπο της πρόληψης στην Ελλάδα\nΕισηγήτρια: Μέμη Τσεκούρα\, Πρόεδρος Συλλόγου Σκελετικής Υγείας Πεταλούδα\nΤετάρτη 2 & Πέμπτη 3/7/2025 Προληπτικές εξετάσεις (triplex φλεβών)\n•Τετάρτη 2/7: 10:00 – 13:00\n•Πέμπτη 3/7: 10:00-13:00\nΟι εξετάσεις πραγματοποιούνται κατόπιν ραντεβού και προηγούνται όσοι συμμετάσχουν στην ομιλία\nτης Τρίτης 1/7\, καθώς υπάρχει περιορισμένος αριθμός θέσεων. Για περισσότερες πληροφορίες καλέστε\nστο τηλέφωνο: 2734360112 και 2734360132.
URL:https://culture.monemvasia.gov.gr/event/omilia-chronia-fleviki-nosos-ola-osa-prepei-na-gnorizo/2025-07-02/
CATEGORIES:Εκδήλωση,Ομιλία
ATTACH;FMTTYPE=image/jpeg:https://culture.monemvasia.gov.gr/wp-content/uploads/2025/06/fleviki-nosos-2025.avif
END:VEVENT
BEGIN:VEVENT
DTSTART;TZID=Europe/Athens:20250701T190000
DTEND;TZID=Europe/Athens:20250701T200000
DTSTAMP:20260420T072552
CREATED:20250623T161900Z
LAST-MODIFIED:20250623T161900Z
UID:10000447-1751396400-1751400000@culture.monemvasia.gov.gr
SUMMARY:Ομιλία "Χρόνια Φλεβική Νόσος: Ολα όσα πρέπει να γνωρίζω"
DESCRIPTION:Τρίτη 1/7/2025\, ώρα: 19:00 – 20:00 Ενημερωτική ομιλία\, Ξενοδοχείο Limira Mare\n•Χρόνια Φλεβική Νόσος: Ολα όσα πρέπει να γνωρίζω\nΕισηγητής: Σπυρίδων Βασδέκης PhD (UK)\, Ομ. Καθηγητής Αγγειοχειρουργικής ΕΚΠΑ\n■Το κοινωνικό πρόσωπο της πρόληψης στην Ελλάδα\nΕισηγήτρια: Μέμη Τσεκούρα\, Πρόεδρος Συλλόγου Σκελετικής Υγείας Πεταλούδα\nΤετάρτη 2 & Πέμπτη 3/7/2025 Προληπτικές εξετάσεις (triplex φλεβών)\n•Τετάρτη 2/7: 10:00 – 13:00\n•Πέμπτη 3/7: 10:00-13:00\nΟι εξετάσεις πραγματοποιούνται κατόπιν ραντεβού και προηγούνται όσοι συμμετάσχουν στην ομιλία\nτης Τρίτης 1/7\, καθώς υπάρχει περιορισμένος αριθμός θέσεων. Για περισσότερες πληροφορίες καλέστε\nστο τηλέφωνο: 2734360112 και 2734360132.
URL:https://culture.monemvasia.gov.gr/event/omilia-chronia-fleviki-nosos-ola-osa-prepei-na-gnorizo/2025-07-01/
CATEGORIES:Εκδήλωση,Ομιλία
ATTACH;FMTTYPE=image/jpeg:https://culture.monemvasia.gov.gr/wp-content/uploads/2025/06/fleviki-nosos-2025.avif
END:VEVENT
BEGIN:VEVENT
DTSTART;TZID=Europe/Athens:20250622T190000
DTEND;TZID=Europe/Athens:20250622T200000
DTSTAMP:20260420T072552
CREATED:20250611T082212Z
LAST-MODIFIED:20250611T082212Z
UID:10000351-1750618800-1750622400@culture.monemvasia.gov.gr
SUMMARY:Τα Αρχεία της π. Επιδαύρου Λιμηράς
DESCRIPTION:Τα Γενικά Αρχεία του Κράτους (Γ.Α.Κ.) Τμήμα Λακωνίας σε συνεργασία με τον Δήμο Μονεμβασίας με αφορμή τη Διεθνή Ημέρα Αρχείων (9 Ιουνίου)\, σας προσκαλούν σε μια σειρά ανοιχτών δράσεων με θέμα:“Τα Αρχεία της π. Επιδαύρου Λιμηράς” \nΠρόγραμμα Δράσεων: \nΔευτέρα 16 Ιουνίου 2025 | Ενοριακό Πνευματικό Κέντρο Μολάων | Ώρα: 18.30 \n\nΒιωματικό Εργαστήριο με θέμα:\n\n«Βρίσκοντας τους προγόνους μου σε ψηφιακά αρχεία των Γ.Α.Κ. Λακωνίας»\n\n\nΥλοποίηση: Μαρία Στελλάκου\, δ. Υπάλληλος Γ.Α.Κ. Τμήμα Λακωνίας\n\n(Επιθυμητή η κράτηση θέσης / Τηλέφωνο Επικοινωνίας: 2731022884)\n\n\n\nΠέμπτη 19 Ιουνίου 2025 | Ενοριακό Πνευματικό Κέντρο Μολάων | Ώρα: 10.00 – 13.00 \n\nΕργαστήριο με θέμα:\n\n«Προσεγγίζοντας την ιστορία των Παλαιών Σχολείων των Μολάων\, 1850 – 1945»\n\n\nΥλοποίηση: Ηλέκτρα Πρώιμου\, Ταξινόμος Γ.Α.Κ. Τμήμα Λακωνίας\n\nΚυριακή 22 Ιουνίου 2025 | Ενοριακό Πνευματικό Κέντρο Μολάων | Ώρα: 19.00 – 20.00 \n\nΟμιλίες με θέμα:\n\n«Στα αναγνωστήρια των Γ.Α.Κ. Λακωνίας…»\n\n\nΣυντονισμός: Μιχάλης Σόβολος\, Αρχειονόμος/ Προϊστάμενος Γ.Α.Κ. – Τμήμα Λακωνίας\n\nΟμιλητές:\n\n\nΣταματίνα Παπαγεωργίου\, Εκπαιδευτικός \n\nμε θέμα: “Γνωρίζω τον τόπο μου. Η διαμόρφωση της Επιδαύρου Λιμηράς μέσα από διοικητικά έγγραφα και δημοσιεύματα του Τύπου”\n\n\n\nΧρήστος Κοντάκος\, π. Πρόεδρος της Διεθνούς Ενώσεως Αστυνομικών Ελλάδος \n\nμε θέμα: “Συγγράφοντας άρθρο για ένα περιστατικό πειρατείας στη Μονεμβασία\, 5 Ιουλίου 1822”\n\n\n\nΜαρία Μυλωνά\, Ιστορική Ερευνήτρια \n\nμε θέμα: “Η κοινωνία της Επιδαύρου Λιμηράς αμέσως μετά την Επανάσταση του 1821 μέσα από τις συμβολαιογραφικές πράξεις των Γ.Α.Κ. Λακωνίας”
URL:https://culture.monemvasia.gov.gr/event/ta-archeia-tis-p-epidavrou-limiras/2025-06-22/
LOCATION:Μολάοι\, Ενοριακό Πνευματικό Κέντρο
CATEGORIES:Εκδήλωση,Ομιλία
ATTACH;FMTTYPE=image/jpeg:https://culture.monemvasia.gov.gr/wp-content/uploads/2025/06/2025-genika-arxeia-kratous.avif
END:VEVENT
BEGIN:VEVENT
DTSTART;TZID=Europe/Athens:20250619T100000
DTEND;TZID=Europe/Athens:20250619T130000
DTSTAMP:20260420T072552
CREATED:20250611T082212Z
LAST-MODIFIED:20250611T082212Z
UID:10000350-1750327200-1750338000@culture.monemvasia.gov.gr
SUMMARY:Τα Αρχεία της π. Επιδαύρου Λιμηράς
DESCRIPTION:Τα Γενικά Αρχεία του Κράτους (Γ.Α.Κ.) Τμήμα Λακωνίας σε συνεργασία με τον Δήμο Μονεμβασίας με αφορμή τη Διεθνή Ημέρα Αρχείων (9 Ιουνίου)\, σας προσκαλούν σε μια σειρά ανοιχτών δράσεων με θέμα:“Τα Αρχεία της π. Επιδαύρου Λιμηράς” \nΠρόγραμμα Δράσεων: \nΔευτέρα 16 Ιουνίου 2025 | Ενοριακό Πνευματικό Κέντρο Μολάων | Ώρα: 18.30 \n\nΒιωματικό Εργαστήριο με θέμα:\n\n«Βρίσκοντας τους προγόνους μου σε ψηφιακά αρχεία των Γ.Α.Κ. Λακωνίας»\n\n\nΥλοποίηση: Μαρία Στελλάκου\, δ. Υπάλληλος Γ.Α.Κ. Τμήμα Λακωνίας\n\n(Επιθυμητή η κράτηση θέσης / Τηλέφωνο Επικοινωνίας: 2731022884)\n\n\n\nΠέμπτη 19 Ιουνίου 2025 | Ενοριακό Πνευματικό Κέντρο Μολάων | Ώρα: 10.00 – 13.00 \n\nΕργαστήριο με θέμα:\n\n«Προσεγγίζοντας την ιστορία των Παλαιών Σχολείων των Μολάων\, 1850 – 1945»\n\n\nΥλοποίηση: Ηλέκτρα Πρώιμου\, Ταξινόμος Γ.Α.Κ. Τμήμα Λακωνίας\n\nΚυριακή 22 Ιουνίου 2025 | Ενοριακό Πνευματικό Κέντρο Μολάων | Ώρα: 19.00 – 20.00 \n\nΟμιλίες με θέμα:\n\n«Στα αναγνωστήρια των Γ.Α.Κ. Λακωνίας…»\n\n\nΣυντονισμός: Μιχάλης Σόβολος\, Αρχειονόμος/ Προϊστάμενος Γ.Α.Κ. – Τμήμα Λακωνίας\n\nΟμιλητές:\n\n\nΣταματίνα Παπαγεωργίου\, Εκπαιδευτικός \n\nμε θέμα: “Γνωρίζω τον τόπο μου. Η διαμόρφωση της Επιδαύρου Λιμηράς μέσα από διοικητικά έγγραφα και δημοσιεύματα του Τύπου”\n\n\n\nΧρήστος Κοντάκος\, π. Πρόεδρος της Διεθνούς Ενώσεως Αστυνομικών Ελλάδος \n\nμε θέμα: “Συγγράφοντας άρθρο για ένα περιστατικό πειρατείας στη Μονεμβασία\, 5 Ιουλίου 1822”\n\n\n\nΜαρία Μυλωνά\, Ιστορική Ερευνήτρια \n\nμε θέμα: “Η κοινωνία της Επιδαύρου Λιμηράς αμέσως μετά την Επανάσταση του 1821 μέσα από τις συμβολαιογραφικές πράξεις των Γ.Α.Κ. Λακωνίας”
URL:https://culture.monemvasia.gov.gr/event/ta-archeia-tis-p-epidavrou-limiras/2025-06-19/
LOCATION:Μολάοι\, Ενοριακό Πνευματικό Κέντρο
CATEGORIES:Εκδήλωση,Ομιλία
ATTACH;FMTTYPE=image/jpeg:https://culture.monemvasia.gov.gr/wp-content/uploads/2025/06/2025-genika-arxeia-kratous.avif
END:VEVENT
BEGIN:VEVENT
DTSTART;TZID=Europe/Athens:20250616T183000
DTEND;TZID=Europe/Athens:20250616T183000
DTSTAMP:20260420T072552
CREATED:20250611T082212Z
LAST-MODIFIED:20250611T082212Z
UID:10000349-1750098600-1750098600@culture.monemvasia.gov.gr
SUMMARY:Τα Αρχεία της π. Επιδαύρου Λιμηράς
DESCRIPTION:Τα Γενικά Αρχεία του Κράτους (Γ.Α.Κ.) Τμήμα Λακωνίας σε συνεργασία με τον Δήμο Μονεμβασίας με αφορμή τη Διεθνή Ημέρα Αρχείων (9 Ιουνίου)\, σας προσκαλούν σε μια σειρά ανοιχτών δράσεων με θέμα:“Τα Αρχεία της π. Επιδαύρου Λιμηράς” \nΠρόγραμμα Δράσεων: \nΔευτέρα 16 Ιουνίου 2025 | Ενοριακό Πνευματικό Κέντρο Μολάων | Ώρα: 18.30 \n\nΒιωματικό Εργαστήριο με θέμα:\n\n«Βρίσκοντας τους προγόνους μου σε ψηφιακά αρχεία των Γ.Α.Κ. Λακωνίας»\n\n\nΥλοποίηση: Μαρία Στελλάκου\, δ. Υπάλληλος Γ.Α.Κ. Τμήμα Λακωνίας\n\n(Επιθυμητή η κράτηση θέσης / Τηλέφωνο Επικοινωνίας: 2731022884)\n\n\n\nΠέμπτη 19 Ιουνίου 2025 | Ενοριακό Πνευματικό Κέντρο Μολάων | Ώρα: 10.00 – 13.00 \n\nΕργαστήριο με θέμα:\n\n«Προσεγγίζοντας την ιστορία των Παλαιών Σχολείων των Μολάων\, 1850 – 1945»\n\n\nΥλοποίηση: Ηλέκτρα Πρώιμου\, Ταξινόμος Γ.Α.Κ. Τμήμα Λακωνίας\n\nΚυριακή 22 Ιουνίου 2025 | Ενοριακό Πνευματικό Κέντρο Μολάων | Ώρα: 19.00 – 20.00 \n\nΟμιλίες με θέμα:\n\n«Στα αναγνωστήρια των Γ.Α.Κ. Λακωνίας…»\n\n\nΣυντονισμός: Μιχάλης Σόβολος\, Αρχειονόμος/ Προϊστάμενος Γ.Α.Κ. – Τμήμα Λακωνίας\n\nΟμιλητές:\n\n\nΣταματίνα Παπαγεωργίου\, Εκπαιδευτικός \n\nμε θέμα: “Γνωρίζω τον τόπο μου. Η διαμόρφωση της Επιδαύρου Λιμηράς μέσα από διοικητικά έγγραφα και δημοσιεύματα του Τύπου”\n\n\n\nΧρήστος Κοντάκος\, π. Πρόεδρος της Διεθνούς Ενώσεως Αστυνομικών Ελλάδος \n\nμε θέμα: “Συγγράφοντας άρθρο για ένα περιστατικό πειρατείας στη Μονεμβασία\, 5 Ιουλίου 1822”\n\n\n\nΜαρία Μυλωνά\, Ιστορική Ερευνήτρια \n\nμε θέμα: “Η κοινωνία της Επιδαύρου Λιμηράς αμέσως μετά την Επανάσταση του 1821 μέσα από τις συμβολαιογραφικές πράξεις των Γ.Α.Κ. Λακωνίας”
URL:https://culture.monemvasia.gov.gr/event/ta-archeia-tis-p-epidavrou-limiras/2025-06-16/
LOCATION:Μολάοι\, Ενοριακό Πνευματικό Κέντρο
CATEGORIES:Εκδήλωση,Ομιλία
ATTACH;FMTTYPE=image/jpeg:https://culture.monemvasia.gov.gr/wp-content/uploads/2025/06/2025-genika-arxeia-kratous.avif
END:VEVENT
BEGIN:VEVENT
DTSTART;TZID=Europe/Athens:20240728T210000
DTEND;TZID=Europe/Athens:20240728T210000
DTSTAMP:20260420T072553
CREATED:20240708T094646Z
LAST-MODIFIED:20240714T160700Z
UID:10000052-1722200400-1722200400@culture.monemvasia.gov.gr
SUMMARY:Ομιλία με θέμα την ψυχική υγεία στα Φούτια
DESCRIPTION:Ομιλία με θέμα την ψυχική υγεία με ομιλήτρια την Γεωργιλή Ασπασία.
URL:https://culture.monemvasia.gov.gr/event/omilia-me-thema-tin-psychiki-ygeia-sta-foutia/
LOCATION:Φούτια\, Φούτια\, Λακωνία\, Ελλάδα
CATEGORIES:Ομιλία
ATTACH;FMTTYPE=image/jpeg:https://culture.monemvasia.gov.gr/wp-content/uploads/2024/06/event-default-jpg.webp
END:VEVENT
END:VCALENDAR