BEGIN:VCALENDAR
VERSION:2.0
PRODID:-//Δήμος Μονεμβασίας - Πολιτισμός - ECPv6.6.3//NONSGML v1.0//EN
CALSCALE:GREGORIAN
METHOD:PUBLISH
X-WR-CALNAME:Δήμος Μονεμβασίας - Πολιτισμός
X-ORIGINAL-URL:https://culture.monemvasia.gov.gr
X-WR-CALDESC:Δήμος Μονεμβασίας - Πολιτισμός - Εκδηλώσεις
REFRESH-INTERVAL;VALUE=DURATION:PT1H
X-Robots-Tag:noindex
X-PUBLISHED-TTL:PT1H
BEGIN:VTIMEZONE
TZID:Europe/Athens
BEGIN:DAYLIGHT
TZOFFSETFROM:+0200
TZOFFSETTO:+0300
TZNAME:EEST
DTSTART:20240331T010000
END:DAYLIGHT
BEGIN:STANDARD
TZOFFSETFROM:+0300
TZOFFSETTO:+0200
TZNAME:EET
DTSTART:20241027T010000
END:STANDARD
END:VTIMEZONE
BEGIN:VEVENT
DTSTART;TZID=Europe/Athens:20240810T210000
DTEND;TZID=Europe/Athens:20240810T210000
DTSTAMP:20260420T011305
CREATED:20240712T095147Z
LAST-MODIFIED:20240806T091625Z
UID:10000119-1723323600-1723323600@culture.monemvasia.gov.gr
SUMMARY:1η Συνάντηση Χορωδιών  "Η Μουσική Ενώνει...." στην Πλύτρα
DESCRIPTION:1η Συνάντηση Χορωδιών “Η Μουσική Ενώνει….” στην Πλύτρα
URL:https://culture.monemvasia.gov.gr/event/1i-synantisi-chorodion-i-mousiki-enonei-stin-plytra/
LOCATION:Πλύτρα\, Πλύτρα\, Λακωνία\, 23052\, Ελλάδα
CATEGORIES:Συναυλία
ATTACH;FMTTYPE=image/jpeg:https://culture.monemvasia.gov.gr/wp-content/uploads/2024/07/1H-SINANTISI-XORODION-jpg.webp
END:VEVENT
BEGIN:VEVENT
DTSTART;TZID=Europe/Athens:20240812T213000
DTEND;TZID=Europe/Athens:20240812T213000
DTSTAMP:20260420T011305
CREATED:20240712T192052Z
LAST-MODIFIED:20240712T192052Z
UID:10000138-1723498200-1723498200@culture.monemvasia.gov.gr
SUMMARY:Συναυλία με τους Bejeesus band στη Νεάπολη
DESCRIPTION:Συναυλία με τους Bejeesus band στη Νεάπολη από τον Ναυτικό Όμιλο Βοιών
URL:https://culture.monemvasia.gov.gr/event/synavlia-me-tous-bejeesus-band-sti-neapoli/
LOCATION:Καρνάγιο Νεάπολη\, Καρνάγιο\, Νεάπολη\, Λακωνία\, 23053\, Ελλάδα
CATEGORIES:Συναυλία
ATTACH;FMTTYPE=image/jpeg:https://culture.monemvasia.gov.gr/wp-content/uploads/2024/06/event-default-jpg.webp
GEO:36.505915542548;23.063950318911
X-APPLE-STRUCTURED-LOCATION;VALUE=URI;X-ADDRESS=Καρνάγιο Νεάπολη Καρνάγιο Νεάπολη Λακωνία 23053 Ελλάδα;X-APPLE-RADIUS=500;X-TITLE=Καρνάγιο:geo:23.063950318911,36.505915542548
END:VEVENT
BEGIN:VEVENT
DTSTART;TZID=Europe/Athens:20240818T220000
DTEND;TZID=Europe/Athens:20240818T220000
DTSTAMP:20260420T011305
CREATED:20240715T091502Z
LAST-MODIFIED:20240718T200842Z
UID:10000186-1724018400-1724018400@culture.monemvasia.gov.gr
SUMMARY:Όστρια - Γιορτές του Νότου - Συναυλία με τα Κιντέρια
DESCRIPTION:“Όστρια – Γιορτές του Νότου” – Συναυλία Δανάη Κιντέρια Παραδοσιακά \nΣτις 18 Αυγούστου\, τα Κιντέρια θα συνοδεύσουν με παραδοσιακές μουσικές το γλέντι του καλοκαιριού\, κάτω από το φωτισμένο Κάστρο της Αγίας Παρασκευής\, στο Μεσοχώρι.\nΑγία Παρασκευή\, Μεσοχώρι
URL:https://culture.monemvasia.gov.gr/event/ostria-giortes-tou-notou-synavlia-me-ta-kinteria/
LOCATION:Αγία Παρασκευή\, Μεσοχώρι\, Ι.Ν Αγίας Παρασκευής\, Μεσοχώρι\, Λακωνία\, 23053\, Ελλάδα
CATEGORIES:Συναυλία
ATTACH;FMTTYPE=image/jpeg:https://culture.monemvasia.gov.gr/wp-content/uploads/2024/07/18-8-kinteria-ostria-jpg.webp
END:VEVENT
BEGIN:VEVENT
DTSTART;TZID=Europe/Athens:20240820T210000
DTEND;TZID=Europe/Athens:20240820T210000
DTSTAMP:20260420T011305
CREATED:20240715T093208Z
LAST-MODIFIED:20240715T093208Z
UID:10000191-1724187600-1724187600@culture.monemvasia.gov.gr
SUMMARY:Λαϊκή Βραδιά - Συναυλία με τον Σπύρο Κουτσοβασίλη και την Ειρήνη Χριστοφυλάκη στον Ασωπό
DESCRIPTION:Λαϊκή Βραδιά – Συναυλία με τον Σπύρο Κουτσοβασίλη και την Ειρήνη Χριστοφυλάκη στον Ασωπό
URL:https://culture.monemvasia.gov.gr/event/laiki-vradia-synavlia-me-ton-spyro-koutsovasili-kai-tin-eirini-christofylaki-ston-asopo/
LOCATION:Ασωπός\, Ασωπός\, Λακωνία\, Ελλάδα
CATEGORIES:Μουσική,Συναυλία
ATTACH;FMTTYPE=image/jpeg:https://culture.monemvasia.gov.gr/wp-content/uploads/2024/06/event-default-jpg.webp
END:VEVENT
BEGIN:VEVENT
DTSTART;TZID=Europe/Athens:20240822T210000
DTEND;TZID=Europe/Athens:20240822T210000
DTSTAMP:20260420T011305
CREATED:20240715T093326Z
LAST-MODIFIED:20240802T161417Z
UID:10000192-1724360400-1724360400@culture.monemvasia.gov.gr
SUMMARY:Λαϊκή Βραδιά - Συναυλία με τον Σπύρο Κουτσοβασίλη και την Ειρήνη Χριστοφυλάκη στην Ρειχιά
DESCRIPTION:Λαϊκή Βραδιά – Συναυλία με τον Σπύρο Κουτσοβασίλη και την Ειρήνη Χριστοφυλάκη στην Ρειχιά
URL:https://culture.monemvasia.gov.gr/event/laiki-vradia-synavlia-me-ton-spyro-koutsovasili-kai-tin-eirini-christofylaki-stin-reichia/
LOCATION:Ασωπός\, Ασωπός\, Λακωνία\, Ελλάδα
CATEGORIES:Μουσική,Συναυλία
ATTACH;FMTTYPE=image/jpeg:https://culture.monemvasia.gov.gr/wp-content/uploads/2024/06/event-default-jpg.webp
END:VEVENT
BEGIN:VEVENT
DTSTART;TZID=Europe/Athens:20240827T210000
DTEND;TZID=Europe/Athens:20240827T210000
DTSTAMP:20260420T011305
CREATED:20240802T161229Z
LAST-MODIFIED:20240826T171742Z
UID:10000215-1724792400-1724792400@culture.monemvasia.gov.gr
SUMMARY:Συναυλία με τον Ζαχαρία Καρούνη στο Κάστρο Αγίας Παρασκευής
DESCRIPTION:Συναυλία με τον Ζαχαρία Καρούνη
URL:https://culture.monemvasia.gov.gr/event/synavlia-me-ton-zacharia-karouni-sti-neapoli/
LOCATION:Νεάπολη\, Νεάπολη\, 23053\, Ελλάδα
CATEGORIES:Συναυλία
ATTACH;FMTTYPE=image/jpeg:https://culture.monemvasia.gov.gr/wp-content/uploads/2024/08/FB_IMG_1724692521464-jpg.webp
END:VEVENT
END:VCALENDAR