BEGIN:VCALENDAR
VERSION:2.0
PRODID:-//Δήμος Μονεμβασίας - Πολιτισμός - ECPv6.6.3//NONSGML v1.0//EN
CALSCALE:GREGORIAN
METHOD:PUBLISH
X-WR-CALNAME:Δήμος Μονεμβασίας - Πολιτισμός
X-ORIGINAL-URL:https://culture.monemvasia.gov.gr
X-WR-CALDESC:Δήμος Μονεμβασίας - Πολιτισμός - Εκδηλώσεις
REFRESH-INTERVAL;VALUE=DURATION:PT1H
X-Robots-Tag:noindex
X-PUBLISHED-TTL:PT1H
BEGIN:VTIMEZONE
TZID:Europe/Athens
BEGIN:DAYLIGHT
TZOFFSETFROM:+0200
TZOFFSETTO:+0300
TZNAME:EEST
DTSTART:20250330T010000
END:DAYLIGHT
BEGIN:STANDARD
TZOFFSETFROM:+0300
TZOFFSETTO:+0200
TZNAME:EET
DTSTART:20251026T010000
END:STANDARD
END:VTIMEZONE
BEGIN:VEVENT
DTSTART;TZID=Europe/Athens:20250302T193000
DTEND;TZID=Europe/Athens:20250302T193000
DTSTAMP:20260419T150108
CREATED:20250210T193838Z
LAST-MODIFIED:20250213T072759Z
UID:10000275-1740943800-1740943800@culture.monemvasia.gov.gr
SUMMARY:Μουσική Παράσταση με την Άρτεμη Ματαφιά στο Κάστρο Μονεμβασίας
DESCRIPTION:Μουσική Παράσταση με την Άρτεμη Ματαφιά\, με διεθνές κι ελληνικό ρεπερτόριο Jazz\, Pop & Rock style. Συνοδεύει στο πιάνο ο Κώστας Γιαξόγλου – κιθάρες Σωτήρης Καστάνης. \nΔιοργάνωση: Δήμος Μονεμβασίας
URL:https://culture.monemvasia.gov.gr/event/mousiki-parastasi-me-tin-artemi-matafia-sto-kastro-monemvasias/
LOCATION:Κάστρο Μονεμβασιάς\, Κάστρο Μονεμβασιάς
CATEGORIES:Απόκριες,Εκδήλωση,Συναυλία
ATTACH;FMTTYPE=image/png:https://culture.monemvasia.gov.gr/wp-content/uploads/2025/02/artemis-monemvasia_post_instagram-png.avif
END:VEVENT
END:VCALENDAR