BEGIN:VCALENDAR
VERSION:2.0
PRODID:-//Δήμος Μονεμβασίας - Πολιτισμός - ECPv6.6.3//NONSGML v1.0//EN
CALSCALE:GREGORIAN
METHOD:PUBLISH
X-ORIGINAL-URL:https://culture.monemvasia.gov.gr
X-WR-CALDESC:Δήμος Μονεμβασίας - Πολιτισμός - Εκδηλώσεις
REFRESH-INTERVAL;VALUE=DURATION:PT1H
X-Robots-Tag:noindex
X-PUBLISHED-TTL:PT1H
BEGIN:VTIMEZONE
TZID:Europe/Athens
BEGIN:DAYLIGHT
TZOFFSETFROM:+0200
TZOFFSETTO:+0300
TZNAME:EEST
DTSTART:20240331T010000
END:DAYLIGHT
BEGIN:STANDARD
TZOFFSETFROM:+0300
TZOFFSETTO:+0200
TZNAME:EET
DTSTART:20241027T010000
END:STANDARD
BEGIN:DAYLIGHT
TZOFFSETFROM:+0200
TZOFFSETTO:+0300
TZNAME:EEST
DTSTART:20250330T010000
END:DAYLIGHT
BEGIN:STANDARD
TZOFFSETFROM:+0300
TZOFFSETTO:+0200
TZNAME:EET
DTSTART:20251026T010000
END:STANDARD
END:VTIMEZONE
BEGIN:VEVENT
DTSTART;TZID=Europe/Athens:20250624T210000
DTEND;TZID=Europe/Athens:20250624T210000
DTSTAMP:20260421T141409
CREATED:20250610T080127Z
LAST-MODIFIED:20250622T195652Z
UID:10000294-1750798800-1750798800@culture.monemvasia.gov.gr
SUMMARY:Αθλητική Εκδήλωση - Επίδειξη στα Παπαδιάνικα
DESCRIPTION:Αθλητική Εκδήλωση – Επίδειξη από τον Αθλητικό Σύλλογο ΟΚΙΝΑΟΥΑ ΚΑΡΑΤΕ\, ΖΙΟΥ ΖΙΤΣΟΥ\, ΠΑΓΚΡΑΤΙΟΥ “ΤΟ ΥΠΕΡΤΕΛΕΑΤΟΝ”
URL:https://culture.monemvasia.gov.gr/event/athlitiki-ekdilosi-epideixi-sta-papadianika/
LOCATION:Παπαδιάνικα\, Παπαδιάνικα
CATEGORIES:Αθλητισμός,Εκδήλωση
ATTACH;FMTTYPE=image/jpeg:https://culture.monemvasia.gov.gr/wp-content/uploads/2025/06/FB_IMG_1750622065604.avif
END:VEVENT
BEGIN:VEVENT
DTSTART;TZID=Europe/Athens:20240707T203000
DTEND;TZID=Europe/Athens:20240707T203000
DTSTAMP:20260421T141409
CREATED:20240704T185423Z
LAST-MODIFIED:20240704T185522Z
UID:10000034-1720384200-1720384200@culture.monemvasia.gov.gr
SUMMARY:Επίδειξη Μαχητικών Τεχνών στο Φοίνικι
DESCRIPTION:Επίδειξη Μαχητικών Τεχνών στο Φοίνικι
URL:https://culture.monemvasia.gov.gr/event/epideixi-machitikon-technon-sto-foiniki/
LOCATION:Φοινίκι\, Φοινίκι\, Λακωνία\, 23052\, Ελλάδα
CATEGORIES:Αθλητισμός
ATTACH;FMTTYPE=image/jpeg:https://culture.monemvasia.gov.gr/wp-content/uploads/2024/07/2024-04-08-jpg.webp
END:VEVENT
END:VCALENDAR