BEGIN:VCALENDAR
VERSION:2.0
PRODID:-//Δήμος Μονεμβασίας - Πολιτισμός - ECPv6.6.3//NONSGML v1.0//EN
CALSCALE:GREGORIAN
METHOD:PUBLISH
X-WR-CALNAME:Δήμος Μονεμβασίας - Πολιτισμός
X-ORIGINAL-URL:https://culture.monemvasia.gov.gr
X-WR-CALDESC:Δήμος Μονεμβασίας - Πολιτισμός - Εκδηλώσεις
REFRESH-INTERVAL;VALUE=DURATION:PT1H
X-Robots-Tag:noindex
X-PUBLISHED-TTL:PT1H
BEGIN:VTIMEZONE
TZID:Europe/Athens
BEGIN:DAYLIGHT
TZOFFSETFROM:+0200
TZOFFSETTO:+0300
TZNAME:EEST
DTSTART:20250330T010000
END:DAYLIGHT
BEGIN:STANDARD
TZOFFSETFROM:+0300
TZOFFSETTO:+0200
TZNAME:EET
DTSTART:20251026T010000
END:STANDARD
BEGIN:DAYLIGHT
TZOFFSETFROM:+0200
TZOFFSETTO:+0300
TZNAME:EEST
DTSTART:20260329T010000
END:DAYLIGHT
BEGIN:STANDARD
TZOFFSETFROM:+0300
TZOFFSETTO:+0200
TZNAME:EET
DTSTART:20261025T010000
END:STANDARD
END:VTIMEZONE
BEGIN:VEVENT
DTSTART;TZID=Europe/Athens:20260220T210000
DTEND;TZID=Europe/Athens:20260220T210000
DTSTAMP:20260425T071918
CREATED:20260207T135558Z
LAST-MODIFIED:20260207T135558Z
UID:10000574-1771621200-1771621200@culture.monemvasia.gov.gr
SUMMARY:Αποκριάτικο Μασκέ Πάρτι (Γυμνάσιο Νεάπολης)
DESCRIPTION:Αποκριάτικο Μασκέ Πάρτι (Γυμνάσιο Νεάπολης): \n\n\nΏρα: Μετά τις 21:00. \n\n\nΤοποθεσία: Stavedo Cafe. \n\n\nΕίσοδος: 8€. \n\n\nΈξτρα: Κοκτέιλ άνευ αλκοόλ για τους μικρούς φίλους.
URL:https://culture.monemvasia.gov.gr/event/apokriatiko-maske-parti-gymnasio-neapolis/
LOCATION:Stavedo\, Νεάπολη
CATEGORIES:Απόκριες,Εκδήλωση
ATTACH;FMTTYPE=image/jpeg:https://culture.monemvasia.gov.gr/wp-content/uploads/2026/02/masque-party-neapoli-gimnasio.avif
END:VEVENT
BEGIN:VEVENT
DTSTART;TZID=Europe/Athens:20250510T170000
DTEND;TZID=Europe/Athens:20250511T130000
DTSTAMP:20260425T071918
CREATED:20250507T092932Z
LAST-MODIFIED:20250507T093214Z
UID:10000281-1746896400-1746968400@culture.monemvasia.gov.gr
SUMMARY:Βατικιώτικος Αγώνας Ζωής 2025
DESCRIPTION:Το ΓΕΛ Νεάπολης\, το 1ο ΕΠΑΛ Βοιών\, το Γυμνάσιο Νεάπολης και το Δημοτικό Σχολείο Νεάπολης σε συνεργασία με το Δήμο Μονεμβασίας διοργανώνουν μια μοναδική δρομική εμπειρία στη Νεάπολη Λακωνίας. \nΤο Σάββατο 10 και την Κυριακή 11 Μαΐου 2025 θα διεξαχθεί στη Νεάπολη Λακωνίας ο ¨13ος ΒΑΤΙΚΙΩΤΙΚΟΣ ΑΓΩΝΑΣ ΖΩΗΣ¨\, σύνθημά μας ¨ΑΓΩΝΑΣ ΖΩΗΣ\, ΔΥΝΑΜΗ ΨΥΧΗΣ¨\nΗ διοργάνωση περιλαμβάνει:\n\nΤο Σάββατο 10 Μαΐου 2025: \n\n17:00 Kids Athletics\n19:00 Ομιλία Διακεκριμένων Αθλητών\n21:00 Pasta Party\n\nκαι την Κυριακή 11 Μαΐου 2025 δύο δρομικά αγωνίσματα: \n\nΑγώνας 10 km\, Ώρα εκκίνησης 09:30.\nΟι αθλητές που θα συμμετέχουν στον αγώνα 10 km θα πρέπει να έχουν ολοκληρώσει τον αγώνα τους εντός του χρονικού oρίου των δύο (02) ωρών.\nAγώνας 03 km\, Ώρα εκκίνησης 10:30.\nΟι αθλητές που θα συμμετέχουν στον αγώνα 03 km θα πρέπει να έχουν ολοκληρώσει τον αγώνα τους εντός του χρονικού oρίου της μίας (01) ώρας.\n\nΗ εκκίνηση όλων των αγώνων θα πραγματοποιηθεί μπροστά στην Ακαδημία Εμπορικού Ναυτικού Λακωνίας (παλαιό Γυμνάσιο Νεάπολης). \n\nΟι δρομείς που θα λάβουν μέρος στον αγώνα 10 km\, θα καλύψουν μια πιστοποιημένη διαδρομή. \nΌροι Συμμετοχής\nΔικαίωμα συμμετοχής στον αγώνα 10 km έχουν ενήλικες και παιδιά άνω των 12 ετών. \n\nΔικαίωμα συμμετοχής στον αγώνα 03 km έχουν ενήλικες και παιδιά άνω των 06 ετών ή μικρότερης ηλικίας με συνοδεία κηδεμόνα ή ενήλικα. \nΟι ενήλικες δρομείς συμμετέχουν με δική τους αποκλειστική ευθύνη και θα πρέπει να έχουν εξεταστεί από γιατρό πριν από τη συμμετοχή τους. \n\nΟι ανήλικοι δρομείς συμμετέχουν με ευθύνη γονέα ή κηδεμόνα ή ιατρική βεβαίωση. \nΈγκυρη θεωρείται η συμμετοχή\, εφόσον έχει γίνει η εγγραφή. \nΕγγραφή\nΤελευταία ημερομηνία εγγραφών θα είναι η Κυριακή 11η Μαΐου 2025\, 15 λεπτά πριν την έναρξη του κάθε αγώνα. \nΓια να γραφτείτε στον αγώνα παρακαλούμε πατήστε στον παρακάτω σύνδεσμό: https://forms.gle/Ra2Dp9EbcYxcQ5cP9 \nΠαραλαβή πακέτου συμμετοχής:\nΓια την παραλαβή των πακέτων συμμετοχής και για τους δύο αγώνες θα λειτουργήσει γραμματεία στην εκκίνηση του αγώνα. \nΏρες λειτουργίας γραμματείας:\nΓια τον αγώνα 10 km το Σάββατο 10/05/2025 από ώρα 17:00 έως 19:00 και την Κυριακή 11/05/2025 από ώρα 07:00 έως 09:15 . \nΓια τον αγώνα 03 km την Κυριακή 11/05/2025 από ώρα 07.00 έως 10:15. \nΣταθμός υποστήριξης & τροφοδοσίας αθλητών (10 km)\nΣε συγκεκριμένα και οριοθετημένα σημεία της διαδρομής οι δρομείς θα μπορούν να λάβουν τροφοδοσία και υποστήριξη. Στο σημείο αυτό θα υπάρχουν πάγκοι της διοργάνωσης με νερό και χυμούς. \nΣτον ίδιο χώρο και για όλη την διάρκεια του αγώνα θα υπάρχει ομάδα ιατρών για να προσφέρουν βοήθεια σε όποιον χρειαστεί. \nΒραβεύσεις\nΣτον αγώνα των 10 Km θα βραβευτούν οι τρεις (03) πρώτοι άντρες και οι τρεις (03) πρώτες γυναίκες με κύπελλο. \nΌλοι ανεξαιρέτως οι δρομείς θα λάβουν μετάλλιο και αναμνηστικό μπλουζάκι του αγώνα. \nΓενικές Διατάξεις\nΗ διαδρομή 10 km έχει πιστοποίηθεί από τον κο ΠΑΠΟΥΛΙΑ Χρήστο διεθνή πιστοποιητή διαδρομών και οι όποιες επιδόσεις είναι νόμιμες και έγκυρες μιας και η διαδρομή του αγώνα έγινε σε πιστοποιημένη πίστα. \nΟ κάθε αθλητής φέρει την υποχρέωση να έχει τον αριθμό συμμετοχής του στο μπροστινό μέρος της μπλούζας του. Ο αριθμός απαγορεύεται να αλλοιωθεί με οποιοδήποτε τρόπο. \nΓια οποιεσδήποτε ενστάσεις σχετικά με τις επιδόσεις σας ή καταγγελίες θα μπορείτε να τις κάνετε κατά την διάρκεια του αγώνα και μέχρι την απονομή των αγώνων. Οποιαδήποτε καταγγελία πέραν των απονομών των αγώνων θα θεωρείται ως μη γενόμενη. \nΣτο μέσο της διαδρομής θα υπάρχει ενδιάμεση χρονομέτρηση. \nΣε περίπτωση που κάποιος δρομέας παραβεί τους κανόνες των αγώνων ή έχει ανάρμοστη συμπεριφορά προς τους υπόλοιπους δρομείς και τους διοργανωτές\, η διοργάνωση φέρει το δικαίωμα να τον αποβάλλει από τον αγώνα! \nΟ Αθλητής\, μέσω της αποδοχής της δήλωσής καλής υγείας και των όρων συμμετοχής κάτω από την εγγραφή του\, αποδέχεται τους ισχύοντες κανονισμούς\, σέβεται και υπακούει στις υποδείξεις των διοργανωτών\, των υπευθύνων ασφαλείας και των κριτών του αγώνα. \nΗ διοργάνωση σε συνεργασία με Εθελοντικές Ομάδες θα λάβει όλα τα απαραίτητα μέτρα για την ασφάλεια των αθλητών και την παροχή πρώτων βοηθειών σε περίπτωση που παραστεί ανάγκη. \nΚIDS ATHLETICS\nTο Σάββατο 10 Μαΐου 2025 και ώρα 17:00\, οι μικροί μας φίλοι θα έχουν τη δυνατότητα να απολαύσουν το πρόγραμμα Kids Athletics. Το πρόγραμμα αυτό περιλαμβάνει τη γνωριμία και εκμάθηση των αγωνισμάτων του κλασικού αθλητισμού μέσα από αγωνιστικές δραστηριότητες ομαδικού χαρακτήρα σε μορφή παιχνιδιού. Είναι ένα πρόγραμμα που έχει δημιουργήσει η Παγκόσμια Ομοσπονδία Κλασικού Αθλητισμού (IAAF) για να καταστήσει πιο δημοφιλή τα αθλήματα του κλασικού αθλητισμού. Μέσα από τις δραστηριότητες του Kids Athletics\, πλαισιωμένες στις ανάγκες των παιδιών\, με παιγνιώδη μορφή και με πολλές κοινωνικές προεκτάσεις\, αναπτύσσονται πολύπλευρα όλες οι κινητικές και πολλές αγωνιστικές δεξιότητες του κλασικού αθλητισμού. \nPASTA PARTY\nΤο Σαββάτο 10 Μαΐου 2025 στην παραλία της Νεάπολης οι δρομείς θα έχουν τη δυνατότητα να απολαύσουν το PASTA PARTY\, ένα γεύμα πλούσιο σε ποσότητα και υδατάνθρακες. Το Pasta Party είναι αγαπημένος θεσμός των δρομέων\, φέρνοντας κοντά αθλητές\, εθελοντές\, συνοδούς και φίλους του αθλητισμού σε ένα κλίμα χαλάρωσης και συναδελφικότητας. \nΤο προηγούμενο βράδυ\, δίνουμε ραντεβού στην παραλία της Νεάπολης και απολαμβάνουμε ένα γεύμα υψηλής ενέργειας με γευστικά ζυμαρικά\, απαραίτητα για την παροχή ενέργειας και την προετοιμασία μας πριν από τον αγώνα. \nΕΘΕΛΟΝΤΕΣ\nΟι εθελοντές είναι η κινητήρια δύναμη και η ψυχή των αγώνων! Αν είναι η πρώτη φορά που σκέφτεστε να δηλώσετε συμμετοχή\, σας προσκαλούμε με χαρά σε μια μοναδική ευκαιρία να ενώσουμε τις δυνάμεις μας για προσφορά. \n\nΤομείς εθελοντικής απασχόλησης: Εγγραφές αθλητών Εκκίνηση και τερματισμός αγώνων (παλαιό γυμνάσιο Νεάπολης) \nΥποστήριξη των δρομέων για την τοποθέτηση τους στο σωστό block και διαμόρφωση ανθρώπινων αλυσίδων μεταξύ των blocks λίγο πριν την εκκίνηση. Υποστήριξη των δρομέων σε σημεία ανά τη διαδρομή των αγώνων με διανομή νερών. Υποστήριξη διαδρομής (σημεία αγωνιστικής διαδρομής) Έλεγχος ασφάλειας δρομέων – θεατών στη διαδρομή των αγώνων. \nΥποστήριξη και εξυπηρέτηση των δρομέων στους σταθμούς παραλαβής και παράδοσης ρουχισμού. Υποστήριξη και εξυπηρέτηση θεατών. \nΕγγραφή εθελοντών αγώνα: \nΓια να εγγραφείτε στη λίστα εθελοντών παρακαλούμε πατήστε στον παρακάτω σύνδεσμο: https://forms.gle/dUk9x4iWUuB61jsUA \nΕγγραφή αθλητών: \nΓια να γραφτείτε στον αγώνα παρακαλούμε πατήστε στον παρακάτω σύνδεσμό: https://forms.gle/Ra2Dp9EbcYxcQ5cP9 \nΓια οποιεσδήποτε πληροφορίες ή απορίες επικοινωνήστε στα εξής τηλέφωνα: \n\nΨΑΡΡΑΚΗΣ Παναγιώτης (ΚΑΘΗΓΗΤΗΣ ΦΥΣΙΚΗΣ ΑΓΩΓΗΣ ΓΕΛ ΝΕΑΠΟΛΗΣ) 6976763434\nΧΟΥΛΗ Μαρία (ΚΑΘΗΓΗΤΗΣ ΦΥΣΙΚΗΣ ΑΓΩΓΗΣ ΓΥΜΝΑΣΙΟΥ ΝΕΑΠΟΛΗΣ) 6974374217\nΤΖΟΥΒΑΛΗΣ Συμεών (ΚΑΘΗΓΗΤΗΣ ΦΥΣΙΚΗΣ ΑΓΩΓΗΣ ΔΗΜΟΤΙΚΟΥ ΣΧΟΛΕΙΟΥ ΝΕΑΠΟΛΗΣ) 6956026654\nΓΕΛ ΝΕΑΠΟΛΗΣ: 2734022705
URL:https://culture.monemvasia.gov.gr/event/vatikiotikos-agonas-zois-2025/
LOCATION:Νεάπολη\, Νεάπολη\, 23053\, Ελλάδα
CATEGORIES:Αθλητισμός
ATTACH;FMTTYPE=image/jpeg:https://culture.monemvasia.gov.gr/wp-content/uploads/2025/05/ΑΦΙΣΑ_Bατικιωτικος-Αγωνας-Ζωης-2025.avif
END:VEVENT
END:VCALENDAR