BEGIN:VCALENDAR
VERSION:2.0
PRODID:-//Δήμος Μονεμβασίας - Πολιτισμός - ECPv6.6.3//NONSGML v1.0//EN
CALSCALE:GREGORIAN
METHOD:PUBLISH
X-WR-CALNAME:Δήμος Μονεμβασίας - Πολιτισμός
X-ORIGINAL-URL:https://culture.monemvasia.gov.gr
X-WR-CALDESC:Δήμος Μονεμβασίας - Πολιτισμός - Εκδηλώσεις
REFRESH-INTERVAL;VALUE=DURATION:PT1H
X-Robots-Tag:noindex
X-PUBLISHED-TTL:PT1H
BEGIN:VTIMEZONE
TZID:Europe/Athens
BEGIN:DAYLIGHT
TZOFFSETFROM:+0200
TZOFFSETTO:+0300
TZNAME:EEST
DTSTART:20240331T010000
END:DAYLIGHT
BEGIN:STANDARD
TZOFFSETFROM:+0300
TZOFFSETTO:+0200
TZNAME:EET
DTSTART:20241027T010000
END:STANDARD
BEGIN:DAYLIGHT
TZOFFSETFROM:+0200
TZOFFSETTO:+0300
TZNAME:EEST
DTSTART:20250330T010000
END:DAYLIGHT
BEGIN:STANDARD
TZOFFSETFROM:+0300
TZOFFSETTO:+0200
TZNAME:EET
DTSTART:20251026T010000
END:STANDARD
END:VTIMEZONE
BEGIN:VEVENT
DTSTART;VALUE=DATE:20251011
DTEND;VALUE=DATE:20251013
DTSTAMP:20260420T012133
CREATED:20250611T193353Z
LAST-MODIFIED:20250611T193353Z
UID:10000388-1760140800-1760313599@culture.monemvasia.gov.gr
SUMMARY:Ναυτικά αγωνίσματα στη Νεάπολη
DESCRIPTION:Αγωνίσματα με σκάφη και σκαφάκια εγκεκριμένα από την Ομοσποδία
URL:https://culture.monemvasia.gov.gr/event/naftika-agonismata-sti-neapoli/
LOCATION:Νεάπολη\, Νεάπολη\, 23053\, Ελλάδα
CATEGORIES:Αθλητισμός,Εκδήλωση
ATTACH;FMTTYPE=image/jpeg:https://culture.monemvasia.gov.gr/wp-content/uploads/2024/06/event-default-jpg.webp
END:VEVENT
BEGIN:VEVENT
DTSTART;TZID=Europe/Athens:20250816T213000
DTEND;TZID=Europe/Athens:20250816T213000
DTSTAMP:20260420T012133
CREATED:20250611T185736Z
LAST-MODIFIED:20250611T185736Z
UID:10000372-1755379800-1755379800@culture.monemvasia.gov.gr
SUMMARY:Εκδήλωση με το συγκρότημα Hermaphrodite's Child
DESCRIPTION:Εκδήλωση με το συγκρότημα Hermaphrodite’s Child
URL:https://culture.monemvasia.gov.gr/event/ekdilosi-me-to-sygkrotima-hermaphrodites-child/
LOCATION:Καρνάγιο Νεάπολη\, Καρνάγιο\, Νεάπολη\, Λακωνία\, 23053\, Ελλάδα
CATEGORIES:Εκδήλωση,Συναυλία
ATTACH;FMTTYPE=image/jpeg:https://culture.monemvasia.gov.gr/wp-content/uploads/2024/06/event-default-jpg.webp
GEO:36.505915542548;23.063950318911
X-APPLE-STRUCTURED-LOCATION;VALUE=URI;X-ADDRESS=Καρνάγιο Νεάπολη Καρνάγιο Νεάπολη Λακωνία 23053 Ελλάδα;X-APPLE-RADIUS=500;X-TITLE=Καρνάγιο:geo:23.063950318911,36.505915542548
END:VEVENT
BEGIN:VEVENT
DTSTART;TZID=Europe/Athens:20250706T100000
DTEND;TZID=Europe/Athens:20250706T100000
DTSTAMP:20260420T012133
CREATED:20250614T132612Z
LAST-MODIFIED:20250614T132612Z
UID:10000391-1751796000-1751796000@culture.monemvasia.gov.gr
SUMMARY:Ναυτική Εβδομάδα 2025 - Ανοικτό μάθημα ιστιοπλοΐας από τον Ν.Ο.Β.
DESCRIPTION:Ανοικτό μάθημα ιστιοπλοΐας στις 10πμ
URL:https://culture.monemvasia.gov.gr/event/naftiki-evdomada-2025-anoikto-mathima-istioploias-apo-ton-n-o-v/
LOCATION:Αυλόσπηλος\, Νεάπολη\, Αυλόσπηλος\, Νεάπολη\, Λακωνία\, 23053
CATEGORIES:Αθλητισμός,Εκδήλωση
ATTACH;FMTTYPE=image/jpeg:https://culture.monemvasia.gov.gr/wp-content/uploads/2025/06/IMG-5ac602f0277a2fd5fcb40ef6026522e4-V.avif
END:VEVENT
BEGIN:VEVENT
DTSTART;TZID=Europe/Athens:20250705T200000
DTEND;TZID=Europe/Athens:20250705T200000
DTSTAMP:20260420T012133
CREATED:20250610T090416Z
LAST-MODIFIED:20250614T132048Z
UID:10000313-1751745600-1751745600@culture.monemvasia.gov.gr
SUMMARY:Ναυτική Εβδομάδα 2025 - Ομιλιά και μουσική εκδήλωση από τον Ν.Ο.Β.
DESCRIPTION:1. Ομιλία με θέμα “Ιστιοπλοΐα και Θάλασσα”\, ώρα 20:00\n2. Μουσική Εκδήλωση\, ώρα 21:30 με Γιώργο Μανουσέλη στο Λαούτο και Νίκο Κοντάλιπο στο Μπουζούκι
URL:https://culture.monemvasia.gov.gr/event/naftiki-evdomada-2025-omilia-kai-mousiki-ekdilosi-apo-ton-n-o-v/
LOCATION:Αυλόσπηλος\, Νεάπολη\, Αυλόσπηλος\, Νεάπολη\, Λακωνία\, 23053
CATEGORIES:Εκδήλωση,Μουσική,Ομιλία
ATTACH;FMTTYPE=image/jpeg:https://culture.monemvasia.gov.gr/wp-content/uploads/2025/06/IMG-5ac602f0277a2fd5fcb40ef6026522e4-V.avif
END:VEVENT
BEGIN:VEVENT
DTSTART;TZID=Europe/Athens:20250704T100000
DTEND;TZID=Europe/Athens:20250704T100000
DTSTAMP:20260420T012133
CREATED:20250610T091413Z
LAST-MODIFIED:20250610T091413Z
UID:10000314-1751623200-1751623200@culture.monemvasia.gov.gr
SUMMARY:Ναυτική Εβδομάδα 2025 - Open μάθημα για παιδιά
DESCRIPTION:Open μάθημα για παιδιά
URL:https://culture.monemvasia.gov.gr/event/naftiki-evdomada-2025-open-mathima-gia-paidia/
LOCATION:Αυλόσπηλος\, Νεάπολη\, Αυλόσπηλος\, Νεάπολη\, Λακωνία\, 23053
CATEGORIES:Εκδήλωση
ATTACH;FMTTYPE=image/jpeg:https://culture.monemvasia.gov.gr/wp-content/uploads/2024/06/event-default-jpg.webp
END:VEVENT
BEGIN:VEVENT
DTSTART;TZID=Europe/Athens:20250703T180000
DTEND;TZID=Europe/Athens:20250703T210000
DTSTAMP:20260420T012133
CREATED:20250610T085529Z
LAST-MODIFIED:20250610T085529Z
UID:10000310-1751565600-1751576400@culture.monemvasia.gov.gr
SUMMARY:Ναυτική Εβδομάδα 2025 - Παιδικά Εργαστήρια
DESCRIPTION:1. Εργαστήρι Ναυτικών Κόμπων\n2. ¨ΤΑ ΓΛΑΡΟΠΟΥΛΑ¨JUNIOR HELMEPA- Παιδικό Εργαστήρι \nαπό το Σύλλογο Δημοτικού Νεάπολης σε συνεργασία με τον ΝΟΒ
URL:https://culture.monemvasia.gov.gr/event/naftiki-evdomada-2025-paidika-ergastiria/
LOCATION:Πλατεία Αρσενάκου\, Νεάπολη
CATEGORIES:Εκδήλωση
ATTACH;FMTTYPE=image/jpeg:https://culture.monemvasia.gov.gr/wp-content/uploads/2024/06/event-default-jpg.webp
END:VEVENT
BEGIN:VEVENT
DTSTART;VALUE=DATE:20240831
DTEND;VALUE=DATE:20240901
DTSTAMP:20260420T012133
CREATED:20240715T174150Z
LAST-MODIFIED:20240715T174150Z
UID:10000202-1725062400-1725148799@culture.monemvasia.gov.gr
SUMMARY:Ημέρα Θάλασσας από τον Πολιτιστικό Σύλλογο Αγίου Νικολάου Βοιών και τον Ναυτικό Όμιλο Βοιών
DESCRIPTION:Ημέρα Θάλασσας: εκπαιδευτική δράση γύρω από τη θάλασσα\, δράσεις εξωραϊσμού παραλιών και κλείσιμο με beach party στην παραλία Ριζμαρί\nΔιοργάνωση: Πολιτιστικός Σύλλογος Αγίου Νικολάου Βοιών – Ν.Ο.Β.
URL:https://culture.monemvasia.gov.gr/event/imera-thalassas-2024/
LOCATION:Άγιος Νικόλαος Βοιών\, Άγιος Νικόλαος\, 23053\, Ελλάδα
CATEGORIES:Εκδήλωση
ATTACH;FMTTYPE=image/jpeg:https://culture.monemvasia.gov.gr/wp-content/uploads/2024/06/event-default-jpg.webp
END:VEVENT
BEGIN:VEVENT
DTSTART;TZID=Europe/Athens:20240812T213000
DTEND;TZID=Europe/Athens:20240812T213000
DTSTAMP:20260420T012133
CREATED:20240712T192052Z
LAST-MODIFIED:20240712T192052Z
UID:10000138-1723498200-1723498200@culture.monemvasia.gov.gr
SUMMARY:Συναυλία με τους Bejeesus band στη Νεάπολη
DESCRIPTION:Συναυλία με τους Bejeesus band στη Νεάπολη από τον Ναυτικό Όμιλο Βοιών
URL:https://culture.monemvasia.gov.gr/event/synavlia-me-tous-bejeesus-band-sti-neapoli/
LOCATION:Καρνάγιο Νεάπολη\, Καρνάγιο\, Νεάπολη\, Λακωνία\, 23053\, Ελλάδα
CATEGORIES:Συναυλία
ATTACH;FMTTYPE=image/jpeg:https://culture.monemvasia.gov.gr/wp-content/uploads/2024/06/event-default-jpg.webp
GEO:36.505915542548;23.063950318911
X-APPLE-STRUCTURED-LOCATION;VALUE=URI;X-ADDRESS=Καρνάγιο Νεάπολη Καρνάγιο Νεάπολη Λακωνία 23053 Ελλάδα;X-APPLE-RADIUS=500;X-TITLE=Καρνάγιο:geo:23.063950318911,36.505915542548
END:VEVENT
END:VCALENDAR