BEGIN:VCALENDAR
VERSION:2.0
PRODID:-//Δήμος Μονεμβασίας - Πολιτισμός - ECPv6.6.3//NONSGML v1.0//EN
CALSCALE:GREGORIAN
METHOD:PUBLISH
X-WR-CALNAME:Δήμος Μονεμβασίας - Πολιτισμός
X-ORIGINAL-URL:https://culture.monemvasia.gov.gr
X-WR-CALDESC:Δήμος Μονεμβασίας - Πολιτισμός - Εκδηλώσεις
REFRESH-INTERVAL;VALUE=DURATION:PT1H
X-Robots-Tag:noindex
X-PUBLISHED-TTL:PT1H
BEGIN:VTIMEZONE
TZID:Europe/Athens
BEGIN:DAYLIGHT
TZOFFSETFROM:+0200
TZOFFSETTO:+0300
TZNAME:EEST
DTSTART:20250330T010000
END:DAYLIGHT
BEGIN:STANDARD
TZOFFSETFROM:+0300
TZOFFSETTO:+0200
TZNAME:EET
DTSTART:20251026T010000
END:STANDARD
END:VTIMEZONE
BEGIN:VEVENT
DTSTART;TZID=Europe/Athens:20250717T210000
DTEND;TZID=Europe/Athens:20250717T210000
DTSTAMP:20260421T204819
CREATED:20250618T083617Z
LAST-MODIFIED:20250618T083617Z
UID:10000441-1752786000-1752786000@culture.monemvasia.gov.gr
SUMMARY:Εορτασμός της Αγίας Μαρίνας και παραδοσιακό γλέντι στα Πιστάματα
DESCRIPTION:Εορτασμός της Αγίας Μαρίνας και παραδοσιακό γλέντι:  με τη μουσική συνοδεία του συγκροτήματος του Νίκου Σταθάκη.
URL:https://culture.monemvasia.gov.gr/event/eortasmos-tis-agias-marinas-kai-paradosiako-glenti-sta-pistamata/
LOCATION:Πιστάματα\, Πιστάματα\, Πιστάματα\, Λακωνίας\, 23052\, Ελλάδα
CATEGORIES:Εκδήλωση,Μουσική
ATTACH;FMTTYPE=image/jpeg:https://culture.monemvasia.gov.gr/wp-content/uploads/2024/06/event-default-jpg.webp
END:VEVENT
BEGIN:VEVENT
DTSTART;TZID=Europe/Athens:20250630T210000
DTEND;TZID=Europe/Athens:20250630T210000
DTSTAMP:20260421T204819
CREATED:20250618T083713Z
LAST-MODIFIED:20250618T083713Z
UID:10000442-1751317200-1751317200@culture.monemvasia.gov.gr
SUMMARY:Εορτασμός των Αγίων Αποστόλων και παραδοσιακό γλέντι στα Πιστάματα
DESCRIPTION:Εορτασμός των Αγίων Αποστόλων και παραδοσιακό γλέντι:  με τη μουσική συνοδεία του συγκροτήματος του Νίκου Σταθάκη.
URL:https://culture.monemvasia.gov.gr/event/eortasmos-ton-agion-apostolon-kai-paradosiako-glenti-sta-pistamata/
LOCATION:Πιστάματα\, Πιστάματα\, Πιστάματα\, Λακωνίας\, 23052\, Ελλάδα
CATEGORIES:Εκδήλωση,Μουσική
ATTACH;FMTTYPE=image/jpeg:https://culture.monemvasia.gov.gr/wp-content/uploads/2024/06/event-default-jpg.webp
END:VEVENT
END:VCALENDAR