BEGIN:VCALENDAR
VERSION:2.0
PRODID:-//Δήμος Μονεμβασίας - Πολιτισμός - ECPv6.6.3//NONSGML v1.0//EN
CALSCALE:GREGORIAN
METHOD:PUBLISH
X-ORIGINAL-URL:https://culture.monemvasia.gov.gr
X-WR-CALDESC:Δήμος Μονεμβασίας - Πολιτισμός - Εκδηλώσεις
REFRESH-INTERVAL;VALUE=DURATION:PT1H
X-Robots-Tag:noindex
X-PUBLISHED-TTL:PT1H
BEGIN:VTIMEZONE
TZID:Europe/Athens
BEGIN:DAYLIGHT
TZOFFSETFROM:+0200
TZOFFSETTO:+0300
TZNAME:EEST
DTSTART:20240331T010000
END:DAYLIGHT
BEGIN:STANDARD
TZOFFSETFROM:+0300
TZOFFSETTO:+0200
TZNAME:EET
DTSTART:20241027T010000
END:STANDARD
BEGIN:DAYLIGHT
TZOFFSETFROM:+0200
TZOFFSETTO:+0300
TZNAME:EEST
DTSTART:20250330T010000
END:DAYLIGHT
BEGIN:STANDARD
TZOFFSETFROM:+0300
TZOFFSETTO:+0200
TZNAME:EET
DTSTART:20251026T010000
END:STANDARD
END:VTIMEZONE
BEGIN:VEVENT
DTSTART;TZID=Europe/Athens:20251214T110000
DTEND;TZID=Europe/Athens:20251214T210000
DTSTAMP:20260421T145655
CREATED:20251208T095835Z
LAST-MODIFIED:20251208T095910Z
UID:10000530-1765710000-1765746000@culture.monemvasia.gov.gr
SUMMARY:Χριστουγεννιάτικο Bazaar στη Νεάπολη
DESCRIPTION:Στα πλαίσια των εορταστικών εκδηλώσεων 2025 ο Πολιτιστικός Σύλλογος Βατίκων σε συνεργασία με το σύλλογο Γονέων και Κηδεμόνων του νηπιαγωγείου Νεάπολης\, διοργανώνει και φέτος όπως τα τελευταία 5 χρόνια\, το Χριστουγεννιάτικο Bazaar με σκοπό την ψυχαγωγία μικρών και μεγάλων και την οικονομική ενίσχυση των δυο συλλόγων.\nΜέσα στο διήμερο 13\,14 Δεκεμβρίου δημιουργούμε ένα εορταστικό κλίμα με στολισμό του χώρου\, διάφορες δράσεις για τα παιδιά\, προβολές ταινιών\, δέντρο ευχών\, παρουσίαση παραστάσεων\, Άγιο Βασίλη\, έκθεση κατασκευαστών μας προς πώληση και φυσικά προσφέροντας κεράσματα στους επισκέπτες μας.\nΤην εκδήλωση στις 13/12 και ώρα 17:30\, θα πλαισιώσει η Φιλαρμονική της Δημοτικής Ενότητας Βοιών.\nΝΕΑΠΟΛΗ\nΔημοτικό Σχολείο Νεάπολης ΣΑΒΒΑΤΟ 13/12/2025 16:00-19:30\nΚΥΡΙΑΚΗ 14/12/2025 11:00-21:00
URL:https://culture.monemvasia.gov.gr/event/christougenniatiko-bazaar-sti-neapoli/2025-12-14/
LOCATION:Δημοτικό Σχολείο Νεάπολης\, Δημοτικό Σχολείο\, Νεάπολη\, 23053\, Ελλάδα
CATEGORIES:Εκδήλωση,Χριστούγεννα
ATTACH;FMTTYPE=image/jpeg:https://culture.monemvasia.gov.gr/wp-content/uploads/2024/06/event-default-jpg.webp
END:VEVENT
BEGIN:VEVENT
DTSTART;TZID=Europe/Athens:20251213T160000
DTEND;TZID=Europe/Athens:20251213T193000
DTSTAMP:20260421T145655
CREATED:20251208T095835Z
LAST-MODIFIED:20251208T095910Z
UID:10000529-1765641600-1765654200@culture.monemvasia.gov.gr
SUMMARY:Χριστουγεννιάτικο Bazaar στη Νεάπολη
DESCRIPTION:Στα πλαίσια των εορταστικών εκδηλώσεων 2025 ο Πολιτιστικός Σύλλογος Βατίκων σε συνεργασία με το σύλλογο Γονέων και Κηδεμόνων του νηπιαγωγείου Νεάπολης\, διοργανώνει και φέτος όπως τα τελευταία 5 χρόνια\, το Χριστουγεννιάτικο Bazaar με σκοπό την ψυχαγωγία μικρών και μεγάλων και την οικονομική ενίσχυση των δυο συλλόγων.\nΜέσα στο διήμερο 13\,14 Δεκεμβρίου δημιουργούμε ένα εορταστικό κλίμα με στολισμό του χώρου\, διάφορες δράσεις για τα παιδιά\, προβολές ταινιών\, δέντρο ευχών\, παρουσίαση παραστάσεων\, Άγιο Βασίλη\, έκθεση κατασκευαστών μας προς πώληση και φυσικά προσφέροντας κεράσματα στους επισκέπτες μας.\nΤην εκδήλωση στις 13/12 και ώρα 17:30\, θα πλαισιώσει η Φιλαρμονική της Δημοτικής Ενότητας Βοιών.\nΝΕΑΠΟΛΗ\nΔημοτικό Σχολείο Νεάπολης ΣΑΒΒΑΤΟ 13/12/2025 16:00-19:30\nΚΥΡΙΑΚΗ 14/12/2025 11:00-21:00
URL:https://culture.monemvasia.gov.gr/event/christougenniatiko-bazaar-sti-neapoli/2025-12-13/
LOCATION:Δημοτικό Σχολείο Νεάπολης\, Δημοτικό Σχολείο\, Νεάπολη\, 23053\, Ελλάδα
CATEGORIES:Εκδήλωση,Χριστούγεννα
ATTACH;FMTTYPE=image/jpeg:https://culture.monemvasia.gov.gr/wp-content/uploads/2024/06/event-default-jpg.webp
END:VEVENT
BEGIN:VEVENT
DTSTART;TZID=Europe/Athens:20250701T190000
DTEND;TZID=Europe/Athens:20250701T190000
DTSTAMP:20260421T145655
CREATED:20250610T084140Z
LAST-MODIFIED:20250626T130719Z
UID:10000308-1751396400-1751396400@culture.monemvasia.gov.gr
SUMMARY:Ναυτική Εβδομάδα 2025 - Κυνήγι θησαυρού
DESCRIPTION:Κυνήγι θησαυρού με θέμα “Ο Πολυμήχανος Οδυσσέας” για παιδιά ηλικίας από 4 έως 7 και από 7 έως 15 ετών
URL:https://culture.monemvasia.gov.gr/event/naftiki-evdomada-2025-kynigi-thisavrou/
LOCATION:Νεάπολη\, Νεάπολη\, 23053\, Ελλάδα
CATEGORIES:Εκδήλωση
ATTACH;FMTTYPE=image/jpeg:https://culture.monemvasia.gov.gr/wp-content/uploads/2025/06/NautikiEvdomada2025-Nipiagogeio.avif
END:VEVENT
BEGIN:VEVENT
DTSTART;TZID=Europe/Athens:20250222T170000
DTEND;TZID=Europe/Athens:20250222T170000
DTSTAMP:20260421T145655
CREATED:20250207T091619Z
LAST-MODIFIED:20250208T075902Z
UID:10000250-1740243600-1740243600@culture.monemvasia.gov.gr
SUMMARY:Πάρτι Μασκέ στο Cafe Μπιλλίνη
DESCRIPTION:Πάρτι Μασκέ στο Cafe Μπιλλίνη από τους Συλλογους Γονέων & Κηδεμόνων 1ου & 2ου Νηπιαγωγείου Νεάπολης
URL:https://culture.monemvasia.gov.gr/event/parti-maske-sto-cafe-billini/
LOCATION:Cafe Μπιλλίνη\, Νεάπολη
CATEGORIES:Απόκριες,Χορός
ATTACH;FMTTYPE=image/jpeg:https://culture.monemvasia.gov.gr/wp-content/uploads/2025/02/FB_IMG_1739001430118.avif
END:VEVENT
BEGIN:VEVENT
DTSTART;TZID=Europe/Athens:20240807T203000
DTEND;TZID=Europe/Athens:20240807T203000
DTSTAMP:20260421T145655
CREATED:20240710T213401Z
LAST-MODIFIED:20240727T152957Z
UID:10000112-1723062600-1723062600@culture.monemvasia.gov.gr
SUMMARY:Στρίγγλες εν δρασεί - Παιδική Παράσταση Κουκλοθέατρου Αγγελοπούλου Χριστίνα στη Νεάπολη
DESCRIPTION:“Στρίγγλες εν δρασεί” –  Παιδική Παράσταση Κουκλοθέατρου Αγγελοπούλου Χριστίνα. \nΔιοργάνωση: Σύλλογοι Γονέων του Δημοτικού Σχολείου\, του 1ου και 2ου Νηπιαγωγείου Νεάπολης με την στήριξη των συλλόγων Πολιτιστικός Σύλλογος Βατίκων\, Ναυτικός Όμιλος Βατίκων\, ΚΟΙΝ.Σ.ΕΠ. Θρύμβη\, Τέχνη Χρω και Επαγγελματική Ένωση Βατίκων
URL:https://culture.monemvasia.gov.gr/event/stringles-en-drasei-paidiki-parastasi-kouklotheatrou-angelopoulou-christina-sti-neapoli/
LOCATION:Νεάπολη\, Νεάπολη\, 23053\, Ελλάδα
CATEGORIES:Θέατρο
ATTACH;FMTTYPE=image/jpeg:https://culture.monemvasia.gov.gr/wp-content/uploads/2024/07/IMG-5b9a4a9a66b78a6efaadac8c6204962c-V.jpg
END:VEVENT
BEGIN:VEVENT
DTSTART;TZID=Europe/Athens:20240804T203000
DTEND;TZID=Europe/Athens:20240804T203000
DTSTAMP:20260421T145655
CREATED:20240709T082903Z
LAST-MODIFIED:20240728T115145Z
UID:10000073-1722803400-1722803400@culture.monemvasia.gov.gr
SUMMARY:Παραμυθοκαμώματα - Παιδική Παράσταση "Πλατσουρίζοντας"
DESCRIPTION:Παιδική Παράσταση “Πλατσουρίζοντας” από τα Παραμυθοκαμώματα. \nΔιοργάνωση : Σύλλογοι Γονέων του Δημοτικού Σχολείου\, του 1ου και 2ου Νηπιαγωγείου Νεάπολης με την στήριξη των συλλόγων Πολιτιστικός Σύλλογος Βατίκων\, Ναυτικός Όμιλος Βατίκων\, ΚΟΙΝ.Σ.ΕΠ. Θρύμβη\, Τέχνη Χρω και Επαγγελματική Ένωση Βατίκων
URL:https://culture.monemvasia.gov.gr/event/paramythokamomata-paidiki-parastasi-platsourizontas/
LOCATION:Νεάπολη\, Νεάπολη\, 23053\, Ελλάδα
CATEGORIES:Εκδήλωση
ATTACH;FMTTYPE=image/jpeg:https://culture.monemvasia.gov.gr/wp-content/uploads/2024/07/FB_IMG_1722167438486.jpg
END:VEVENT
END:VCALENDAR