BEGIN:VCALENDAR
VERSION:2.0
PRODID:-//Δήμος Μονεμβασίας - Πολιτισμός - ECPv6.6.3//NONSGML v1.0//EN
CALSCALE:GREGORIAN
METHOD:PUBLISH
X-ORIGINAL-URL:https://culture.monemvasia.gov.gr
X-WR-CALDESC:Δήμος Μονεμβασίας - Πολιτισμός - Εκδηλώσεις
REFRESH-INTERVAL;VALUE=DURATION:PT1H
X-Robots-Tag:noindex
X-PUBLISHED-TTL:PT1H
BEGIN:VTIMEZONE
TZID:Europe/Athens
BEGIN:DAYLIGHT
TZOFFSETFROM:+0200
TZOFFSETTO:+0300
TZNAME:EEST
DTSTART:20240331T010000
END:DAYLIGHT
BEGIN:STANDARD
TZOFFSETFROM:+0300
TZOFFSETTO:+0200
TZNAME:EET
DTSTART:20241027T010000
END:STANDARD
BEGIN:DAYLIGHT
TZOFFSETFROM:+0200
TZOFFSETTO:+0300
TZNAME:EEST
DTSTART:20250330T010000
END:DAYLIGHT
BEGIN:STANDARD
TZOFFSETFROM:+0300
TZOFFSETTO:+0200
TZNAME:EET
DTSTART:20251026T010000
END:STANDARD
END:VTIMEZONE
BEGIN:VEVENT
DTSTART;TZID=Europe/Athens:20250705T090000
DTEND;TZID=Europe/Athens:20250705T090000
DTSTAMP:20260420T040320
CREATED:20250629T153052Z
LAST-MODIFIED:20250630T054039Z
UID:10000486-1751706000-1751706000@culture.monemvasia.gov.gr
SUMMARY:Ψάρεμα & Κανόνες ασφαλείας
DESCRIPTION:Ψάρεμα & Κανόνες ασφαλείας
URL:https://culture.monemvasia.gov.gr/event/psarema-kanones-asfaleias/
LOCATION:Αυλόσπηλος\, Νεάπολη\, Αυλόσπηλος\, Νεάπολη\, Λακωνία\, 23053
CATEGORIES:Εκδήλωση
ATTACH;FMTTYPE=image/jpeg:https://culture.monemvasia.gov.gr/wp-content/uploads/2025/06/FB_IMG_1751261986398.avif
END:VEVENT
BEGIN:VEVENT
DTSTART;TZID=Europe/Athens:20250704T220000
DTEND;TZID=Europe/Athens:20250704T230000
DTSTAMP:20260420T040320
CREATED:20250629T152902Z
LAST-MODIFIED:20250630T053843Z
UID:10000485-1751666400-1751670000@culture.monemvasia.gov.gr
SUMMARY:Βαρκαρόλα Παλαιόκαστρο - Νεάπολη
DESCRIPTION:Βαρκαρόλα Παλαιόκαστρο – Νεάπολη
URL:https://culture.monemvasia.gov.gr/event/varkarola-palaiokastro-neapoli/
LOCATION:Νεάπολη\, Νεάπολη\, 23053\, Ελλάδα
CATEGORIES:Εκδήλωση
ATTACH;FMTTYPE=image/jpeg:https://culture.monemvasia.gov.gr/wp-content/uploads/2024/06/event-default-jpg.webp
END:VEVENT
BEGIN:VEVENT
DTSTART;TZID=Europe/Athens:20240812T080000
DTEND;TZID=Europe/Athens:20240812T170000
DTSTAMP:20260420T040320
CREATED:20240712T192711Z
LAST-MODIFIED:20240712T192925Z
UID:10000140-1723449600-1723482000@culture.monemvasia.gov.gr
SUMMARY:Κρόκος : Επίδειξη Τεχνική Ψαρέματος στη Νεάπολη
DESCRIPTION:Κρόκος : Επίδειξη Τεχνική Ψαρέματος ( η δράση δύναται να μεταφερθεί λόγω καιρικών συνθηκών )
URL:https://culture.monemvasia.gov.gr/event/krokos-epideixi-techniki-psarematos-sti-neapoli/
LOCATION:Αυλόσπηλος\, Νεάπολη\, Αυλόσπηλος\, Νεάπολη\, Λακωνία\, 23053
CATEGORIES:Εκδήλωση
ATTACH;FMTTYPE=image/jpeg:https://culture.monemvasia.gov.gr/wp-content/uploads/2024/06/event-default-jpg.webp
END:VEVENT
BEGIN:VEVENT
DTSTART;TZID=Europe/Athens:20240706T203000
DTEND;TZID=Europe/Athens:20240706T203000
DTSTAMP:20260420T040320
CREATED:20240703T091554Z
LAST-MODIFIED:20240703T094445Z
UID:10000032-1720297800-1720297800@culture.monemvasia.gov.gr
SUMMARY:Γιορτή ερασιτέχνων αλιέων στη Νεάπολη
DESCRIPTION:Γιορτή ερασιτέχνων αλιέων το Σάββατο 6 Ιουλίου στη ταβέρνα “Το Λιμανάκι” στη Νεάπολη \nΏρα έναρξης 8:30μ.μ.  Είσοδος 5 ευρώ \nΙΩΑΝΝΑ ΛΕΓΑΚΗ ΤΡΑΓΟΥΔΙ | ΚΥΡΙΑΚΟΣ ΚΟΝΤΑΚΟΣ ΒΙΟΛΙ | ΓΙΩΤΑ ΑΠΟΣΤΟΛΑΚΟΥ ΤΡΑΓΟΥΔΙ\nΓΙΩΡΓΟΣ ΣΚΟΥΡΟΣ ΜΠΟΥΖΟΥΚΙ ΤΡΑΓΟΥΔΙ | ΠΑΝΟΣ ΦΩΤΟΠΟΥΛΟΣ ΑΡΜΟΝΙΟ\nΓΙΑΝΝΗΣ ΚΑΤΣΑΠΗΣ ΚΙΘΑΡΑ | ΝΙΚΟΣ ΜΑΝΔΡΑΠΗΛΙΑΣ ΤΥΜΠΑΝΑ | ΙΩΑΝΝΙΔΗΣ ΤΑΣΟΣ ΛΑΟΥΤΟ
URL:https://culture.monemvasia.gov.gr/event/giorti-erasitechnon-alieon-sti-neapoli/
LOCATION:Αυλόσπηλος\, Νεάπολη\, Αυλόσπηλος\, Νεάπολη\, Λακωνία\, 23053
CATEGORIES:Μουσική
ATTACH;FMTTYPE=image/jpeg:https://culture.monemvasia.gov.gr/wp-content/uploads/2024/07/paradosikao-glenti-alieon-2024-jpg.webp
END:VEVENT
END:VCALENDAR