BEGIN:VCALENDAR
VERSION:2.0
PRODID:-//Δήμος Μονεμβασίας - Πολιτισμός - ECPv6.6.3//NONSGML v1.0//EN
CALSCALE:GREGORIAN
METHOD:PUBLISH
X-ORIGINAL-URL:https://culture.monemvasia.gov.gr
X-WR-CALDESC:Δήμος Μονεμβασίας - Πολιτισμός - Εκδηλώσεις
REFRESH-INTERVAL;VALUE=DURATION:PT1H
X-Robots-Tag:noindex
X-PUBLISHED-TTL:PT1H
BEGIN:VTIMEZONE
TZID:Europe/Athens
BEGIN:DAYLIGHT
TZOFFSETFROM:+0200
TZOFFSETTO:+0300
TZNAME:EEST
DTSTART:20240331T010000
END:DAYLIGHT
BEGIN:STANDARD
TZOFFSETFROM:+0300
TZOFFSETTO:+0200
TZNAME:EET
DTSTART:20241027T010000
END:STANDARD
BEGIN:DAYLIGHT
TZOFFSETFROM:+0200
TZOFFSETTO:+0300
TZNAME:EEST
DTSTART:20250330T010000
END:DAYLIGHT
BEGIN:STANDARD
TZOFFSETFROM:+0300
TZOFFSETTO:+0200
TZNAME:EET
DTSTART:20251026T010000
END:STANDARD
END:VTIMEZONE
BEGIN:VEVENT
DTSTART;TZID=Europe/Athens:20251219T170000
DTEND;TZID=Europe/Athens:20251219T170000
DTSTAMP:20260421T145354
CREATED:20251208T103531Z
LAST-MODIFIED:20251209T075008Z
UID:10000550-1766163600-1766163600@culture.monemvasia.gov.gr
SUMMARY:Χριστουγεννιάτικη γιορτή & Second-hand Bazaar στη Μονεμβασιά
DESCRIPTION:Χριστουγεννιάτικη γιορτή από την χορωδία του Συλλόγου Γονέων και Κηδεμόνων του Δημοτικού Σχολείου Μονεμβασιάς και με την συμμετοχή του Δημοτικού Σχολείου Μονεμβασιάς.\nSecond-hand Bazaar από τον Σύλλογο Γονέων Λυκείου Μονεμβασίας\n\n\n\n\n\n\n\nΜΟΝΕΜΒΑΣΙΑ-ΠΛΑΤΕΙΑ\nΠΑΡΑΣΚΕΥΗ 19/12/2025\nΈναρξη 17:00
URL:https://culture.monemvasia.gov.gr/event/christougenniatiki-giorti-second-hand-bazaar-sti-monemvasia/
LOCATION:Μονεμβασιά
CATEGORIES:Εκδήλωση,Χριστούγεννα
ATTACH;FMTTYPE=image/jpeg:https://culture.monemvasia.gov.gr/wp-content/uploads/2024/06/event-default-jpg.webp
END:VEVENT
BEGIN:VEVENT
DTSTART;TZID=Europe/Athens:20250823T210000
DTEND;TZID=Europe/Athens:20250823T210000
DTSTAMP:20260421T145354
CREATED:20250611T192149Z
LAST-MODIFIED:20250624T095136Z
UID:10000381-1755982800-1755982800@culture.monemvasia.gov.gr
SUMMARY:Αφιερωματική συναυλία στο Γιάννη Ρίτσο και απαγγελία αποσπασμάτων του έργου του
DESCRIPTION:“Ρίτσεια” 2025 2η Βραδιά : τα παιδιά του τόπου τραγουδούν Ρίτσο με την καλλιτεχνική επιμέλεια της μουσικού Τριάδας Παλαιοκώστα και οι ερασιτέχνες ηθοποιοί από την ομάδα της Μαρίας Ζερβού απαγγέλουν αποσπάσματα από το έργο του και σκηνοθετούν μικρές θεατρικές πράξεις .
URL:https://culture.monemvasia.gov.gr/event/afieromatiki-synavlia-sto-gianni-ritso-kai-apangelia-apospasmaton-tou-ergou-tou/
LOCATION:Μονεμβασιά
CATEGORIES:Εκδήλωση,Θέατρο,Συναυλία
ATTACH;FMTTYPE=image/jpeg:https://culture.monemvasia.gov.gr/wp-content/uploads/2024/06/event-default-jpg.webp
END:VEVENT
BEGIN:VEVENT
DTSTART;TZID=Europe/Athens:20240824T210000
DTEND;TZID=Europe/Athens:20240824T210000
DTSTAMP:20260421T145354
CREATED:20240715T173457Z
LAST-MODIFIED:20240715T173457Z
UID:10000200-1724533200-1724533200@culture.monemvasia.gov.gr
SUMMARY:ΡΙΤΣΕΙΑ 2024
DESCRIPTION:Παρουσίαση μελοποιημένων ποιημάτων του ποιητή από την παιδική χορωδία και απαγγελίες ποιημάτων από ερασιτέχνες ηθοποιούς.\nΣυνδιοργάνωση: Πολιτιστικός Χορευτικός Αθλητικός Σύλλογος «ΡΙΖΕΣ»\, Σύλλογος Γονέων Δημοτικόυ Σχολείου Μονεμβασίας & Δήμος Μονεμβασίας.\nΜονεμβάσια\, Κάστρο\, πλατεία Χρυσαφίτισσας
URL:https://culture.monemvasia.gov.gr/event/ritseia-2024/
LOCATION:Πλατεία Χρυσαφίτισσας\, πλατεία Χρυσαφίτισσας\, Μονεμβασιά\, Ελλάδα
CATEGORIES:Εκδήλωση
ATTACH;FMTTYPE=image/jpeg:https://culture.monemvasia.gov.gr/wp-content/uploads/2024/06/event-default-jpg.webp
END:VEVENT
END:VCALENDAR