BEGIN:VCALENDAR
VERSION:2.0
PRODID:-//Δήμος Μονεμβασίας - Πολιτισμός - ECPv6.6.3//NONSGML v1.0//EN
CALSCALE:GREGORIAN
METHOD:PUBLISH
X-WR-CALNAME:Δήμος Μονεμβασίας - Πολιτισμός
X-ORIGINAL-URL:https://culture.monemvasia.gov.gr
X-WR-CALDESC:Δήμος Μονεμβασίας - Πολιτισμός - Εκδηλώσεις
REFRESH-INTERVAL;VALUE=DURATION:PT1H
X-Robots-Tag:noindex
X-PUBLISHED-TTL:PT1H
BEGIN:VTIMEZONE
TZID:Europe/Athens
BEGIN:DAYLIGHT
TZOFFSETFROM:+0200
TZOFFSETTO:+0300
TZNAME:EEST
DTSTART:20240331T010000
END:DAYLIGHT
BEGIN:STANDARD
TZOFFSETFROM:+0300
TZOFFSETTO:+0200
TZNAME:EET
DTSTART:20241027T010000
END:STANDARD
BEGIN:DAYLIGHT
TZOFFSETFROM:+0200
TZOFFSETTO:+0300
TZNAME:EEST
DTSTART:20250330T010000
END:DAYLIGHT
BEGIN:STANDARD
TZOFFSETFROM:+0300
TZOFFSETTO:+0200
TZNAME:EET
DTSTART:20251026T010000
END:STANDARD
END:VTIMEZONE
BEGIN:VEVENT
DTSTART;TZID=Europe/Athens:20250813T210000
DTEND;TZID=Europe/Athens:20250813T210000
DTSTAMP:20260422T115342
CREATED:20250616T074954Z
LAST-MODIFIED:20250616T074954Z
UID:10000394-1755118800-1755118800@culture.monemvasia.gov.gr
SUMMARY:Καλοκαιρινό πάρτι στην υπέροχη παραλία της Χαραχιάς
DESCRIPTION:Καλοκαιρινό πάρτι στην υπέροχη παραλία της Χαραχιάς\, για απογευματινό μπάνιο\, ποτό\, φαγητό\, χορό
URL:https://culture.monemvasia.gov.gr/event/kalokairino-parti-stin-yperochi-paralia-tis-charachias/
LOCATION:Παραλία Χαραχιά
CATEGORIES:Εκδήλωση
ATTACH;FMTTYPE=image/jpeg:https://culture.monemvasia.gov.gr/wp-content/uploads/2024/06/event-default-jpg.webp
END:VEVENT
BEGIN:VEVENT
DTSTART;TZID=Europe/Athens:20250810T210000
DTEND;TZID=Europe/Athens:20250810T210000
DTSTAMP:20260422T115342
CREATED:20250616T074845Z
LAST-MODIFIED:20250616T074845Z
UID:10000393-1754859600-1754859600@culture.monemvasia.gov.gr
SUMMARY:Καλοκαιρινός χορός στη Διαμονιά
DESCRIPTION:Καλοκαιρινός χορός στη Διαμονιά
URL:https://culture.monemvasia.gov.gr/event/kalokairinos-choros-sti-diamonia/
LOCATION:Δαιμονιά\, Δαιμονιά\, Λακωνία\, 23053\, Ελλάδα
CATEGORIES:Εκδήλωση,Μουσική
ATTACH;FMTTYPE=image/jpeg:https://culture.monemvasia.gov.gr/wp-content/uploads/2024/06/event-default-jpg.webp
END:VEVENT
BEGIN:VEVENT
DTSTART;VALUE=DATE:20250731
DTEND;VALUE=DATE:20250801
DTSTAMP:20260422T115342
CREATED:20250616T075238Z
LAST-MODIFIED:20250616T075238Z
UID:10000396-1753920000-1754006399@culture.monemvasia.gov.gr
SUMMARY:Ημερήσια εκδρομή στο Σπήλαιο Καστανιάς
DESCRIPTION:Ημερήσια εκδρομή στο Σπήλαιο Καστανιάς από τον Εξωραϊστικό Σύλλογο παραλίας Δαιμονιάς “Η Αγια Μαρίνα”
URL:https://culture.monemvasia.gov.gr/event/imerisia-ekdromi-sto-spilaio-kastanias/
LOCATION:Σπήλαιο Καστανιάς
CATEGORIES:Εκδήλωση
ATTACH;FMTTYPE=image/jpeg:https://culture.monemvasia.gov.gr/wp-content/uploads/2024/06/event-default-jpg.webp
END:VEVENT
BEGIN:VEVENT
DTSTART;TZID=Europe/Athens:20250618T080000
DTEND;TZID=Europe/Athens:20250618T170000
DTSTAMP:20260422T115342
CREATED:20250618T075828Z
LAST-MODIFIED:20250618T075828Z
UID:10000414-1750233600-1750266000@culture.monemvasia.gov.gr
SUMMARY:Καλοκαιρινός χορός στη Δαιμονιά
DESCRIPTION:Καλοκαιρινός χορός στη Δαιμονιά
URL:https://culture.monemvasia.gov.gr/event/kalokairinos-choros-sti-daimonia-2/
LOCATION:Δαιμονιά\, Δαιμονιά\, Λακωνία\, 23053\, Ελλάδα
CATEGORIES:Εκδήλωση,Μουσική
ATTACH;FMTTYPE=image/jpeg:https://culture.monemvasia.gov.gr/wp-content/uploads/2024/06/event-default-jpg.webp
END:VEVENT
BEGIN:VEVENT
DTSTART;TZID=Europe/Athens:20240813T210000
DTEND;TZID=Europe/Athens:20240813T210000
DTSTAMP:20260422T115342
CREATED:20240714T154422Z
LAST-MODIFIED:20240714T154422Z
UID:10000152-1723582800-1723582800@culture.monemvasia.gov.gr
SUMMARY:Τιμητική Βραδιά στη Δαιμονιά
DESCRIPTION:Τιμητική Βραδιά στη Δαιμονιά
URL:https://culture.monemvasia.gov.gr/event/timitiki-vradia-sti-daimonia/
LOCATION:Δαιμονιά\, Δαιμονιά\, Λακωνία\, 23053\, Ελλάδα
CATEGORIES:Εκδήλωση
ATTACH;FMTTYPE=image/jpeg:https://culture.monemvasia.gov.gr/wp-content/uploads/2024/06/event-default-jpg.webp
END:VEVENT
BEGIN:VEVENT
DTSTART;TZID=Europe/Athens:20240810T210000
DTEND;TZID=Europe/Athens:20240810T210000
DTSTAMP:20260422T115342
CREATED:20240712T100017Z
LAST-MODIFIED:20240712T100017Z
UID:10000123-1723323600-1723323600@culture.monemvasia.gov.gr
SUMMARY:Καλοκαιρινός Χορός στη Δαιμονιά
DESCRIPTION:Καλοκαιρινός Χορός στη Δαιμονιά
URL:https://culture.monemvasia.gov.gr/event/kalokairinos-choros-sti-daimonia/
LOCATION:Δαιμονιά\, Δαιμονιά\, Λακωνία\, 23053\, Ελλάδα
CATEGORIES:Μουσική
ATTACH;FMTTYPE=image/jpeg:https://culture.monemvasia.gov.gr/wp-content/uploads/2024/06/event-default-jpg.webp
END:VEVENT
END:VCALENDAR