BEGIN:VCALENDAR
VERSION:2.0
PRODID:-//Δήμος Μονεμβασίας - Πολιτισμός - ECPv6.6.3//NONSGML v1.0//EN
CALSCALE:GREGORIAN
METHOD:PUBLISH
X-WR-CALNAME:Δήμος Μονεμβασίας - Πολιτισμός
X-ORIGINAL-URL:https://culture.monemvasia.gov.gr
X-WR-CALDESC:Δήμος Μονεμβασίας - Πολιτισμός - Εκδηλώσεις
REFRESH-INTERVAL;VALUE=DURATION:PT1H
X-Robots-Tag:noindex
X-PUBLISHED-TTL:PT1H
BEGIN:VTIMEZONE
TZID:Europe/Athens
BEGIN:DAYLIGHT
TZOFFSETFROM:+0200
TZOFFSETTO:+0300
TZNAME:EEST
DTSTART:20240331T010000
END:DAYLIGHT
BEGIN:STANDARD
TZOFFSETFROM:+0300
TZOFFSETTO:+0200
TZNAME:EET
DTSTART:20241027T010000
END:STANDARD
BEGIN:DAYLIGHT
TZOFFSETFROM:+0200
TZOFFSETTO:+0300
TZNAME:EEST
DTSTART:20250330T010000
END:DAYLIGHT
BEGIN:STANDARD
TZOFFSETFROM:+0300
TZOFFSETTO:+0200
TZNAME:EET
DTSTART:20251026T010000
END:STANDARD
END:VTIMEZONE
BEGIN:VEVENT
DTSTART;TZID=Europe/Athens:20250703T210000
DTEND;TZID=Europe/Athens:20250703T210000
DTSTAMP:20260420T025601
CREATED:20250610T085818Z
LAST-MODIFIED:20250610T085818Z
UID:10000311-1751576400-1751576400@culture.monemvasia.gov.gr
SUMMARY:Ναυτική Εβδομάδα 2025 - Ομιλία με θέμα "Άστρα και Νυκτερινοί Ουρανοί στη Ναυτική Τέχνη"
DESCRIPTION:Ομιλία με θέμα “Άστρα και Νυκτερινοί Ουρανοί στη Ναυτική Τέχνη” (Ιστορικές και Μυθολογικές Αναφορές) & Τηλεσκοπικές Παρατηρήσεις της Σελήνης (αν οι καιρικές συνθήκες δεν είναι κατάλληλες\, η δράση πρόκειται να μεταφερθεί σε διαφορετική ημερομηνία κατά το χρονικό διάστημα του εορτασμού της Ναυτικής Εβδομάδας ώστε να μπορεί να γίνει καλύτερη παρτήρηση της Σελήνης)
URL:https://culture.monemvasia.gov.gr/event/naftiki-evdomada-2025-omilia-me-thema-astra-kai-nykterinoi-ouranoi-sti-naftiki-techni/
LOCATION:Πλατεία Αρσενάκου\, Νεάπολη
CATEGORIES:Εκδήλωση
ATTACH;FMTTYPE=image/jpeg:https://culture.monemvasia.gov.gr/wp-content/uploads/2024/06/event-default-jpg.webp
END:VEVENT
BEGIN:VEVENT
DTSTART;TZID=Europe/Athens:20241013T100000
DTEND;TZID=Europe/Athens:20241013T140000
DTSTAMP:20260420T025601
CREATED:20241010T113256Z
LAST-MODIFIED:20241010T113256Z
UID:10000219-1728813600-1728828000@culture.monemvasia.gov.gr
SUMMARY:Γιορτή Πουλιών 24
DESCRIPTION:13 Οκτωβρίου 2024\nΛιμνοθάλασσα Στρογγύλη\nΠορθμείο Πούντας\, Λακωνία\n10:00-14:00 · \n\nΠαρατήρηση πουλιών\nΔραστηριότητεε γιο τα παιδιά\nΈκθεση φωτογραφίαε για τον Σπιζαετ\n \n\nΠληροφορίες: 27550 22021\nd.bareios@necca.gov.gr
URL:https://culture.monemvasia.gov.gr/event/giorti-poulion-24/
LOCATION:Λιμνοθάλασσα Στρογγύλη
CATEGORIES:Εκδήλωση
ATTACH;FMTTYPE=image/jpeg:https://culture.monemvasia.gov.gr/wp-content/uploads/2024/10/giorti-poulion-24-jpg.webp
END:VEVENT
BEGIN:VEVENT
DTSTART;TZID=Europe/Athens:20241012T190000
DTEND;TZID=Europe/Athens:20241012T190000
DTSTAMP:20260420T025601
CREATED:20241010T131508Z
LAST-MODIFIED:20241010T131744Z
UID:10000220-1728759600-1728759600@culture.monemvasia.gov.gr
SUMMARY:Γιορτή Πουλιών 24 - Η ορνιθοπανίδα της περιοχής Μονεμβασιάς - Ζάρακα
DESCRIPTION:Ανοιχτή Εκδήλωση\nΗ ορνιθοπανίδα της περιοχής Μονεμβασιάς – Ζάρακα\n12 Οκτωβρίου 2024\nΕνημερωτικές παρουσιάσεις\nΈκθεση φωτογραφίας για τον Ιπιζαετό\nΔιάθεση ενημερωτικών εκδόσεων
URL:https://culture.monemvasia.gov.gr/event/giorti-poulion-24-monemvasia/
LOCATION:Τουριστικό Περίπτερο Μονεμβασίας
CATEGORIES:Εκδήλωση
ATTACH;FMTTYPE=image/jpeg:https://culture.monemvasia.gov.gr/wp-content/uploads/2024/10/giorti-poulion-24-monemvasia-jpg.webp
END:VEVENT
BEGIN:VEVENT
DTSTART;TZID=Europe/Athens:20240818T203000
DTEND;TZID=Europe/Athens:20240818T203000
DTSTAMP:20260420T025601
CREATED:20240715T092113Z
LAST-MODIFIED:20240813T185803Z
UID:10000187-1724013000-1724013000@culture.monemvasia.gov.gr
SUMMARY:ΑΛΛΑΓΗ - Φεγγαροβραδιά (πανσέληνος) - τηλεσκοπικές παρατηρήσεις στη Μονεμβασιά - Από 19/8 μεταφέρθηκε 18/8
DESCRIPTION:Φεγγαροβραδιά (πανσέληνος) – τηλεσκοπικές παρατηρήσεις στη Μονεμβασιά
URL:https://culture.monemvasia.gov.gr/event/fengarovradia-panselinos-tileskopikes-paratiriseis-sti-monemvasia/
LOCATION:Δημοτικό Σχολείο Μονεμβασίας\, Δημοτικό Σχολείο\, Μονεμβασιά\, Ελλάδα
CATEGORIES:Εκδήλωση
ATTACH;FMTTYPE=image/jpeg:https://culture.monemvasia.gov.gr/wp-content/uploads/2024/07/FB_IMG_1723575373734-jpg.webp
END:VEVENT
BEGIN:VEVENT
DTSTART;TZID=Europe/Athens:20240807T211500
DTEND;TZID=Europe/Athens:20240807T211500
DTSTAMP:20260420T025601
CREATED:20240710T055343Z
LAST-MODIFIED:20240710T055407Z
UID:10000081-1723065300-1723065300@culture.monemvasia.gov.gr
SUMMARY:Αστροβραδιά στον Μαραθιά
DESCRIPTION:Αστροβραδιά στον Μαραθιά από το Σύλλογο «ΤΟΥΛΙΠΑ ΓΟΥΛΙΜΗ» & Πολιτιστικό Σύλλογο Ελίκας
URL:https://culture.monemvasia.gov.gr/event/astrovradia-ston-marathia/
LOCATION:Μαραθιάς\, Ελίκα\, Μαραθιάς\, Λακωνία\, 23053\, Ελλάδα
CATEGORIES:Εκδήλωση
ATTACH;FMTTYPE=image/jpeg:https://culture.monemvasia.gov.gr/wp-content/uploads/2024/06/event-default-jpg.webp
END:VEVENT
END:VCALENDAR