BEGIN:VCALENDAR
VERSION:2.0
PRODID:-//Δήμος Μονεμβασίας - Πολιτισμός - ECPv6.6.3//NONSGML v1.0//EN
CALSCALE:GREGORIAN
METHOD:PUBLISH
X-ORIGINAL-URL:https://culture.monemvasia.gov.gr
X-WR-CALDESC:Δήμος Μονεμβασίας - Πολιτισμός - Εκδηλώσεις
REFRESH-INTERVAL;VALUE=DURATION:PT1H
X-Robots-Tag:noindex
X-PUBLISHED-TTL:PT1H
BEGIN:VTIMEZONE
TZID:Europe/Athens
BEGIN:DAYLIGHT
TZOFFSETFROM:+0200
TZOFFSETTO:+0300
TZNAME:EEST
DTSTART:20240331T010000
END:DAYLIGHT
BEGIN:STANDARD
TZOFFSETFROM:+0300
TZOFFSETTO:+0200
TZNAME:EET
DTSTART:20241027T010000
END:STANDARD
BEGIN:DAYLIGHT
TZOFFSETFROM:+0200
TZOFFSETTO:+0300
TZNAME:EEST
DTSTART:20250330T010000
END:DAYLIGHT
BEGIN:STANDARD
TZOFFSETFROM:+0300
TZOFFSETTO:+0200
TZNAME:EET
DTSTART:20251026T010000
END:STANDARD
END:VTIMEZONE
BEGIN:VEVENT
DTSTART;TZID=Europe/Athens:20250810T210000
DTEND;TZID=Europe/Athens:20250810T210000
DTSTAMP:20260421T132925
CREATED:20250610T082248Z
LAST-MODIFIED:20250610T082248Z
UID:10000302-1754859600-1754859600@culture.monemvasia.gov.gr
SUMMARY:Φεστιβαλ Όστρια - Παραδοσιακό Γλέντι με το Συγκρότημα "Γυάλα"
DESCRIPTION:Φεστιβαλ Όστρια – Παραδοσιακό Γλέντι με το Συγκρότημα “Γυάλα”\nΣτις 10 Αυγούστου\, οι Γιάλα (Μουσικό Σχήμα) – Giala (Music Band) θα δημιουργήσουν ένα γνήσια παρεΐστικο κλίμα με παραδοσιακή μουσική στο γλέντι του καλοκαιριού\, κάτω από το φωτισμένο Κάστρο της Αγίας Παρασκευής\, στο Μεσοχώρι.
URL:https://culture.monemvasia.gov.gr/event/festival-ostria-paradosiako-glenti-me-to-sygkrotima-gyala/
LOCATION:Αγία Παρασκευή\, Μεσοχώρι\, Ι.Ν Αγίας Παρασκευής\, Μεσοχώρι\, Λακωνία\, 23053\, Ελλάδα
CATEGORIES:Εκδήλωση,Μουσική
ATTACH;FMTTYPE=image/jpeg:https://culture.monemvasia.gov.gr/wp-content/uploads/2025/06/ostria-2025.avif
END:VEVENT
BEGIN:VEVENT
DTSTART;TZID=Europe/Athens:20240818T220000
DTEND;TZID=Europe/Athens:20240818T220000
DTSTAMP:20260421T132925
CREATED:20240715T091502Z
LAST-MODIFIED:20240718T200842Z
UID:10000186-1724018400-1724018400@culture.monemvasia.gov.gr
SUMMARY:Όστρια - Γιορτές του Νότου - Συναυλία με τα Κιντέρια
DESCRIPTION:“Όστρια – Γιορτές του Νότου” – Συναυλία Δανάη Κιντέρια Παραδοσιακά \nΣτις 18 Αυγούστου\, τα Κιντέρια θα συνοδεύσουν με παραδοσιακές μουσικές το γλέντι του καλοκαιριού\, κάτω από το φωτισμένο Κάστρο της Αγίας Παρασκευής\, στο Μεσοχώρι.\nΑγία Παρασκευή\, Μεσοχώρι
URL:https://culture.monemvasia.gov.gr/event/ostria-giortes-tou-notou-synavlia-me-ta-kinteria/
LOCATION:Αγία Παρασκευή\, Μεσοχώρι\, Ι.Ν Αγίας Παρασκευής\, Μεσοχώρι\, Λακωνία\, 23053\, Ελλάδα
CATEGORIES:Συναυλία
ATTACH;FMTTYPE=image/jpeg:https://culture.monemvasia.gov.gr/wp-content/uploads/2024/07/18-8-kinteria-ostria-jpg.webp
END:VEVENT
BEGIN:VEVENT
DTSTART;TZID=Europe/Athens:20240731T213000
DTEND;TZID=Europe/Athens:20240731T213000
DTSTAMP:20260421T132925
CREATED:20240709T071858Z
LAST-MODIFIED:20240723T091926Z
UID:10000057-1722461400-1722461400@culture.monemvasia.gov.gr
SUMMARY:Συναυλία Αφιέρωμα στο Μάνο Λοίζο - 1ο mini festival ΤΕΧΝΗ ΧΡΩ
DESCRIPTION:Συναυλία από το τμήμα χορωδίας του Συλλόγου “Αφιέρωμα στον Μάνο Λοίζο”- 1ο mini fest ΤΕΧΝΗ ΧΡΩ  από τον Καλλιτεχνικό Σύλλογο “ΤΕΧΝΗ ΧΡΩ”
URL:https://culture.monemvasia.gov.gr/event/synavlia-afieroma-sto-mano-loizo-1o-mini-fest-techni-chro/
LOCATION:Αγία Παρασκευή\, Μεσοχώρι\, Ι.Ν Αγίας Παρασκευής\, Μεσοχώρι\, Λακωνία\, 23053\, Ελλάδα
CATEGORIES:Συναυλία
ATTACH;FMTTYPE=image/jpeg:https://culture.monemvasia.gov.gr/wp-content/uploads/2024/07/Messenger_creation_01c4a432-63be-452e-96d6-b1e5025edf81.jpeg
END:VEVENT
END:VCALENDAR