BEGIN:VCALENDAR
VERSION:2.0
PRODID:-//Δήμος Μονεμβασίας - Πολιτισμός - ECPv6.6.3//NONSGML v1.0//EN
CALSCALE:GREGORIAN
METHOD:PUBLISH
X-ORIGINAL-URL:https://culture.monemvasia.gov.gr
X-WR-CALDESC:Δήμος Μονεμβασίας - Πολιτισμός - Εκδηλώσεις
REFRESH-INTERVAL;VALUE=DURATION:PT1H
X-Robots-Tag:noindex
X-PUBLISHED-TTL:PT1H
BEGIN:VTIMEZONE
TZID:Europe/Athens
BEGIN:DAYLIGHT
TZOFFSETFROM:+0200
TZOFFSETTO:+0300
TZNAME:EEST
DTSTART:20240331T010000
END:DAYLIGHT
BEGIN:STANDARD
TZOFFSETFROM:+0300
TZOFFSETTO:+0200
TZNAME:EET
DTSTART:20241027T010000
END:STANDARD
BEGIN:DAYLIGHT
TZOFFSETFROM:+0200
TZOFFSETTO:+0300
TZNAME:EEST
DTSTART:20250330T010000
END:DAYLIGHT
BEGIN:STANDARD
TZOFFSETFROM:+0300
TZOFFSETTO:+0200
TZNAME:EET
DTSTART:20251026T010000
END:STANDARD
BEGIN:DAYLIGHT
TZOFFSETFROM:+0200
TZOFFSETTO:+0300
TZNAME:EEST
DTSTART:20260329T010000
END:DAYLIGHT
BEGIN:STANDARD
TZOFFSETFROM:+0300
TZOFFSETTO:+0200
TZNAME:EET
DTSTART:20261025T010000
END:STANDARD
END:VTIMEZONE
BEGIN:VEVENT
DTSTART;TZID=Europe/Athens:20260212T160000
DTEND;TZID=Europe/Athens:20260212T160000
DTSTAMP:20260422T080354
CREATED:20260209T084527Z
LAST-MODIFIED:20260209T084527Z
UID:10000591-1770912000-1770912000@culture.monemvasia.gov.gr
SUMMARY:Τσικνοπέμπτη στον Άγιο Γεώργιο
DESCRIPTION:Τσικνοπέμπτη στον Άγιο Γεώργιο
URL:https://culture.monemvasia.gov.gr/event/tsiknopebti-ston-agio-georgio/
LOCATION:Άγιος Γεώργιος\, Άγιος Γεώργιος\, Λακωνία\, 23053\, Ελλάδα
CATEGORIES:Απόκριες,Εκδήλωση
ATTACH;FMTTYPE=image/jpeg:https://culture.monemvasia.gov.gr/wp-content/uploads/2024/06/event-default-jpg.webp
END:VEVENT
BEGIN:VEVENT
DTSTART;TZID=Europe/Athens:20250810T210000
DTEND;TZID=Europe/Athens:20250810T210000
DTSTAMP:20260422T080354
CREATED:20250611T184424Z
LAST-MODIFIED:20250611T184424Z
UID:10000362-1754859600-1754859600@culture.monemvasia.gov.gr
SUMMARY:Παραδοσιακή βραδιά με ζωντανή μουσική στον Άγιο Γεώργιο
DESCRIPTION:Μια παραδοσιακή βραδιά με ζωντανή μουσική\, χορό και κέφι για όλους. Την εκδήλωση πλαισιώνουν οι καταξιωμένοι καλλιτέχνες Μαρία Νομικού και Ματθαίος Γιαννούλης
URL:https://culture.monemvasia.gov.gr/event/paradosiaki-vradia-me-zontani-mousiki-ston-agio-georgio/
LOCATION:Άγιος Γεώργιος\, Άγιος Γεώργιος\, Λακωνία\, 23053\, Ελλάδα
CATEGORIES:Εκδήλωση,Μουσική
ATTACH;FMTTYPE=image/jpeg:https://culture.monemvasia.gov.gr/wp-content/uploads/2024/06/event-default-jpg.webp
END:VEVENT
BEGIN:VEVENT
DTSTART;TZID=Europe/Athens:20250809T210000
DTEND;TZID=Europe/Athens:20250809T210000
DTSTAMP:20260422T080354
CREATED:20250708T075319Z
LAST-MODIFIED:20250708T075319Z
UID:10000498-1754773200-1754773200@culture.monemvasia.gov.gr
SUMMARY:Κινηματογραφική Προβολή στον Άγιο Γεώργιο
DESCRIPTION:Κινηματογραφική Προβολή στον Άγιο Γεώργιο
URL:https://culture.monemvasia.gov.gr/event/kinimatografiki-provoli-ston-agio-georgio/
LOCATION:Άγιος Γεώργιος\, Άγιος Γεώργιος\, Λακωνία\, 23053\, Ελλάδα
CATEGORIES:Εκδήλωση,Κινηματογράφος
ATTACH;FMTTYPE=image/jpeg:https://culture.monemvasia.gov.gr/wp-content/uploads/2025/07/Kinimatografikes2025.avif
END:VEVENT
BEGIN:VEVENT
DTSTART;TZID=Europe/Athens:20240821T203000
DTEND;TZID=Europe/Athens:20240821T203000
DTSTAMP:20260422T080354
CREATED:20240715T171455Z
LAST-MODIFIED:20240821T143114Z
UID:10000195-1724272200-1724272200@culture.monemvasia.gov.gr
SUMMARY:Στρίγγλες εν δρασεί - Παιδική Παράσταση Κουκλοθέατρου Αγγελοπούλου Χριστίνα στον Άγιο Γεώργιο
DESCRIPTION:“Στρίγγλες εν δρασεί” –  Παιδική Παράσταση Κουκλοθέατρου Αγγελοπούλου Χριστίνα.
URL:https://culture.monemvasia.gov.gr/event/stringles-en-drasei-paidiki-parastasi-kouklotheatrou-angelopoulou-christina-ston-agio-georgio/
LOCATION:Άγιος Γεώργιος\, Άγιος Γεώργιος\, Λακωνία\, 23053\, Ελλάδα
CATEGORIES:Θέατρο
ATTACH;FMTTYPE=image/jpeg:https://culture.monemvasia.gov.gr/wp-content/uploads/2024/07/IMG_20240820_140613-jpg.webp
END:VEVENT
BEGIN:VEVENT
DTSTART;TZID=Europe/Athens:20240810T210000
DTEND;TZID=Europe/Athens:20240810T210000
DTSTAMP:20260422T080354
CREATED:20240712T181011Z
LAST-MODIFIED:20240712T181011Z
UID:10000128-1723323600-1723323600@culture.monemvasia.gov.gr
SUMMARY:Παραδοσιακό Πανηγύρι στον Άγιο Γεώργιο Βοιών
DESCRIPTION:Παραδοσιακό Πανηγύρι στον Άγιο Γεώργιο Βοιών \nΣυγκροτήματα: Πέτρος Ίμβριος\, Ξέφραγο Αμπέλι
URL:https://culture.monemvasia.gov.gr/event/paradosiako-panigyri-ston-agio-georgio-voion/
LOCATION:Άγιος Γεώργιος\, Άγιος Γεώργιος\, Λακωνία\, 23053\, Ελλάδα
CATEGORIES:Μουσική
ATTACH;FMTTYPE=image/jpeg:https://culture.monemvasia.gov.gr/wp-content/uploads/2024/06/event-default-jpg.webp
END:VEVENT
END:VCALENDAR