BEGIN:VCALENDAR
VERSION:2.0
PRODID:-//Δήμος Μονεμβασίας - Πολιτισμός - ECPv6.6.3//NONSGML v1.0//EN
CALSCALE:GREGORIAN
METHOD:PUBLISH
X-WR-CALNAME:Δήμος Μονεμβασίας - Πολιτισμός
X-ORIGINAL-URL:https://culture.monemvasia.gov.gr
X-WR-CALDESC:Δήμος Μονεμβασίας - Πολιτισμός - Εκδηλώσεις
REFRESH-INTERVAL;VALUE=DURATION:PT1H
X-Robots-Tag:noindex
X-PUBLISHED-TTL:PT1H
BEGIN:VTIMEZONE
TZID:Europe/Athens
BEGIN:DAYLIGHT
TZOFFSETFROM:+0200
TZOFFSETTO:+0300
TZNAME:EEST
DTSTART:20240331T010000
END:DAYLIGHT
BEGIN:STANDARD
TZOFFSETFROM:+0300
TZOFFSETTO:+0200
TZNAME:EET
DTSTART:20241027T010000
END:STANDARD
BEGIN:DAYLIGHT
TZOFFSETFROM:+0200
TZOFFSETTO:+0300
TZNAME:EEST
DTSTART:20250330T010000
END:DAYLIGHT
BEGIN:STANDARD
TZOFFSETFROM:+0300
TZOFFSETTO:+0200
TZNAME:EET
DTSTART:20251026T010000
END:STANDARD
BEGIN:DAYLIGHT
TZOFFSETFROM:+0200
TZOFFSETTO:+0300
TZNAME:EEST
DTSTART:20260329T010000
END:DAYLIGHT
BEGIN:STANDARD
TZOFFSETFROM:+0300
TZOFFSETTO:+0200
TZNAME:EET
DTSTART:20261025T010000
END:STANDARD
END:VTIMEZONE
BEGIN:VEVENT
DTSTART;TZID=Europe/Athens:20260223T123000
DTEND;TZID=Europe/Athens:20260223T123000
DTSTAMP:20260425T211131
CREATED:20260207T142703Z
LAST-MODIFIED:20260207T142908Z
UID:10000586-1771849800-1771849800@culture.monemvasia.gov.gr
SUMMARY:Κούλουμα στην Αγγελώνα
DESCRIPTION:Διοργάνωση: Τοπικό Συμβούλιο Αγγελώνας & Δήμος Μονεμβασίας. \n\n\nΏρα: 12:30.
URL:https://culture.monemvasia.gov.gr/event/koulouma-stin-angelona/
LOCATION:Αγγελώνα\, Αγγελώνα\, Λακωνία\, 23052\, Ελλάδα
CATEGORIES:Απόκριες,Εκδήλωση
ATTACH;FMTTYPE=image/jpeg:https://culture.monemvasia.gov.gr/wp-content/uploads/2024/06/event-default-jpg.webp
END:VEVENT
BEGIN:VEVENT
DTSTART;TZID=Europe/Athens:20250728T210000
DTEND;TZID=Europe/Athens:20250728T210000
DTSTAMP:20260425T211131
CREATED:20250708T073225Z
LAST-MODIFIED:20250708T073225Z
UID:10000490-1753736400-1753736400@culture.monemvasia.gov.gr
SUMMARY:4ο αντάμωμα παραδοσιακών χορών & 5ος διαγωνισμός μαγειρικής στην Αγγελώνα
DESCRIPTION:4ο αντάμωμα παραδοσιακών χορών & 5ος διαγωνισμός μαγειρικής στην Αγγελώνα
URL:https://culture.monemvasia.gov.gr/event/4o-antamoma-paradosiakon-choron-5os-diagonismos-mageirikis-stin-angelona/
LOCATION:Αγγελώνα\, Αγγελώνα\, Λακωνία\, 23052\, Ελλάδα
CATEGORIES:Διαγωνισμός,Εκδήλωση,Χορός
ATTACH;FMTTYPE=image/jpeg:https://culture.monemvasia.gov.gr/wp-content/uploads/2024/06/event-default-jpg.webp
END:VEVENT
BEGIN:VEVENT
DTSTART;TZID=Europe/Athens:20250303T180000
DTEND;TZID=Europe/Athens:20250303T180000
DTSTAMP:20260425T211131
CREATED:20250210T194931Z
LAST-MODIFIED:20250210T194931Z
UID:10000280-1741024800-1741024800@culture.monemvasia.gov.gr
SUMMARY:Καθαρά Δευτέρα στην Αγγελώνα
DESCRIPTION:Αγγελώνα: Μουσική\, χορός και σαρακοστιανά εδέσματα γύρω από την παραδοσιακή φουντάρα στην πλατεία της Αγγελώνας. Ώρα έναρξης 6:00μ.μ \nΔιοργάνωση : Δήμος Μονεμβασίας και Φιλοπρόοδος Σύλλογος Αγγελώνας.
URL:https://culture.monemvasia.gov.gr/event/kathara-deftera-stin-angelona/
LOCATION:Αγγελώνα\, Αγγελώνα\, Λακωνία\, 23052\, Ελλάδα
CATEGORIES:Απόκριες,Εκδήλωση,Καθαρά Δευτέρα
ATTACH;FMTTYPE=image/jpeg:https://culture.monemvasia.gov.gr/wp-content/uploads/2024/06/event-default-jpg.webp
END:VEVENT
BEGIN:VEVENT
DTSTART;TZID=Europe/Athens:20240816T210000
DTEND;TZID=Europe/Athens:20240816T210000
DTSTAMP:20260425T211131
CREATED:20240715T074222Z
LAST-MODIFIED:20240715T074554Z
UID:10000170-1723842000-1723842000@culture.monemvasia.gov.gr
SUMMARY:Πανηγύρι με Δημοτικο και νησιώτικο πρόγραμμα στην Αγγελώνα
DESCRIPTION:Πανηγύρι με Δημοτικο και νησιώτικο πρόγραμμα. Την ορχήστρα θα πλαισιώνουν ο Σωτήρης και η Γιώτα Κόκκορη
URL:https://culture.monemvasia.gov.gr/event/panigyri-me-dimotiko-kai-nisiotiko-programma-stin-angelona/
LOCATION:Αγγελώνα\, Αγγελώνα\, Λακωνία\, 23052\, Ελλάδα
CATEGORIES:Μουσική
ATTACH;FMTTYPE=image/jpeg:https://culture.monemvasia.gov.gr/wp-content/uploads/2024/06/event-default-jpg.webp
END:VEVENT
BEGIN:VEVENT
DTSTART;TZID=Europe/Athens:20240810T210000
DTEND;TZID=Europe/Athens:20240810T210000
DTSTAMP:20260425T211131
CREATED:20240710T195653Z
LAST-MODIFIED:20240710T200633Z
UID:10000087-1723323600-1723323600@culture.monemvasia.gov.gr
SUMMARY:Θεάτρο Σκιών στην Αγγελώνα
DESCRIPTION:Θεάτρο Σκιών από τον καραγκιοζοπαίχτη Χρήστο Εμμανουήλ.
URL:https://culture.monemvasia.gov.gr/event/theatro-skion-6/
LOCATION:Αγγελώνα\, Αγγελώνα\, Λακωνία\, 23052\, Ελλάδα
CATEGORIES:Θέατρο
ATTACH;FMTTYPE=image/jpeg:https://culture.monemvasia.gov.gr/wp-content/uploads/2024/07/theatro-skion-emmanouil-jpg.webp
END:VEVENT
BEGIN:VEVENT
DTSTART;TZID=Europe/Athens:20240802T210000
DTEND;TZID=Europe/Athens:20240802T210000
DTSTAMP:20260425T211131
CREATED:20240709T075631Z
LAST-MODIFIED:20240709T075631Z
UID:10000062-1722632400-1722632400@culture.monemvasia.gov.gr
SUMMARY:Πάρτυ Νεολαίας
DESCRIPTION:Πάρτυ Νεολαίας στη Αγγελώνα
URL:https://culture.monemvasia.gov.gr/event/party-neolaias/
LOCATION:Αγγελώνα\, Αγγελώνα\, Λακωνία\, 23052\, Ελλάδα
CATEGORIES:Μουσική
ATTACH;FMTTYPE=image/jpeg:https://culture.monemvasia.gov.gr/wp-content/uploads/2024/06/event-default-jpg.webp
END:VEVENT
BEGIN:VEVENT
DTSTART;TZID=Europe/Athens:20240714T210000
DTEND;TZID=Europe/Athens:20240714T210000
DTSTAMP:20260425T211131
CREATED:20240708T123231Z
LAST-MODIFIED:20250708T063452Z
UID:10000487-1720990800-1720990800@culture.monemvasia.gov.gr
SUMMARY:Κρητική βραδιά στην Αγγελώνα
DESCRIPTION:Κρητική βραδιά με τους Μιχάλη Βογιατζιδάκη & Φάνη Μπαρμπούνη
URL:https://culture.monemvasia.gov.gr/event/kritiki-vradia-stin-angelona/
LOCATION:Αγγελώνα\, Αγγελώνα\, Λακωνία\, 23052\, Ελλάδα
CATEGORIES:Μουσική
ATTACH;FMTTYPE=image/jpeg:https://culture.monemvasia.gov.gr/wp-content/uploads/2024/06/event-default-jpg.webp
END:VEVENT
BEGIN:VEVENT
DTSTART;TZID=Europe/Athens:20240704T210000
DTEND;TZID=Europe/Athens:20240704T210000
DTSTAMP:20260425T211131
CREATED:20240703T085902Z
LAST-MODIFIED:20240703T085902Z
UID:10000029-1720126800-1720126800@culture.monemvasia.gov.gr
SUMMARY:Παρουσίαση παραδοσιακών χορών στην πλατεία της Αγγελώνας
DESCRIPTION:Έναρξη εκδηλώσεων με παρουσίαση παραδοσιακών χορών στην πλατεία του χωριού της Αγγελώνας από το Φιλοπρόοδο Σύλλογο Αγγελώνας
URL:https://culture.monemvasia.gov.gr/event/parousiasi-paradosiakon-choron-stin-plateia-tis-angelonas/
LOCATION:Αγγελώνα\, Αγγελώνα\, Λακωνία\, 23052\, Ελλάδα
CATEGORIES:Χορός
ATTACH;FMTTYPE=image/jpeg:https://culture.monemvasia.gov.gr/wp-content/uploads/2024/06/event-default-jpg.webp
END:VEVENT
END:VCALENDAR