BEGIN:VCALENDAR
VERSION:2.0
PRODID:-//Δήμος Μονεμβασίας - Πολιτισμός - ECPv6.6.3//NONSGML v1.0//EN
CALSCALE:GREGORIAN
METHOD:PUBLISH
X-ORIGINAL-URL:https://culture.monemvasia.gov.gr
X-WR-CALDESC:Δήμος Μονεμβασίας - Πολιτισμός - Εκδηλώσεις
REFRESH-INTERVAL;VALUE=DURATION:PT1H
X-Robots-Tag:noindex
X-PUBLISHED-TTL:PT1H
BEGIN:VTIMEZONE
TZID:Europe/Athens
BEGIN:DAYLIGHT
TZOFFSETFROM:+0200
TZOFFSETTO:+0300
TZNAME:EEST
DTSTART:20240331T010000
END:DAYLIGHT
BEGIN:STANDARD
TZOFFSETFROM:+0300
TZOFFSETTO:+0200
TZNAME:EET
DTSTART:20241027T010000
END:STANDARD
BEGIN:DAYLIGHT
TZOFFSETFROM:+0200
TZOFFSETTO:+0300
TZNAME:EEST
DTSTART:20250330T010000
END:DAYLIGHT
BEGIN:STANDARD
TZOFFSETFROM:+0300
TZOFFSETTO:+0200
TZNAME:EET
DTSTART:20251026T010000
END:STANDARD
END:VTIMEZONE
BEGIN:VEVENT
DTSTART;TZID=Europe/Athens:20250816T213000
DTEND;TZID=Europe/Athens:20250816T213000
DTSTAMP:20260421T093619
CREATED:20250611T185736Z
LAST-MODIFIED:20250611T185736Z
UID:10000372-1755379800-1755379800@culture.monemvasia.gov.gr
SUMMARY:Εκδήλωση με το συγκρότημα Hermaphrodite's Child
DESCRIPTION:Εκδήλωση με το συγκρότημα Hermaphrodite’s Child
URL:https://culture.monemvasia.gov.gr/event/ekdilosi-me-to-sygkrotima-hermaphrodites-child/
LOCATION:Καρνάγιο Νεάπολη\, Καρνάγιο\, Νεάπολη\, Λακωνία\, 23053\, Ελλάδα
CATEGORIES:Εκδήλωση,Συναυλία
ATTACH;FMTTYPE=image/jpeg:https://culture.monemvasia.gov.gr/wp-content/uploads/2024/06/event-default-jpg.webp
GEO:36.505915542548;23.063950318911
X-APPLE-STRUCTURED-LOCATION;VALUE=URI;X-ADDRESS=Καρνάγιο Νεάπολη Καρνάγιο Νεάπολη Λακωνία 23053 Ελλάδα;X-APPLE-RADIUS=500;X-TITLE=Καρνάγιο:geo:23.063950318911,36.505915542548
END:VEVENT
BEGIN:VEVENT
DTSTART;TZID=Europe/Athens:20250808T220000
DTEND;TZID=Europe/Athens:20250808T220000
DTSTAMP:20260421T093619
CREATED:20250610T124020Z
LAST-MODIFIED:20250714T160513Z
UID:10000348-1754690400-1754690400@culture.monemvasia.gov.gr
SUMMARY:Mουσική εκδήλωση στο Καρνάγιο
DESCRIPTION:Mουσική εκδήλωση στο Καρνάγιο
URL:https://culture.monemvasia.gov.gr/event/mousiki-ekdilosi-sto-karnagio/
LOCATION:Καρνάγιο Νεάπολη\, Καρνάγιο\, Νεάπολη\, Λακωνία\, 23053\, Ελλάδα
CATEGORIES:Εκδήλωση,Μουσική
ATTACH;FMTTYPE=image/jpeg:https://culture.monemvasia.gov.gr/wp-content/uploads/2025/06/neapoliton-karnagio-2025.avif
GEO:36.505915542548;23.063950318911
X-APPLE-STRUCTURED-LOCATION;VALUE=URI;X-ADDRESS=Καρνάγιο Νεάπολη Καρνάγιο Νεάπολη Λακωνία 23053 Ελλάδα;X-APPLE-RADIUS=500;X-TITLE=Καρνάγιο:geo:23.063950318911,36.505915542548
END:VEVENT
BEGIN:VEVENT
DTSTART;TZID=Europe/Athens:20250704T190000
DTEND;TZID=Europe/Athens:20250704T223000
DTSTAMP:20260421T093619
CREATED:20250613T130644Z
LAST-MODIFIED:20250613T130644Z
UID:10000390-1751655600-1751668200@culture.monemvasia.gov.gr
SUMMARY:Έκθεση παιδικής ζωγραφικής τμημάτων του Πολιτιστικού Συλλόγου και ΚΔΑΠ ΜΕΑ
DESCRIPTION:Έκθεση ζωγραφικής με θέμα τη Θάλασσα από τα παιδικά τμήματα Ζωγραφικής καθώς και έργων των μαθητών του ΚΔΑΠ ΜΕΑ με έδρα τα Βιγκλάφια Δ. Μονεμβασίας
URL:https://culture.monemvasia.gov.gr/event/ekthesi-paidikis-zografikis-tmimaton-tou-politistikou-syllogou-kai-kdap-mea/
LOCATION:Καρνάγιο Νεάπολη\, Καρνάγιο\, Νεάπολη\, Λακωνία\, 23053\, Ελλάδα
CATEGORIES:Εκδήλωση,Έκθεση
ATTACH;FMTTYPE=image/jpeg:https://culture.monemvasia.gov.gr/wp-content/uploads/2024/06/event-default-jpg.webp
GEO:36.505915542548;23.063950318911
X-APPLE-STRUCTURED-LOCATION;VALUE=URI;X-ADDRESS=Καρνάγιο Νεάπολη Καρνάγιο Νεάπολη Λακωνία 23053 Ελλάδα;X-APPLE-RADIUS=500;X-TITLE=Καρνάγιο:geo:23.063950318911,36.505915542548
END:VEVENT
BEGIN:VEVENT
DTSTART;TZID=Europe/Athens:20250702T211500
DTEND;TZID=Europe/Athens:20250702T211500
DTSTAMP:20260421T093619
CREATED:20250610T084714Z
LAST-MODIFIED:20250614T131521Z
UID:10000309-1751490900-1751490900@culture.monemvasia.gov.gr
SUMMARY:Ναυτική Εβδομάδα 2025 - Παρουσίαση παράστασης του τμήματος χοροθεάτρου του Πολιτιστικού Συλλόγου Βατίκων "Γαλάζια κλωστή"
DESCRIPTION:Παρουσίαση παράστασης του τμήματος χοροθεάτρου του Πολιτιστικού Συλλόγου Βατίκων “Γαλάζια κλωστή”
URL:https://culture.monemvasia.gov.gr/event/parastasi-chorotheatrou-politistikou-syllogou-vatikon-galazia-klosti/
LOCATION:Καρνάγιο Νεάπολη\, Καρνάγιο\, Νεάπολη\, Λακωνία\, 23053\, Ελλάδα
CATEGORIES:Εκδήλωση,Χορός
ATTACH;FMTTYPE=image/jpeg:https://culture.monemvasia.gov.gr/wp-content/uploads/2025/06/FB_IMG_1749906806979.avif
GEO:36.505915542548;23.063950318911
X-APPLE-STRUCTURED-LOCATION;VALUE=URI;X-ADDRESS=Καρνάγιο Νεάπολη Καρνάγιο Νεάπολη Λακωνία 23053 Ελλάδα;X-APPLE-RADIUS=500;X-TITLE=Καρνάγιο:geo:23.063950318911,36.505915542548
END:VEVENT
BEGIN:VEVENT
DTSTART;TZID=Europe/Athens:20250628T210000
DTEND;TZID=Europe/Athens:20250628T210000
DTSTAMP:20260421T093619
CREATED:20250610T081542Z
LAST-MODIFIED:20250610T081746Z
UID:10000299-1751144400-1751144400@culture.monemvasia.gov.gr
SUMMARY:Φεστιβάλ Όστρια - ΔΗΜΗΤΡΗΣ ΜΥΣΤΑΚΙΔΗΣ - Αμέρικα: Ρεμπέτικα της Αμερικής
DESCRIPTION:Φεστιβάλ Όστρια – ΔΗΜΗΤΡΗΣ ΜΥΣΤΑΚΙΔΗΣ – Αμέρικα: Ρεμπέτικα της Αμερικής.\nΣτις 28 Ιουνίου\, ο Dimitris Mystakidis / Δημήτρης Μυστακίδης\, αναβιώνοντας την ξεχασμένη τεχνική της τσιμπητής κιθάρας\, θα διασκευάσει ρεμπέτικα τραγούδια που κυκλοφόρησαν και παίχτηκαν ζωντανά μόνο στην Αμερική από Έλληνες μετανάστες και θα δώσει πνοή στο από καιρό αφημένο Καρνάγιο\, στη Νεάπολη.
URL:https://culture.monemvasia.gov.gr/event/festival-ostria-dimitris-mystakidis-amerika-rebetika-tis-amerikis/
LOCATION:Καρνάγιο Νεάπολη\, Καρνάγιο\, Νεάπολη\, Λακωνία\, 23053\, Ελλάδα
CATEGORIES:Εκδήλωση,Μουσική
ATTACH;FMTTYPE=image/jpeg:https://culture.monemvasia.gov.gr/wp-content/uploads/2025/06/ostria-2025-mystakidhs.avif
GEO:36.505915542548;23.063950318911
X-APPLE-STRUCTURED-LOCATION;VALUE=URI;X-ADDRESS=Καρνάγιο Νεάπολη Καρνάγιο Νεάπολη Λακωνία 23053 Ελλάδα;X-APPLE-RADIUS=500;X-TITLE=Καρνάγιο:geo:23.063950318911,36.505915542548
END:VEVENT
BEGIN:VEVENT
DTSTART;TZID=Europe/Athens:20240819T213000
DTEND;TZID=Europe/Athens:20240819T213000
DTSTAMP:20260421T093619
CREATED:20240709T072129Z
LAST-MODIFIED:20240731T160925Z
UID:10000058-1724103000-1724103000@culture.monemvasia.gov.gr
SUMMARY:Θεατρική Παράσταση "ο Φεγγαροσκεπαστής" - Από 1/8 μεταφέρθηκε 19/8
DESCRIPTION:Θεατρική Παράσταση “ο Φεγγαροσκεπαστής” από τη θεατρική ομάδα της Τέχνη Χρω – 1ο mini fest ΤΕΧΝΗ ΧΡΩ  από τον Καλλιτεχνικό Σύλλογο “ΤΕΧΝΗ ΧΡΩ”
URL:https://culture.monemvasia.gov.gr/event/theatriki-parastasi-o-fengaroskepastis-1o-mini-fest-techni-chro/
LOCATION:Καρνάγιο Νεάπολη\, Καρνάγιο\, Νεάπολη\, Λακωνία\, 23053\, Ελλάδα
CATEGORIES:Θέατρο
ATTACH;FMTTYPE=image/jpeg:https://culture.monemvasia.gov.gr/wp-content/uploads/2024/07/FEGGAROSKEPASTIS-jpg.webp
GEO:36.505915542548;23.063950318911
X-APPLE-STRUCTURED-LOCATION;VALUE=URI;X-ADDRESS=Καρνάγιο Νεάπολη Καρνάγιο Νεάπολη Λακωνία 23053 Ελλάδα;X-APPLE-RADIUS=500;X-TITLE=Καρνάγιο:geo:23.063950318911,36.505915542548
END:VEVENT
BEGIN:VEVENT
DTSTART;TZID=Europe/Athens:20240812T213000
DTEND;TZID=Europe/Athens:20240812T213000
DTSTAMP:20260421T093619
CREATED:20240712T192052Z
LAST-MODIFIED:20240712T192052Z
UID:10000138-1723498200-1723498200@culture.monemvasia.gov.gr
SUMMARY:Συναυλία με τους Bejeesus band στη Νεάπολη
DESCRIPTION:Συναυλία με τους Bejeesus band στη Νεάπολη από τον Ναυτικό Όμιλο Βοιών
URL:https://culture.monemvasia.gov.gr/event/synavlia-me-tous-bejeesus-band-sti-neapoli/
LOCATION:Καρνάγιο Νεάπολη\, Καρνάγιο\, Νεάπολη\, Λακωνία\, 23053\, Ελλάδα
CATEGORIES:Συναυλία
ATTACH;FMTTYPE=image/jpeg:https://culture.monemvasia.gov.gr/wp-content/uploads/2024/06/event-default-jpg.webp
GEO:36.505915542548;23.063950318911
X-APPLE-STRUCTURED-LOCATION;VALUE=URI;X-ADDRESS=Καρνάγιο Νεάπολη Καρνάγιο Νεάπολη Λακωνία 23053 Ελλάδα;X-APPLE-RADIUS=500;X-TITLE=Καρνάγιο:geo:23.063950318911,36.505915542548
END:VEVENT
END:VCALENDAR